Workbook

Sheet Bijlage 1
A1: Lijst saneringsobjecten Wet geluidhinder | Z1: Bijlage UKS
A2: Gegevens na sanering, geluidbelasting inclusief eventuele bron- en/of afschermende maatregelen
A3: Projectnaam | C3: ODMH namens gemeente Zuidplas | E3: Saneringsprogramma N207 Henegouwerweg Waddinxveen
A4: project: | C4: Aanvraag saneringsprogramma (combinatie projecten bij BSV: 577.218.05/576.239.00) | D4: Projectnummer BSV | E4: 777.055.00
A6: nr | B6: WNP | C6: omschrijving WNP | D6: Adres | E6: Huisnummer en toevoegingen | H6: postcode | I6: plaats | J6: kadastrale gegevens | K6: Maatgevende weg | L6: bouwjaar | M6: opmerkingen (o.a. contactmomenten) | N6: status | Q6: hoogte (m) | R6: Lden 2030 excl aftrek (dB) | T6: aftrek | U6: Lden 2030 incl aftrek (dB) | V6: vast te stellen HW | X6: aantal woningen | Y6: gesloopt | Z6: 30 Km/u weg | AA6: gerenoveerd | AB6: gewijzigd van bestemming | AC6: reeds maatregelen getroffen | AG6: Voorschot
A7: 1 | B7: ='N207 50km'!A7 -> Z95_B | C7: ='N207 50km'!B7 -> Zuidkade 95 | D7: {=_xlfn.TEXTSPLIT(C7," ")} -> Zuidkade | E7: 95 | H7: =VLOOKUP(C7,'ICT gegevens'!$A$6:$B$186,2,TRUE) -> 2741JE | I7: Waddinxveen | J7: =VLOOKUP(C7,'ICT gegevens'!$A$6:$F$186,6,TRUE) -> WDV01D2651 | K7: N207 | L7: =VLOOKUP(C7,'ICT gegevens'!$A$6:$G$186,7,TRUE) -> 1974 | N7: =VLOOKUP(C7,'ICT gegevens'!$A$6:$E$186,5,TRUE) -> Wonen | Q7: ='N207 50km'!C7 -> 4.5 | R7: =IF('N207'!D7="--",6,'N207'!D7) -> 57.1 | S7: =IF(MOD(R7,1)=0.5,INT(R7)+MOD(INT(R7),2),ROUND(R7,0)) -> 57 | T7: =S7-U7 -> 3 | U7: ='overzicht alle wegen'!L8 -> 54 | V7: 54 | X7: 1 | AG7: 0
B8: ='N207 50km'!A8 -> Z95_A | C8: ='N207 50km'!B8 -> Zuidkade 95 | D8: {=_xlfn.TEXTSPLIT(C8," ")} -> Zuidkade | E8: 95 | H8: =VLOOKUP(C8,'ICT gegevens'!$A$6:$B$186,2,TRUE) -> 2741JE | I8: Waddinxveen | J8: =VLOOKUP(C8,'ICT gegevens'!$A$6:$F$186,6,TRUE) -> WDV01D2651 | K8: N207 | L8: =VLOOKUP(C8,'ICT gegevens'!$A$6:$G$186,7,TRUE) -> 1974 | N8: =VLOOKUP(C8,'ICT gegevens'!$A$6:$E$186,5,TRUE) -> Wonen | Q8: ='N207 50km'!C8 -> 1.5 | R8: =IF('N207'!D8="--",6,'N207'!D8) -> 56.1 | S8: =IF(MOD(R8,1)=0.5,INT(R8)+MOD(INT(R8),2),ROUND(R8,0)) -> 56 | T8: =S8-U8 -> 2 | U8: ='overzicht alle wegen'!L9 -> 54
A9: 2 | B9: ='N207 50km'!A9 -> Z93_B | C9: ='N207 50km'!B9 -> Zuidkade 93 | D9: {=_xlfn.TEXTSPLIT(C9," ")} -> Zuidkade | E9: 93 | H9: =VLOOKUP(C9,'ICT gegevens'!$A$6:$B$186,2,TRUE) -> 2741JE | I9: Waddinxveen | J9: =VLOOKUP(C9,'ICT gegevens'!$A$6:$F$186,6,TRUE) -> WDV01D1898 | K9: N207 | L9: =VLOOKUP(C9,'ICT gegevens'!$A$6:$G$186,7,TRUE) -> 1926 | N9: =VLOOKUP(C9,'ICT gegevens'!$A$6:$E$186,5,TRUE) -> Wonen | Q9: ='N207 50km'!C9 -> 4.5 | R9: =IF('N207'!D9="--",6,'N207'!D9) -> 57.1 | S9: =IF(MOD(R9,1)=0.5,INT(R9)+MOD(INT(R9),2),ROUND(R9,0)) -> 57 | T9: =S9-U9 -> 3 | U9: ='overzicht alle wegen'!L10 -> 54 | V9: 54 | X9: 1 | AG9: 0
B10: ='N207 50km'!A10 -> Z93_A | C10: ='N207 50km'!B10 -> Zuidkade 93 | D10: {=_xlfn.TEXTSPLIT(C10," ")} -> Zuidkade | E10: 93 | H10: =VLOOKUP(C10,'ICT gegevens'!$A$6:$B$186,2,TRUE) -> 2741JE | I10: Waddinxveen | J10: =VLOOKUP(C10,'ICT gegevens'!$A$6:$F$186,6,TRUE) -> WDV01D1898 | K10: N207 | L10: =VLOOKUP(C10,'ICT gegevens'!$A$6:$G$186,7,TRUE) -> 1926 | N10: =VLOOKUP(C10,'ICT gegevens'!$A$6:$E$186,5,TRUE) -> Wonen | Q10: ='N207 50km'!C10 -> 1.5 | R10: =IF('N207'!D10="--",6,'N207'!D10) -> 56 | S10: =IF(MOD(R10,1)=0.5,INT(R10)+MOD(INT(R10),2),ROUND(R10,0)) -> 56 | T10: =S10-U10 -> 3 | U10: ='overzicht alle wegen'!L11 -> 53
A11: 3 | B11: ='N207 50km'!A11 -> Z92_B | C11: ='N207 50km'!B11 -> Zuidkade 92 | D11: {=_xlfn.TEXTSPLIT(C11," ")} -> Zuidkade | E11: 92 | H11: =VLOOKUP(C11,'ICT gegevens'!$A$6:$B$186,2,TRUE) -> 2741JE | I11: Waddinxveen | J11: =VLOOKUP(C11,'ICT gegevens'!$A$6:$F$186,6,TRUE) -> WDV01D904 | K11: N207 | L11: =VLOOKUP(C11,'ICT gegevens'!$A$6:$G$186,7,TRUE) -> 1910 | N11: =VLOOKUP(C11,'ICT gegevens'!$A$6:$E$186,5,TRUE) -> Wonen | Q11: ='N207 50km'!C11 -> 4.5 | R11: =IF('N207'!D11="--",6,'N207'!D11) -> 57.5 | S11: =IF(MOD(R11,1)=0.5,INT(R11)+MOD(INT(R11),2),ROUND(R11,0)) -> 58 | T11: =S11-U11 -> 4 | U11: ='overzicht alle wegen'!L12 -> 54 | V11: 54 | X11: 1 | AG11: 0
B12: ='N207 50km'!A12 -> Z92_A | C12: ='N207 50km'!B12 -> Zuidkade 92 | D12: {=_xlfn.TEXTSPLIT(C12," ")} -> Zuidkade | E12: 92 | H12: =VLOOKUP(C12,'ICT gegevens'!$A$6:$B$186,2,TRUE) -> 2741JE | I12: Waddinxveen | J12: =VLOOKUP(C12,'ICT gegevens'!$A$6:$F$186,6,TRUE) -> WDV01D904 | K12: N207 | L12: =VLOOKUP(C12,'ICT gegevens'!$A$6:$G$186,7,TRUE) -> 1910 | N12: =VLOOKUP(C12,'ICT gegevens'!$A$6:$E$186,5,TRUE) -> Wonen | Q12: ='N207 50km'!C12 -> 1.5 | R12: =IF('N207'!D12="--",6,'N207'!D12) -> 56.3 | S12: =IF(MOD(R12,1)=0.5,INT(R12)+MOD(INT(R12),2),ROUND(R12,0)) -> 56 | T12: =S12-U12 -> 3 | U12: ='overzicht alle wegen'!L13 -> 53
A13: 4 | B13: ='N207 50km'!A13 -> Z90g_C | C13: ='N207 50km'!B13 -> Zuidkade 90g | D13: {=_xlfn.TEXTSPLIT(C13," ")} -> Zuidkade | E13: 90g | H13: =VLOOKUP(C13,'ICT gegevens'!$A$6:$B$186,2,TRUE) -> 2741JE | I13: Waddinxveen | J13: =VLOOKUP(C13,'ICT gegevens'!$A$6:$F$186,6,TRUE) -> WDV01D1813 | K13: N207 | L13: =VLOOKUP(C13,'ICT gegevens'!$A$6:$G$186,7,TRUE) -> 1939 | N13: =VLOOKUP(C13,'ICT gegevens'!$A$6:$E$186,5,TRUE) -> Wonen | Q13: ='N207 50km'!C13 -> 7.5 | R13: =IF('N207'!D13="--",6,'N207'!D13) -> 58 | S13: =IF(MOD(R13,1)=0.5,INT(R13)+MOD(INT(R13),2),ROUND(R13,0)) -> 58 | T13: =S13-U13 -> 3 | U13: ='overzicht alle wegen'!L14 -> 55 | V13: 55 | X13: 1 | AG13: 0
B14: ='N207 50km'!A14 -> Z90g_B | C14: ='N207 50km'!B14 -> Zuidkade 90g | D14: {=_xlfn.TEXTSPLIT(C14," ")} -> Zuidkade | E14: 90g | H14: =VLOOKUP(C14,'ICT gegevens'!$A$6:$B$186,2,TRUE) -> 2741JE | I14: Waddinxveen | J14: =VLOOKUP(C14,'ICT gegevens'!$A$6:$F$186,6,TRUE) -> WDV01D1813 | K14: N207 | L14: =VLOOKUP(C14,'ICT gegevens'!$A$6:$G$186,7,TRUE) -> 1939 | N14: =VLOOKUP(C14,'ICT gegevens'!$A$6:$E$186,5,TRUE) -> Wonen | Q14: ='N207 50km'!C14 -> 4.5 | R14: =IF('N207'!D14="--",6,'N207'!D14) -> 57.4 | S14: =IF(MOD(R14,1)=0.5,INT(R14)+MOD(INT(R14),2),ROUND(R14,0)) -> 57 | T14: =S14-U14 -> 3 | U14: ='overzicht alle wegen'!L15 -> 54
B15: ='N207 50km'!A15 -> Z90g_A | C15: ='N207 50km'!B15 -> Zuidkade 90g | D15: {=_xlfn.TEXTSPLIT(C15," ")} -> Zuidkade | E15: 90g | H15: =VLOOKUP(C15,'ICT gegevens'!$A$6:$B$186,2,TRUE) -> 2741JE | I15: Waddinxveen | J15: =VLOOKUP(C15,'ICT gegevens'!$A$6:$F$186,6,TRUE) -> WDV01D1813 | K15: N207 | L15: =VLOOKUP(C15,'ICT gegevens'!$A$6:$G$186,7,TRUE) -> 1939 | N15: =VLOOKUP(C15,'ICT gegevens'!$A$6:$E$186,5,TRUE) -> Wonen | Q15: ='N207 50km'!C15 -> 1.5 | R15: =IF('N207'!D15="--",6,'N207'!D15) -> 56.4 | S15: =IF(MOD(R15,1)=0.5,INT(R15)+MOD(INT(R15),2),ROUND(R15,0)) -> 56 | T15: =S15-U15 -> 3 | U15: ='overzicht alle wegen'!L16 -> 53
A16: 5 | B16: ='N207 50km'!A16 -> Z90f_C | C16: ='N207 50km'!B16 -> Zuidkade 90f | D16: {=_xlfn.TEXTSPLIT(C16," ")} -> Zuidkade | E16: 90f | H16: =VLOOKUP(C16,'ICT gegevens'!$A$6:$B$186,2,TRUE) -> 2741JE | I16: Waddinxveen | J16: =VLOOKUP(C16,'ICT gegevens'!$A$6:$F$186,6,TRUE) -> WDV01D1812 | K16: N207 | L16: =VLOOKUP(C16,'ICT gegevens'!$A$6:$G$186,7,TRUE) -> 1939 | N16: =VLOOKUP(C16,'ICT gegevens'!$A$6:$E$186,5,TRUE) -> Wonen | Q16: ='N207 50km'!C16 -> 7.5 | R16: =IF('N207'!D16="--",6,'N207'!D16) -> 58 | S16: =IF(MOD(R16,1)=0.5,INT(R16)+MOD(INT(R16),2),ROUND(R16,0)) -> 58 | T16: =S16-U16 -> 3 | U16: ='overzicht alle wegen'!L17 -> 55 | V16: 55 | X16: 1 | AG16: 0
B17: ='N207 50km'!A17 -> Z90f_B | C17: ='N207 50km'!B17 -> Zuidkade 90f | D17: {=_xlfn.TEXTSPLIT(C17," ")} -> Zuidkade | E17: 90f | H17: =VLOOKUP(C17,'ICT gegevens'!$A$6:$B$186,2,TRUE) -> 2741JE | I17: Waddinxveen | J17: =VLOOKUP(C17,'ICT gegevens'!$A$6:$F$186,6,TRUE) -> WDV01D1812 | K17: N207 | L17: =VLOOKUP(C17,'ICT gegevens'!$A$6:$G$186,7,TRUE) -> 1939 | N17: =VLOOKUP(C17,'ICT gegevens'!$A$6:$E$186,5,TRUE) -> Wonen | Q17: ='N207 50km'!C17 -> 4.5 | R17: =IF('N207'!D17="--",6,'N207'!D17) -> 57.4 | S17: =IF(MOD(R17,1)=0.5,INT(R17)+MOD(INT(R17),2),ROUND(R17,0)) -> 57 | T17: =S17-U17 -> 3 | U17: ='overzicht alle wegen'!L18 -> 54
B18: ='N207 50km'!A18 -> Z90f_A | C18: ='N207 50km'!B18 -> Zuidkade 90f | D18: {=_xlfn.TEXTSPLIT(C18," ")} -> Zuidkade | E18: 90f | H18: =VLOOKUP(C18,'ICT gegevens'!$A$6:$B$186,2,TRUE) -> 2741JE | I18: Waddinxveen | J18: =VLOOKUP(C18,'ICT gegevens'!$A$6:$F$186,6,TRUE) -> WDV01D1812 | K18: N207 | L18: =VLOOKUP(C18,'ICT gegevens'!$A$6:$G$186,7,TRUE) -> 1939 | N18: =VLOOKUP(C18,'ICT gegevens'!$A$6:$E$186,5,TRUE) -> Wonen | Q18: ='N207 50km'!C18 -> 1.5 | R18: =IF('N207'!D18="--",6,'N207'!D18) -> 56.3 | S18: =IF(MOD(R18,1)=0.5,INT(R18)+MOD(INT(R18),2),ROUND(R18,0)) -> 56 | T18: =S18-U18 -> 3 | U18: ='overzicht alle wegen'!L19 -> 53
A19: 6 | B19: ='N207 50km'!A19 -> Z90e_C | C19: ='N207 50km'!B19 -> Zuidkade 90e | D19: {=_xlfn.TEXTSPLIT(C19," ")} -> Zuidkade | E19: 90e | H19: =VLOOKUP(C19,'ICT gegevens'!$A$6:$B$186,2,TRUE) -> 2741JE | I19: Waddinxveen | J19: =VLOOKUP(C19,'ICT gegevens'!$A$6:$F$186,6,TRUE) -> WDV01D2013 | K19: N207 | L19: =VLOOKUP(C19,'ICT gegevens'!$A$6:$G$186,7,TRUE) -> 1939 | N19: =VLOOKUP(C19,'ICT gegevens'!$A$6:$E$186,5,TRUE) -> Wonen | Q19: ='N207 50km'!C19 -> 7.5 | R19: =IF('N207'!D19="--",6,'N207'!D19) -> 58.1 | S19: =IF(MOD(R19,1)=0.5,INT(R19)+MOD(INT(R19),2),ROUND(R19,0)) -> 58 | T19: =S19-U19 -> 3 | U19: ='overzicht alle wegen'!L20 -> 55 | V19: 55 | X19: 1 | AG19: 0
B20: ='N207 50km'!A20 -> Z90e_B | C20: ='N207 50km'!B20 -> Zuidkade 90e | D20: {=_xlfn.TEXTSPLIT(C20," ")} -> Zuidkade | E20: 90e | H20: =VLOOKUP(C20,'ICT gegevens'!$A$6:$B$186,2,TRUE) -> 2741JE | I20: Waddinxveen | J20: =VLOOKUP(C20,'ICT gegevens'!$A$6:$F$186,6,TRUE) -> WDV01D2013 | K20: N207 | L20: =VLOOKUP(C20,'ICT gegevens'!$A$6:$G$186,7,TRUE) -> 1939 | N20: =VLOOKUP(C20,'ICT gegevens'!$A$6:$E$186,5,TRUE) -> Wonen | Q20: ='N207 50km'!C20 -> 4.5 | R20: =IF('N207'!D20="--",6,'N207'!D20) -> 57.4 | S20: =IF(MOD(R20,1)=0.5,INT(R20)+MOD(INT(R20),2),ROUND(R20,0)) -> 57 | T20: =S20-U20 -> 3 | U20: ='overzicht alle wegen'!L21 -> 54
B21: ='N207 50km'!A21 -> Z90e_A | C21: ='N207 50km'!B21 -> Zuidkade 90e | D21: {=_xlfn.TEXTSPLIT(C21," ")} -> Zuidkade | E21: 90e | H21: =VLOOKUP(C21,'ICT gegevens'!$A$6:$B$186,2,TRUE) -> 2741JE | I21: Waddinxveen | J21: =VLOOKUP(C21,'ICT gegevens'!$A$6:$F$186,6,TRUE) -> WDV01D2013 | K21: N207 | L21: =VLOOKUP(C21,'ICT gegevens'!$A$6:$G$186,7,TRUE) -> 1939 | N21: =VLOOKUP(C21,'ICT gegevens'!$A$6:$E$186,5,TRUE) -> Wonen | Q21: ='N207 50km'!C21 -> 1.5 | R21: =IF('N207'!D21="--",6,'N207'!D21) -> 56.3 | S21: =IF(MOD(R21,1)=0.5,INT(R21)+MOD(INT(R21),2),ROUND(R21,0)) -> 56 | T21: =S21-U21 -> 3 | U21: ='overzicht alle wegen'!L22 -> 53
A22: 7 | B22: ='N207 50km'!A22 -> Z90d_C | C22: ='N207 50km'!B22 -> Zuidkade 90d | D22: {=_xlfn.TEXTSPLIT(C22," ")} -> Zuidkade | E22: 90d | H22: =VLOOKUP(C22,'ICT gegevens'!$A$6:$B$186,2,TRUE) -> 2741JE | I22: Waddinxveen | J22: =VLOOKUP(C22,'ICT gegevens'!$A$6:$F$186,6,TRUE) -> WDV01D2012 | K22: N207 | L22: =VLOOKUP(C22,'ICT gegevens'!$A$6:$G$186,7,TRUE) -> 1939 | N22: =VLOOKUP(C22,'ICT gegevens'!$A$6:$E$186,5,TRUE) -> Wonen | Q22: ='N207 50km'!C22 -> 7.5 | R22: =IF('N207'!D22="--",6,'N207'!D22) -> 58 | S22: =IF(MOD(R22,1)=0.5,INT(R22)+MOD(INT(R22),2),ROUND(R22,0)) -> 58 | T22: =S22-U22 -> 3 | U22: ='overzicht alle wegen'!L23 -> 55 | V22: 55 | X22: 1 | AG22: 0
B23: ='N207 50km'!A23 -> Z90d_B | C23: ='N207 50km'!B23 -> Zuidkade 90d | D23: {=_xlfn.TEXTSPLIT(C23," ")} -> Zuidkade | E23: 90d | H23: =VLOOKUP(C23,'ICT gegevens'!$A$6:$B$186,2,TRUE) -> 2741JE | I23: Waddinxveen | J23: =VLOOKUP(C23,'ICT gegevens'!$A$6:$F$186,6,TRUE) -> WDV01D2012 | K23: N207 | L23: =VLOOKUP(C23,'ICT gegevens'!$A$6:$G$186,7,TRUE) -> 1939 | N23: =VLOOKUP(C23,'ICT gegevens'!$A$6:$E$186,5,TRUE) -> Wonen | Q23: ='N207 50km'!C23 -> 4.5 | R23: =IF('N207'!D23="--",6,'N207'!D23) -> 57.4 | S23: =IF(MOD(R23,1)=0.5,INT(R23)+MOD(INT(R23),2),ROUND(R23,0)) -> 57 | T23: =S23-U23 -> 3 | U23: ='overzicht alle wegen'!L24 -> 54
B24: ='N207 50km'!A24 -> Z90d_A | C24: ='N207 50km'!B24 -> Zuidkade 90d | D24: {=_xlfn.TEXTSPLIT(C24," ")} -> Zuidkade | E24: 90d | H24: =VLOOKUP(C24,'ICT gegevens'!$A$6:$B$186,2,TRUE) -> 2741JE | I24: Waddinxveen | J24: =VLOOKUP(C24,'ICT gegevens'!$A$6:$F$186,6,TRUE) -> WDV01D2012 | K24: N207 | L24: =VLOOKUP(C24,'ICT gegevens'!$A$6:$G$186,7,TRUE) -> 1939 | N24: =VLOOKUP(C24,'ICT gegevens'!$A$6:$E$186,5,TRUE) -> Wonen | Q24: ='N207 50km'!C24 -> 1.5 | R24: =IF('N207'!D24="--",6,'N207'!D24) -> 56.3 | S24: =IF(MOD(R24,1)=0.5,INT(R24)+MOD(INT(R24),2),ROUND(R24,0)) -> 56 | T24: =S24-U24 -> 3 | U24: ='overzicht alle wegen'!L25 -> 53
A25: 8 | B25: ='N207 50km'!A25 -> Z90c_C | C25: ='N207 50km'!B25 -> Zuidkade 90c | D25: {=_xlfn.TEXTSPLIT(C25," ")} -> Zuidkade | E25: 90c | H25: =VLOOKUP(C25,'ICT gegevens'!$A$6:$B$186,2,TRUE) -> 2741JE | I25: Waddinxveen | J25: =VLOOKUP(C25,'ICT gegevens'!$A$6:$F$186,6,TRUE) -> WDV01D1978 | K25: N207 | L25: =VLOOKUP(C25,'ICT gegevens'!$A$6:$G$186,7,TRUE) -> 1938 | N25: =VLOOKUP(C25,'ICT gegevens'!$A$6:$E$186,5,TRUE) -> Wonen | Q25: ='N207 50km'!C25 -> 7.5 | R25: =IF('N207'!D25="--",6,'N207'!D25) -> 57.8 | S25: =IF(MOD(R25,1)=0.5,INT(R25)+MOD(INT(R25),2),ROUND(R25,0)) -> 58 | T25: =S25-U25 -> 4 | U25: ='overzicht alle wegen'!L26 -> 54 | V25: 54 | X25: 1 | AG25: 0
B26: ='N207 50km'!A26 -> Z90c_B | C26: ='N207 50km'!B26 -> Zuidkade 90c | D26: {=_xlfn.TEXTSPLIT(C26," ")} -> Zuidkade | E26: 90c | H26: =VLOOKUP(C26,'ICT gegevens'!$A$6:$B$186,2,TRUE) -> 2741JE | I26: Waddinxveen | J26: =VLOOKUP(C26,'ICT gegevens'!$A$6:$F$186,6,TRUE) -> WDV01D1978 | K26: N207 | L26: =VLOOKUP(C26,'ICT gegevens'!$A$6:$G$186,7,TRUE) -> 1938 | N26: =VLOOKUP(C26,'ICT gegevens'!$A$6:$E$186,5,TRUE) -> Wonen | Q26: ='N207 50km'!C26 -> 4.5 | R26: =IF('N207'!D26="--",6,'N207'!D26) -> 57.2 | S26: =IF(MOD(R26,1)=0.5,INT(R26)+MOD(INT(R26),2),ROUND(R26,0)) -> 57 | T26: =S26-U26 -> 4 | U26: ='overzicht alle wegen'!L27 -> 53
B27: ='N207 50km'!A27 -> Z90c_A | C27: ='N207 50km'!B27 -> Zuidkade 90c | D27: {=_xlfn.TEXTSPLIT(C27," ")} -> Zuidkade | E27: 90c | H27: =VLOOKUP(C27,'ICT gegevens'!$A$6:$B$186,2,TRUE) -> 2741JE | I27: Waddinxveen | J27: =VLOOKUP(C27,'ICT gegevens'!$A$6:$F$186,6,TRUE) -> WDV01D1978 | K27: N207 | L27: =VLOOKUP(C27,'ICT gegevens'!$A$6:$G$186,7,TRUE) -> 1938 | N27: =VLOOKUP(C27,'ICT gegevens'!$A$6:$E$186,5,TRUE) -> Wonen | Q27: ='N207 50km'!C27 -> 1.5 | R27: =IF('N207'!D27="--",6,'N207'!D27) -> 56 | S27: =IF(MOD(R27,1)=0.5,INT(R27)+MOD(INT(R27),2),ROUND(R27,0)) -> 56 | T27: =S27-U27 -> 4 | U27: ='overzicht alle wegen'!L28 -> 52
A28: 9 | B28: ='N207 50km'!A28 -> Z90b_C | C28: ='N207 50km'!B28 -> Zuidkade 90b | D28: {=_xlfn.TEXTSPLIT(C28," ")} -> Zuidkade | E28: 90b | H28: =VLOOKUP(C28,'ICT gegevens'!$A$6:$B$186,2,TRUE) -> 2741JE | I28: Waddinxveen | J28: =VLOOKUP(C28,'ICT gegevens'!$A$6:$F$186,6,TRUE) -> WDV01D1977 | K28: N207 | L28: =VLOOKUP(C28,'ICT gegevens'!$A$6:$G$186,7,TRUE) -> 1938 | N28: =VLOOKUP(C28,'ICT gegevens'!$A$6:$E$186,5,TRUE) -> Wonen | Q28: ='N207 50km'!C28 -> 7.5 | R28: =IF('N207'!D28="--",6,'N207'!D28) -> 57.9 | S28: =IF(MOD(R28,1)=0.5,INT(R28)+MOD(INT(R28),2),ROUND(R28,0)) -> 58 | T28: =S28-U28 -> 4 | U28: ='overzicht alle wegen'!L29 -> 54 | V28: 54 | X28: 1 | AG28: 0
B29: ='N207 50km'!A29 -> Z90b_B | C29: ='N207 50km'!B29 -> Zuidkade 90b | D29: {=_xlfn.TEXTSPLIT(C29," ")} -> Zuidkade | E29: 90b | H29: =VLOOKUP(C29,'ICT gegevens'!$A$6:$B$186,2,TRUE) -> 2741JE | I29: Waddinxveen | J29: =VLOOKUP(C29,'ICT gegevens'!$A$6:$F$186,6,TRUE) -> WDV01D1977 | K29: N207 | L29: =VLOOKUP(C29,'ICT gegevens'!$A$6:$G$186,7,TRUE) -> 1938 | N29: =VLOOKUP(C29,'ICT gegevens'!$A$6:$E$186,5,TRUE) -> Wonen | Q29: ='N207 50km'!C29 -> 4.5 | R29: =IF('N207'!D29="--",6,'N207'!D29) -> 57.2 | S29: =IF(MOD(R29,1)=0.5,INT(R29)+MOD(INT(R29),2),ROUND(R29,0)) -> 57 | T29: =S29-U29 -> 4 | U29: ='overzicht alle wegen'!L30 -> 53
B30: ='N207 50km'!A30 -> Z90b_A | C30: ='N207 50km'!B30 -> Zuidkade 90b | D30: {=_xlfn.TEXTSPLIT(C30," ")} -> Zuidkade | E30: 90b | H30: =VLOOKUP(C30,'ICT gegevens'!$A$6:$B$186,2,TRUE) -> 2741JE | I30: Waddinxveen | J30: =VLOOKUP(C30,'ICT gegevens'!$A$6:$F$186,6,TRUE) -> WDV01D1977 | K30: N207 | L30: =VLOOKUP(C30,'ICT gegevens'!$A$6:$G$186,7,TRUE) -> 1938 | N30: =VLOOKUP(C30,'ICT gegevens'!$A$6:$E$186,5,TRUE) -> Wonen | Q30: ='N207 50km'!C30 -> 1.5 | R30: =IF('N207'!D30="--",6,'N207'!D30) -> 56.1 | S30: =IF(MOD(R30,1)=0.5,INT(R30)+MOD(INT(R30),2),ROUND(R30,0)) -> 56 | T30: =S30-U30 -> 4 | U30: ='overzicht alle wegen'!L31 -> 52
A31: 10 | B31: ='N207 50km'!A4 -> Z9_C | C31: ='N207 50km'!B4 -> Zuidkade 9 | D31: {=_xlfn.TEXTSPLIT(C31," ")} -> Zuidkade | E31: 9 | H31: =VLOOKUP(C31,'ICT gegevens'!$A$6:$B$186,2,TRUE) -> 2741JA | I31: Waddinxveen | J31: =VLOOKUP(C31,'ICT gegevens'!$A$6:$F$186,6,TRUE) -> WDV01D2632 | K31: N207 | L31: =VLOOKUP(C31,'ICT gegevens'!$A$6:$G$186,7,TRUE) -> 1920 | N31: =VLOOKUP(C31,'ICT gegevens'!$A$6:$E$186,5,TRUE) -> Wonen | Q31: ='N207 50km'!C4 -> 7.5 | R31: =IF('N207'!D4="--",6,'N207'!D4) -> 60.5 | S31: =IF(MOD(R31,1)=0.5,INT(R31)+MOD(INT(R31),2),ROUND(R31,0)) -> 60 | T31: =S31-U31 -> 5 | U31: ='overzicht alle wegen'!L5 -> 55 | V31: 55 | X31: 1 | AG31: 0
B32: ='N207 50km'!A5 -> Z9_B | C32: ='N207 50km'!B5 -> Zuidkade 9 | D32: {=_xlfn.TEXTSPLIT(C32," ")} -> Zuidkade | E32: 9 | H32: =VLOOKUP(C32,'ICT gegevens'!$A$6:$B$186,2,TRUE) -> 2741JA | I32: Waddinxveen | J32: =VLOOKUP(C32,'ICT gegevens'!$A$6:$F$186,6,TRUE) -> WDV01D2632 | K32: N207 | L32: =VLOOKUP(C32,'ICT gegevens'!$A$6:$G$186,7,TRUE) -> 1920 | N32: =VLOOKUP(C32,'ICT gegevens'!$A$6:$E$186,5,TRUE) -> Wonen | Q32: ='N207 50km'!C5 -> 4.5 | R32: =IF('N207'!D5="--",6,'N207'!D5) -> 60.1 | S32: =IF(MOD(R32,1)=0.5,INT(R32)+MOD(INT(R32),2),ROUND(R32,0)) -> 60 | T32: =S32-U32 -> 5 | U32: ='overzicht alle wegen'!L6 -> 55
B33: ='N207 50km'!A6 -> Z9_A | C33: ='N207 50km'!B6 -> Zuidkade 9 | D33: {=_xlfn.TEXTSPLIT(C33," ")} -> Zuidkade | E33: 9 | H33: =VLOOKUP(C33,'ICT gegevens'!$A$6:$B$186,2,TRUE) -> 2741JA | I33: Waddinxveen | J33: =VLOOKUP(C33,'ICT gegevens'!$A$6:$F$186,6,TRUE) -> WDV01D2632 | K33: N207 | L33: =VLOOKUP(C33,'ICT gegevens'!$A$6:$G$186,7,TRUE) -> 1920 | N33: =VLOOKUP(C33,'ICT gegevens'!$A$6:$E$186,5,TRUE) -> Wonen | Q33: ='N207 50km'!C6 -> 1.5 | R33: =IF('N207'!D6="--",6,'N207'!D6) -> 58.7 | S33: =IF(MOD(R33,1)=0.5,INT(R33)+MOD(INT(R33),2),ROUND(R33,0)) -> 59 | T33: =S33-U33 -> 5 | U33: ='overzicht alle wegen'!L7 -> 54
A34: 11 | B34: ='N207 50km'!A34 -> Z85_C | C34: ='N207 50km'!B34 -> Zuidkade 85 | D34: {=_xlfn.TEXTSPLIT(C34," ")} -> Zuidkade | E34: 85 | H34: =VLOOKUP(C34,'ICT gegevens'!$A$6:$B$186,2,TRUE) -> 2741JD | I34: Waddinxveen | J34: =VLOOKUP(C34,'ICT gegevens'!$A$6:$F$186,6,TRUE) -> WDV01D2819 | K34: N207 | L34: =VLOOKUP(C34,'ICT gegevens'!$A$6:$G$186,7,TRUE) -> 1987 | M34: Nieuwbouw | N34: =VLOOKUP(C34,'ICT gegevens'!$A$6:$E$186,5,TRUE) -> Wonen | Q34: ='N207 50km'!C34 -> 7.5 | R34: =IF('N207'!D34="--",6,'N207'!D34) -> 57.9 | S34: =IF(MOD(R34,1)=0.5,INT(R34)+MOD(INT(R34),2),ROUND(R34,0)) -> 58 | T34: =S34-U34 -> 5 | U34: ='overzicht alle wegen'!L35 -> 53 | AA34: 1 | AF34: =C34 -> Zuidkade 85 | AG34: 0
B35: ='N207 50km'!A35 -> Z85_B | C35: ='N207 50km'!B35 -> Zuidkade 85 | D35: {=_xlfn.TEXTSPLIT(C35," ")} -> Zuidkade | E35: 85 | H35: =VLOOKUP(C35,'ICT gegevens'!$A$6:$B$186,2,TRUE) -> 2741JD | I35: Waddinxveen | J35: =VLOOKUP(C35,'ICT gegevens'!$A$6:$F$186,6,TRUE) -> WDV01D2819 | K35: N207 | L35: =VLOOKUP(C35,'ICT gegevens'!$A$6:$G$186,7,TRUE) -> 1987 | N35: =VLOOKUP(C35,'ICT gegevens'!$A$6:$E$186,5,TRUE) -> Wonen | Q35: ='N207 50km'!C35 -> 4.5 | R35: =IF('N207'!D35="--",6,'N207'!D35) -> 57.2 | S35: =IF(MOD(R35,1)=0.5,INT(R35)+MOD(INT(R35),2),ROUND(R35,0)) -> 57 | T35: =S35-U35 -> 4 | U35: ='overzicht alle wegen'!L36 -> 53
B36: ='N207 50km'!A36 -> Z85_A | C36: ='N207 50km'!B36 -> Zuidkade 85 | D36: {=_xlfn.TEXTSPLIT(C36," ")} -> Zuidkade | E36: 85 | H36: =VLOOKUP(C36,'ICT gegevens'!$A$6:$B$186,2,TRUE) -> 2741JD | I36: Waddinxveen | J36: =VLOOKUP(C36,'ICT gegevens'!$A$6:$F$186,6,TRUE) -> WDV01D2819 | K36: N207 | L36: =VLOOKUP(C36,'ICT gegevens'!$A$6:$G$186,7,TRUE) -> 1987 | N36: =VLOOKUP(C36,'ICT gegevens'!$A$6:$E$186,5,TRUE) -> Wonen | Q36: ='N207 50km'!C36 -> 1.5 | R36: =IF('N207'!D36="--",6,'N207'!D36) -> 56.1 | S36: =IF(MOD(R36,1)=0.5,INT(R36)+MOD(INT(R36),2),ROUND(R36,0)) -> 56 | T36: =S36-U36 -> 5 | U36: ='overzicht alle wegen'!L37 -> 51
A37: 12 | B37: ='N207 50km'!A37 -> Z84_C | C37: ='N207 50km'!B37 -> Zuidkade 84 | D37: {=_xlfn.TEXTSPLIT(C37," ")} -> Zuidkade | E37: 84 | H37: =VLOOKUP(C37,'ICT gegevens'!$A$6:$B$186,2,TRUE) -> 2741JD | I37: Waddinxveen | J37: =VLOOKUP(C37,'ICT gegevens'!$A$6:$F$186,6,TRUE) -> WDV01D2820 | K37: N207 | L37: =VLOOKUP(C37,'ICT gegevens'!$A$6:$G$186,7,TRUE) -> 1987 | M37: Nieuwbouw | N37: =VLOOKUP(C37,'ICT gegevens'!$A$6:$E$186,5,TRUE) -> Wonen | Q37: ='N207 50km'!C37 -> 7.5 | R37: =IF('N207'!D37="--",6,'N207'!D37) -> 57.8 | S37: =IF(MOD(R37,1)=0.5,INT(R37)+MOD(INT(R37),2),ROUND(R37,0)) -> 58 | T37: =S37-U37 -> 5 | U37: ='overzicht alle wegen'!L38 -> 53 | AA37: 1 | AF37: =C37 -> Zuidkade 84 | AG37: 0
B38: ='N207 50km'!A38 -> Z84_B | C38: ='N207 50km'!B38 -> Zuidkade 84 | D38: {=_xlfn.TEXTSPLIT(C38," ")} -> Zuidkade | E38: 84 | H38: =VLOOKUP(C38,'ICT gegevens'!$A$6:$B$186,2,TRUE) -> 2741JD | I38: Waddinxveen | J38: =VLOOKUP(C38,'ICT gegevens'!$A$6:$F$186,6,TRUE) -> WDV01D2820 | K38: N207 | L38: =VLOOKUP(C38,'ICT gegevens'!$A$6:$G$186,7,TRUE) -> 1987 | N38: =VLOOKUP(C38,'ICT gegevens'!$A$6:$E$186,5,TRUE) -> Wonen | Q38: ='N207 50km'!C38 -> 4.5 | R38: =IF('N207'!D38="--",6,'N207'!D38) -> 57.1 | S38: =IF(MOD(R38,1)=0.5,INT(R38)+MOD(INT(R38),2),ROUND(R38,0)) -> 57 | T38: =S38-U38 -> 4 | U38: ='overzicht alle wegen'!L39 -> 53
B39: ='N207 50km'!A39 -> Z84_A | C39: ='N207 50km'!B39 -> Zuidkade 84 | D39: {=_xlfn.TEXTSPLIT(C39," ")} -> Zuidkade | E39: 84 | H39: =VLOOKUP(C39,'ICT gegevens'!$A$6:$B$186,2,TRUE) -> 2741JD | I39: Waddinxveen | J39: =VLOOKUP(C39,'ICT gegevens'!$A$6:$F$186,6,TRUE) -> WDV01D2820 | K39: N207 | L39: =VLOOKUP(C39,'ICT gegevens'!$A$6:$G$186,7,TRUE) -> 1987 | N39: =VLOOKUP(C39,'ICT gegevens'!$A$6:$E$186,5,TRUE) -> Wonen | Q39: ='N207 50km'!C39 -> 1.5 | R39: =IF('N207'!D39="--",6,'N207'!D39) -> 56 | S39: =IF(MOD(R39,1)=0.5,INT(R39)+MOD(INT(R39),2),ROUND(R39,0)) -> 56 | T39: =S39-U39 -> 5 | U39: ='overzicht alle wegen'!L40 -> 51
A40: 13 | B40: ='N207 50km'!A40 -> Z83_C | C40: ='N207 50km'!B40 -> Zuidkade 83 | D40: {=_xlfn.TEXTSPLIT(C40," ")} -> Zuidkade | E40: 83 | H40: =VLOOKUP(C40,'ICT gegevens'!$A$6:$B$186,2,TRUE) -> 2741JD | I40: Waddinxveen | J40: =VLOOKUP(C40,'ICT gegevens'!$A$6:$F$186,6,TRUE) -> WDV01D2821 | K40: N207 | L40: =VLOOKUP(C40,'ICT gegevens'!$A$6:$G$186,7,TRUE) -> 1987 | M40: Nieuwbouw | N40: =VLOOKUP(C40,'ICT gegevens'!$A$6:$E$186,5,TRUE) -> Wonen | Q40: ='N207 50km'!C40 -> 7.5 | R40: =IF('N207'!D40="--",6,'N207'!D40) -> 57.8 | S40: =IF(MOD(R40,1)=0.5,INT(R40)+MOD(INT(R40),2),ROUND(R40,0)) -> 58 | T40: =S40-U40 -> 5 | U40: ='overzicht alle wegen'!L41 -> 53 | AA40: 1 | AF40: =C40 -> Zuidkade 83 | AG40: 0
B41: ='N207 50km'!A41 -> Z83_B | C41: ='N207 50km'!B41 -> Zuidkade 83 | D41: {=_xlfn.TEXTSPLIT(C41," ")} -> Zuidkade | E41: 83 | H41: =VLOOKUP(C41,'ICT gegevens'!$A$6:$B$186,2,TRUE) -> 2741JD | I41: Waddinxveen | J41: =VLOOKUP(C41,'ICT gegevens'!$A$6:$F$186,6,TRUE) -> WDV01D2821 | K41: N207 | L41: =VLOOKUP(C41,'ICT gegevens'!$A$6:$G$186,7,TRUE) -> 1987 | N41: =VLOOKUP(C41,'ICT gegevens'!$A$6:$E$186,5,TRUE) -> Wonen | Q41: ='N207 50km'!C41 -> 4.5 | R41: =IF('N207'!D41="--",6,'N207'!D41) -> 57.1 | S41: =IF(MOD(R41,1)=0.5,INT(R41)+MOD(INT(R41),2),ROUND(R41,0)) -> 57 | T41: =S41-U41 -> 4 | U41: ='overzicht alle wegen'!L42 -> 53
...

Sheet ICT gegevens
A1: Lijst met saneringsobjecten
A2: aanvrager: | C2: ODMH namens gemeente Zuidplas
A3: project: | C3: Aanvraag saneringsprogramma (combinatie projecten bij BSV: 577.218.05/576.239.00)
A5: adres | B5: postcode | C5: woonplaats | D5: bouwjaar | E5: aardcultuurbebouwd | F5: perceelsaanduiding | G5: bouwjaar
A6: Brugweg 3 | B6: 2741KT | C6: Waddinxveen | E6: Wonen | F6: WDV01G3126 | G6: 1897
A7: Brugweg 5 | B7: 2741KT | C7: Waddinxveen | E7: Wonen | F7: WDV01G2579 | G7: 1897
A8: Henegouwerweg 10 | B8: 2741KR | C8: Waddinxveen | E8: Wonen | F8: WDV01G3241 | G8: 1933
A9: Henegouwerweg 104 | B9: 2741JZ | C9: Waddinxveen | E9: Wonen | F9: WDV01G3075 | G9: 1928
A10: Henegouwerweg 105A | B10: 2741JZ | C10: Waddinxveen | E10: Wonen | F10: WDV01G3044 | G10: 1968
A11: Henegouwerweg 108 | B11: 2741JZ | C11: Waddinxveen | E11: kantoorfunctie | F11: WDV01G2334 | G11: 1999
A12: Henegouwerweg 110 | B12: 2741JZ | C12: Waddinxveen | E12: Wonen | F12: WDV01G2335 | G12: 1906
A13: Henegouwerweg 12 | B13: 2741KR | C13: Waddinxveen | E13: Wonen | F13: WDV01G2451 | G13: 1955
A14: Henegouwerweg 13 | B14: 2741KR | C14: Waddinxveen | E14: Wonen | F14: WDV01G2415 | G14: 1955
A15: Henegouwerweg 14 | B15: 2741KR | C15: Waddinxveen | E15: Wonen | F15: WDV01G2416 | G15: 1955
A16: Henegouwerweg 15 | B16: 2741KR | C16: Waddinxveen | E16: Wonen | F16: WDV01G2417 | G16: 1955
A17: Henegouwerweg 16 | B17: 2741KS | C17: Waddinxveen | E17: Wonen | F17: WDV01G2183 | G17: 1930
A18: Henegouwerweg 17 | B18: 2741KS | C18: Waddinxveen | E18: wonen | F18: WDV01G3376 | G18: 1950
A20: Henegouwerweg 18 | B20: 2741KS | C20: Waddinxveen | E20: Wonen | F20: WDV01G2333 | G20: 1950 | I20: Henegouwerweg 18 | J20: 2741KS | K20: Waddinxveen | M20: Wonen | N20: WDV01G2333 | O20: 1950
A21: Henegouwerweg 19 | B21: 2741KS | C21: Waddinxveen | E21: Wonen | F21: WDV01G3258 | G21: 1950
A22: Henegouwerweg 23 | B22: 2741KS | C22: Waddinxveen | E22: Wonen | F22: WDV01G2496 | G22: 1930
A23: Henegouwerweg 33 | B23: 2741KG | C23: Waddinxveen | E23: wonen | F23: WDV01G2344 | G23: 1939
A24: Henegouwerweg 38 | B24: 2741KG | C24: Waddinxveen | E24: Wonen | F24: WDV01G2900 | G24: 1974
A25: Henegouwerweg 4 | B25: 2741KR | C25: Waddinxveen | E25: Wonen | F25: WDV01G2379 | G25: 1980
A26: Henegouwerweg 43 | B26: 2741KG | C26: Waddinxveen | E26: Wonen | F26: WDV01G3016 | G26: 1940
A27: Henegouwerweg 8 | B27: 2741KR | C27: Waddinxveen | E27: Wonen | F27: WDV01G2931 | G27: 1955
A28: Henegouwerweg 85 | B28: 2741KB | C28: Waddinxveen | E28: Wonen | F28: WDV01G2511 | G28: 1994
A29: Henegouwerweg 86 | B29: 2741KB | C29: Waddinxveen | E29: Wonen | F29: WDV01G2511 | G29: 1994
A30: Henegouwerweg 87 | B30: 2741KB | C30: Waddinxveen | E30: Wonen | F30: WDV01G2511 | G30: 1994
A31: Henegouwerweg 88 | B31: 2741KB | C31: Waddinxveen | E31: Wonen | F31: WDV01G2511 | G31: 1994
A32: Henegouwerweg 89 | B32: 2741KB | C32: Waddinxveen | E32: Wonen | F32: WDV01G1892 | G32: 1920
... A38: Henegouwerweg 95 | B38: 2741KA | C38: Waddinxveen | E38: Wonen | F38: WDV01G2754 | G38: 1937
A39: Henegouwerweg 96 | B39: 2741KA | C39: Waddinxveen | E39: Wonen | F39: WDV01G2944 | G39: 1978 | I39: Henegouwerweg 96 | J39: 2741KA | K39: Waddinxveen | M39: Wonen | N39: WDV01G2944 | O39: 1978
A41: Henegouwerweg 98 | B41: 2741KA | C41: Waddinxveen | E41: Wonen | F41: WDV01G2798 | G41: 1880
A42: Henegouwerweg 99 | B42: 2741KA | C42: Waddinxveen | E42: Wonen | F42: WDV01G2799 | G42: 1880
A43: Noordkade 103 | B43: 2741EW | C43: Waddinxveen | E43: Wonen | F43: WDV01B6716 | G43: 1977
A44: Noordkade 105 | B44: 2741EW | C44: Waddinxveen | E44: Wonen | F44: WDV01B6641 | G44: 1977
A45: Noordkade 107 | B45: 2741EW | C45: Waddinxveen | E45: Wonen | F45: WDV01B6640 | G45: 1977
A46: Noordkade 109 | B46: 2741EW | C46: Waddinxveen | E46: Wonen | F46: WDV01B4193 | G46: 1930
A47: Noordkade 111 | B47: 2741EW | C47: Waddinxveen | E47: Wonen | F47: WDV01B3179 | G47: 1900
A48: Noordkade 113 | B48: 2741EW | C48: Waddinxveen | E48: Wonen | F48: WDV01B3155 | G48: 1999
...

Sheet overzicht alle wegen
A1: Bijlage 7: Resultatenoverzicht en cumulatie
A3: WNP | B3: Omschrijving WNP | C3: Hoogte (m) | D3: N207 | E3: N207 50 km/uur | H3: N207 80 km/uur | K3: N207 | L3: N207 | M3: Brugweg (30 km/uur) | P3: Hefbrug (50 km/uur) | S3: Kerkweg Oost (50 km/uur) vervalt | V3: N454 Kanaaldijk (50 km/uur) vervalt | Y3: N454 Kanaaldijk (80 km/uur) vervalt | AD3: N451 (80 km/uur) vervalt te laag | AI3: A12 (100 km/uur) | AN3: A20 (100 km/uur) vervalt | AS3: Lden cum | AT3: Lden cum
D4: Lden (dB) excl aftrek | E4: Lden (dB) excl aftrek | F4: afronden | G4: Lden (dB) incl aftrek | H4: Lden (dB) excl aftrek | I4: afronden | J4: Lden (dB)>70 incl aftrek | K4: Lden (dB) incl aftrek | L4: Lden (dB) incl aftrek | M4: Lden (dB) excl aftrek | N4: afronden | O4: Lden (dB) incl aftrek | P4: Lden (dB) excl aftrek | Q4: afronden | R4: Lden (dB) incl aftrek | S4: Lden (dB) excl aftrek | T4: afronden | U4: Lden (dB) incl aftrek | V4: Lden (dB) excl aftrek | W4: afronden | X4: Lden (dB) incl aftrek | Y4: Lden (dB) excl aftrek | Z4: afronden | AA4: 55,50-56,50 | AB4: 56,51-57,49 | AC4: Lden (dB)>70 incl aftrek | AD4: Lden (dB) excl aftrek | AE4: afronden | AF4: 55,50-56,50 | AG4: 56,51-57,49 | AH4: Lden (dB)>70 incl aftrek | AI4: Lden (dB) excl aftrek | AJ4: afronden | AK4: 55,50-56,50 | AL4: 56,51-57,49 | AM4: Lden (dB)>70 incl aftrek | AN4: Lden (dB) excl aftrek | AO4: afronden | AP4: 55,50-56,50 | AQ4: 56,51-57,49 | AR4: Lden (dB)>70 incl aftrek | AT4: afgerond
A5: ='N207 50km'!A4 -> Z9_C | B5: ='N207 50km'!B4 -> Zuidkade 9 | C5: ='N207 50km'!C4 -> 7.5 | D5: ='N207'!D4 -> 60.5 | E5: =IF('N207 50km'!D4="--",6,'N207 50km'!D4) -> 60.4 | F5: =IF(MOD(E5,1)=0.5,INT(E5)+MOD(INT(E5),2),ROUND(E5,0)) -> 60 | G5: =F5-5 -> 55 | H5: =IF('N207 80km'!D4="--",6,'N207 80km'!D4) -> 42 | I5: =IF(MOD(H5,1)=0.5,INT(H5)+MOD(INT(H5),2),ROUND(H5,0)) -> 42 | J5: {=_xlfn.IFS(I5=56,53,I5=57,53,OR(I5>57,I5<56),I5-2)} -> 40 | K5: =10*LOG(10^(G5/10)+(10^(J5/10))) -> 55.135209 | L5: =IF(MOD(K5,1)=0.5,INT(K5)+MOD(INT(K5),2),ROUND(K5,0)) -> 55 | M5: =IF('Brugweg 30km'!D4="--",6,'Brugweg 30km'!D4) -> 36.4 | N5: =IF(MOD(M5,1)=0.5,INT(M5)+MOD(INT(M5),2),ROUND(M5,0)) -> 36 | O5: =N5-5 -> 31 | P5: =IF('Hefbrug (50 km uur)'!D4="--",6,'Hefbrug (50 km uur)'!D4) -> 48.4 | Q5: =IF(MOD(P5,1)=0.5,INT(P5)+MOD(INT(P5),2),ROUND(P5,0)) -> 48 | R5: =Q5-5 -> 43 | S5: ='Kerkweg oost 50 km'!D4 -> 24.9 | T5: =IF(MOD(S5,1)=0.5,INT(S5)+MOD(INT(S5),2),ROUND(S5,0)) -> 25 | U5: =T5-5 -> 20 | V5: ='N454 Kanaaldijk 50 km'!D4 -> 5.8 | W5: =IF(MOD(V5,1)=0.5,INT(V5)+MOD(INT(V5),2),ROUND(V5,0)) -> 6 | X5: =W5-5 -> 1 | Y5: ='N454 Kanaaldijk 80 km'!D4 -> 17 | Z5: =IF(MOD(Y5,1)=0.5,INT(Y5)+MOD(INT(Y5),2),ROUND(Y5,0)) -> 17 | AA5: =IF(AND(Z5>55.49,Z5<56.51),Z5,) -> 0 | AB5: =IF(AND(Z5>56.5,Z5<57.5),Z5,) -> 0 | AC5: =IF(AA5>0,AA5-3,IF(AB5>0,AB5-4,Z5-2)) -> 15 | AD5: ='N451 80 km'!D4 -> 20.6 | AE5: =IF(MOD(AD5,1)=0.5,INT(AD5)+MOD(INT(AD5),2),ROUND(AD5,0)) -> 21 | AF5: =IF(AND(AE5>55.49,AE5<56.51),AE5,) -> 0 | AG5: =IF(AND(AE5>56.5,AE5<57.5),AE5,) -> 0 | AH5: =IF(AF5>0,AF5-3,IF(AG5>0,AG5-4,AE5-2)) -> 19 | AI5: =IF('A12'!D4="--",6,'A12'!D4) -> 38.3 | AJ5: =IF(MOD(AI5,1)=0.5,INT(AI5)+MOD(INT(AI5),2),ROUND(AI5,0)) -> 38 | AK5: =IF(AND(AJ5>55.49,AJ5<56.51),AJ5,) -> 0 | AL5: =IF(AND(AJ5>56.5,AJ5<57.5),AJ5,) -> 0 | AM5: =IF(AK5>0,AK5-3,IF(AL5>0,AL5-4,AJ5-2)) -> 36 | AN5: ='A20'!D4 -> 33.4 | AO5: =IF(MOD(AN5,1)=0.5,INT(AN5)+MOD(INT(AN5),2),ROUND(AN5,0)) -> 33 | AP5: =IF(AND(AO5>55.49,AO5<56.51),AO5,) -> 0 | AQ5: =IF(AND(AO5>56.5,AO5<57.5),AO5,) -> 0 | AR5: =IF(AP5>0,AP5-3,IF(AQ5>0,AQ5-4,AO5-2)) -> 31 | AU5: {=_xlfn.IFS(I5=56,53,I5=57,53,OR(I5>57,I5<56),I5-2)} -> 40
A6: ='N207 50km'!A5 -> Z9_B | B6: ='N207 50km'!B5 -> Zuidkade 9 | C6: ='N207 50km'!C5 -> 4.5 | D6: ='N207'!D5 -> 60.1 | E6: =IF('N207 50km'!D5="--",6,'N207 50km'!D5) -> 60.1 | F6: =IF(MOD(E6,1)=0.5,INT(E6)+MOD(INT(E6),2),ROUND(E6,0)) -> 60 | G6: =F6-5 -> 55 | H6: =IF('N207 80km'!D5="--",6,'N207 80km'!D5) -> 42.1 | I6: =IF(MOD(H6,1)=0.5,INT(H6)+MOD(INT(H6),2),ROUND(H6,0)) -> 42 | J6: {=_xlfn.IFS(I6=56,53,I6=57,53,OR(I6>57,I6<56),I6-2)} -> 40 | K6: =10*LOG(10^(G6/10)+(10^(J6/10))) -> 55.135209 | L6: =IF(MOD(K6,1)=0.5,INT(K6)+MOD(INT(K6),2),ROUND(K6,0)) -> 55 | M6: =IF('Brugweg 30km'!D5="--",6,'Brugweg 30km'!D5) -> 35.5 | N6: =IF(MOD(M6,1)=0.5,INT(M6)+MOD(INT(M6),2),ROUND(M6,0)) -> 36 | O6: =N6-5 -> 31 | P6: =IF('Hefbrug (50 km uur)'!D5="--",6,'Hefbrug (50 km uur)'!D5) -> 47.4 | Q6: =IF(MOD(P6,1)=0.5,INT(P6)+MOD(INT(P6),2),ROUND(P6,0)) -> 47 | R6: =Q6-5 -> 42 | S6: ='Kerkweg oost 50 km'!D5 -> 22.3 | T6: =IF(MOD(S6,1)=0.5,INT(S6)+MOD(INT(S6),2),ROUND(S6,0)) -> 22 | U6: =T6-5 -> 17 | V6: ='N454 Kanaaldijk 50 km'!D5 -> 7.9 | W6: =IF(MOD(V6,1)=0.5,INT(V6)+MOD(INT(V6),2),ROUND(V6,0)) -> 8 | X6: =W6-5 -> 3 | Y6: ='N454 Kanaaldijk 80 km'!D5 -> 17.1 | Z6: =IF(MOD(Y6,1)=0.5,INT(Y6)+MOD(INT(Y6),2),ROUND(Y6,0)) -> 17 | AA6: =IF(AND(Z6>55.49,Z6<56.51),Z6,) -> 0 | AB6: =IF(AND(Z6>56.5,Z6<57.5),Z6,) -> 0 | AC6: =IF(AA6>0,AA6-3,IF(AB6>0,AB6-4,Z6-2)) -> 15 | AD6: ='N451 80 km'!D5 -> 19.7 | AE6: =IF(MOD(AD6,1)=0.5,INT(AD6)+MOD(INT(AD6),2),ROUND(AD6,0)) -> 20 | AF6: =IF(AND(AE6>55.49,AE6<56.51),AE6,) -> 0 | AG6: =IF(AND(AE6>56.5,AE6<57.5),AE6,) -> 0 | AH6: =IF(AF6>0,AF6-3,IF(AG6>0,AG6-4,AE6-2)) -> 18 | AI6: =IF('A12'!D5="--",6,'A12'!D5) -> 36.8 | AJ6: =IF(MOD(AI6,1)=0.5,INT(AI6)+MOD(INT(AI6),2),ROUND(AI6,0)) -> 37 | AK6: =IF(AND(AJ6>55.49,AJ6<56.51),AJ6,) -> 0 | AL6: =IF(AND(AJ6>56.5,AJ6<57.5),AJ6,) -> 0 | AM6: =IF(AK6>0,AK6-3,IF(AL6>0,AL6-4,AJ6-2)) -> 35 | AN6: ='A20'!D5 -> 31.9 | AO6: =IF(MOD(AN6,1)=0.5,INT(AN6)+MOD(INT(AN6),2),ROUND(AN6,0)) -> 32 | AP6: =IF(AND(AO6>55.49,AO6<56.51),AO6,) -> 0 | AQ6: =IF(AND(AO6>56.5,AO6<57.5),AO6,) -> 0 | AR6: =IF(AP6>0,AP6-3,IF(AQ6>0,AQ6-4,AO6-2)) -> 30 | AU6: {=_xlfn.IFS(I6=56,53,I6=57,53,OR(I6>57,I6<56),I6-2)} -> 40
A7: ='N207 50km'!A6 -> Z9_A | B7: ='N207 50km'!B6 -> Zuidkade 9 | C7: ='N207 50km'!C6 -> 1.5 | D7: ='N207'!D6 -> 58.7 | E7: =IF('N207 50km'!D6="--",6,'N207 50km'!D6) -> 58.6 | F7: =IF(MOD(E7,1)=0.5,INT(E7)+MOD(INT(E7),2),ROUND(E7,0)) -> 59 | G7: =F7-5 -> 54 | H7: =IF('N207 80km'!D6="--",6,'N207 80km'!D6) -> 42.2 | I7: =IF(MOD(H7,1)=0.5,INT(H7)+MOD(INT(H7),2),ROUND(H7,0)) -> 42 | J7: {=_xlfn.IFS(I7=56,53,I7=57,53,OR(I7>57,I7<56),I7-2)} -> 40 | K7: =10*LOG(10^(G7/10)+(10^(J7/10))) -> 54.169543 | L7: =IF(MOD(K7,1)=0.5,INT(K7)+MOD(INT(K7),2),ROUND(K7,0)) -> 54 | M7: =IF('Brugweg 30km'!D6="--",6,'Brugweg 30km'!D6) -> 34.6 | N7: =IF(MOD(M7,1)=0.5,INT(M7)+MOD(INT(M7),2),ROUND(M7,0)) -> 35 | O7: =N7-5 -> 30 | P7: =IF('Hefbrug (50 km uur)'!D6="--",6,'Hefbrug (50 km uur)'!D6) -> 46.7 | Q7: =IF(MOD(P7,1)=0.5,INT(P7)+MOD(INT(P7),2),ROUND(P7,0)) -> 47 | R7: =Q7-5 -> 42 | S7: ='Kerkweg oost 50 km'!D6 -> 18.8 | T7: =IF(MOD(S7,1)=0.5,INT(S7)+MOD(INT(S7),2),ROUND(S7,0)) -> 19 | U7: =T7-5 -> 14 | V7: ='N454 Kanaaldijk 50 km'!D6 -> 7.3 | W7: =IF(MOD(V7,1)=0.5,INT(V7)+MOD(INT(V7),2),ROUND(V7,0)) -> 7 | X7: =W7-5 -> 2 | Y7: ='N454 Kanaaldijk 80 km'!D6 -> 16.3 | Z7: =IF(MOD(Y7,1)=0.5,INT(Y7)+MOD(INT(Y7),2),ROUND(Y7,0)) -> 16 | AA7: =IF(AND(Z7>55.49,Z7<56.51),Z7,) -> 0 | AB7: =IF(AND(Z7>56.5,Z7<57.5),Z7,) -> 0 | AC7: =IF(AA7>0,AA7-3,IF(AB7>0,AB7-4,Z7-2)) -> 14 | AD7: ='N451 80 km'!D6 -> 17.9 | AE7: =IF(MOD(AD7,1)=0.5,INT(AD7)+MOD(INT(AD7),2),ROUND(AD7,0)) -> 18 | AF7: =IF(AND(AE7>55.49,AE7<56.51),AE7,) -> 0 | AG7: =IF(AND(AE7>56.5,AE7<57.5),AE7,) -> 0 | AH7: =IF(AF7>0,AF7-3,IF(AG7>0,AG7-4,AE7-2)) -> 16 | AI7: =IF('A12'!D6="--",6,'A12'!D6) -> 33.6 | AJ7: =IF(MOD(AI7,1)=0.5,INT(AI7)+MOD(INT(AI7),2),ROUND(AI7,0)) -> 34 | AK7: =IF(AND(AJ7>55.49,AJ7<56.51),AJ7,) -> 0 | AL7: =IF(AND(AJ7>56.5,AJ7<57.5),AJ7,) -> 0 | AM7: =IF(AK7>0,AK7-3,IF(AL7>0,AL7-4,AJ7-2)) -> 32 | AN7: ='A20'!D6 -> 29.6 | AO7: =IF(MOD(AN7,1)=0.5,INT(AN7)+MOD(INT(AN7),2),ROUND(AN7,0)) -> 30 | AP7: =IF(AND(AO7>55.49,AO7<56.51),AO7,) -> 0 | AQ7: =IF(AND(AO7>56.5,AO7<57.5),AO7,) -> 0 | AR7: =IF(AP7>0,AP7-3,IF(AQ7>0,AQ7-4,AO7-2)) -> 28 | AU7: {=_xlfn.IFS(I7=56,53,I7=57,53,OR(I7>57,I7<56),I7-2)} -> 40
A8: ='N207 50km'!A7 -> Z95_B | B8: ='N207 50km'!B7 -> Zuidkade 95 | C8: ='N207 50km'!C7 -> 4.5 | D8: ='N207'!D7 -> 57.1 | E8: =IF('N207 50km'!D7="--",6,'N207 50km'!D7) -> 50.2 | F8: =IF(MOD(E8,1)=0.5,INT(E8)+MOD(INT(E8),2),ROUND(E8,0)) -> 50 | G8: =F8-5 -> 45 | H8: =IF('N207 80km'!D7="--",6,'N207 80km'!D7) -> 56.1 | I8: =IF(MOD(H8,1)=0.5,INT(H8)+MOD(INT(H8),2),ROUND(H8,0)) -> 56 | J8: {=_xlfn.IFS(I8=56,53,I8=57,53,OR(I8>57,I8<56),I8-2)} -> 53 | K8: =10*LOG(10^(G8/10)+(10^(J8/10))) -> 53.63892 | L8: =IF(MOD(K8,1)=0.5,INT(K8)+MOD(INT(K8),2),ROUND(K8,0)) -> 54 | M8: =IF('Brugweg 30km'!D7="--",6,'Brugweg 30km'!D7) -> 18.3 | N8: =IF(MOD(M8,1)=0.5,INT(M8)+MOD(INT(M8),2),ROUND(M8,0)) -> 18 | O8: =N8-5 -> 13 | P8: =IF('Hefbrug (50 km uur)'!D7="--",6,'Hefbrug (50 km uur)'!D7) -> 20.1 | Q8: =IF(MOD(P8,1)=0.5,INT(P8)+MOD(INT(P8),2),ROUND(P8,0)) -> 20 | R8: =Q8-5 -> 15 | S8: ='Kerkweg oost 50 km'!D7 -> 18.1 | T8: =IF(MOD(S8,1)=0.5,INT(S8)+MOD(INT(S8),2),ROUND(S8,0)) -> 18 | U8: =T8-5 -> 13 | V8: ='N454 Kanaaldijk 50 km'!D7 -> 25.3 | W8: =IF(MOD(V8,1)=0.5,INT(V8)+MOD(INT(V8),2),ROUND(V8,0)) -> 25 | X8: =W8-5 -> 20 | Y8: ='N454 Kanaaldijk 80 km'!D7 -> 24.6 | Z8: =IF(MOD(Y8,1)=0.5,INT(Y8)+MOD(INT(Y8),2),ROUND(Y8,0)) -> 25 | AA8: =IF(AND(Z8>55.49,Z8<56.51),Z8,) -> 0 | AB8: =IF(AND(Z8>56.5,Z8<57.5),Z8,) -> 0 | AC8: =IF(AA8>0,AA8-3,IF(AB8>0,AB8-4,Z8-2)) -> 23 | AD8: ='N451 80 km'!D7 -> 27.4 | AE8: =IF(MOD(AD8,1)=0.5,INT(AD8)+MOD(INT(AD8),2),ROUND(AD8,0)) -> 27 | AF8: =IF(AND(AE8>55.49,AE8<56.51),AE8,) -> 0 | AG8: =IF(AND(AE8>56.5,AE8<57.5),AE8,) -> 0 | AH8: =IF(AF8>0,AF8-3,IF(AG8>0,AG8-4,AE8-2)) -> 25 | AI8: =IF('A12'!D7="--",6,'A12'!D7) -> 45 | AJ8: =IF(MOD(AI8,1)=0.5,INT(AI8)+MOD(INT(AI8),2),ROUND(AI8,0)) -> 45 | AK8: =IF(AND(AJ8>55.49,AJ8<56.51),AJ8,) -> 0 | AL8: =IF(AND(AJ8>56.5,AJ8<57.5),AJ8,) -> 0 | AM8: =IF(AK8>0,AK8-3,IF(AL8>0,AL8-4,AJ8-2)) -> 43 | AN8: ='A20'!D7 -> 40.1 | AO8: =IF(MOD(AN8,1)=0.5,INT(AN8)+MOD(INT(AN8),2),ROUND(AN8,0)) -> 40 | AP8: =IF(AND(AO8>55.49,AO8<56.51),AO8,) -> 0 | AQ8: =IF(AND(AO8>56.5,AO8<57.5),AO8,) -> 0 | AR8: =IF(AP8>0,AP8-3,IF(AQ8>0,AQ8-4,AO8-2)) -> 38 | AU8: {=_xlfn.IFS(I8=56,53,I8=57,53,OR(I8>57,I8<56),I8-2)} -> 53
A9: ='N207 50km'!A8 -> Z95_A | B9: ='N207 50km'!B8 -> Zuidkade 95 | C9: ='N207 50km'!C8 -> 1.5 | D9: ='N207'!D8 -> 56.1 | E9: =IF('N207 50km'!D8="--",6,'N207 50km'!D8) -> 49.8 | F9: =IF(MOD(E9,1)=0.5,INT(E9)+MOD(INT(E9),2),ROUND(E9,0)) -> 50 | G9: =F9-5 -> 45 | H9: =IF('N207 80km'!D8="--",6,'N207 80km'!D8) -> 54.9 | I9: =IF(MOD(H9,1)=0.5,INT(H9)+MOD(INT(H9),2),ROUND(H9,0)) -> 55 | J9: {=_xlfn.IFS(I9=56,53,I9=57,53,OR(I9>57,I9<56),I9-2)} -> 53 | K9: =10*LOG(10^(G9/10)+(10^(J9/10))) -> 53.63892 | L9: =IF(MOD(K9,1)=0.5,INT(K9)+MOD(INT(K9),2),ROUND(K9,0)) -> 54 | M9: =IF('Brugweg 30km'!D8="--",6,'Brugweg 30km'!D8) -> 17.6 | N9: =IF(MOD(M9,1)=0.5,INT(M9)+MOD(INT(M9),2),ROUND(M9,0)) -> 18 | O9: =N9-5 -> 13 | P9: =IF('Hefbrug (50 km uur)'!D8="--",6,'Hefbrug (50 km uur)'!D8) -> 20 | Q9: =IF(MOD(P9,1)=0.5,INT(P9)+MOD(INT(P9),2),ROUND(P9,0)) -> 20 | R9: =Q9-5 -> 15 | S9: ='Kerkweg oost 50 km'!D8 -> 16.1 | T9: =IF(MOD(S9,1)=0.5,INT(S9)+MOD(INT(S9),2),ROUND(S9,0)) -> 16 | U9: =T9-5 -> 11 | V9: ='N454 Kanaaldijk 50 km'!D8 -> 25.8 | W9: =IF(MOD(V9,1)=0.5,INT(V9)+MOD(INT(V9),2),ROUND(V9,0)) -> 26 | X9: =W9-5 -> 21 | Y9: ='N454 Kanaaldijk 80 km'!D8 -> 24 | Z9: =IF(MOD(Y9,1)=0.5,INT(Y9)+MOD(INT(Y9),2),ROUND(Y9,0)) -> 24 | AA9: =IF(AND(Z9>55.49,Z9<56.51),Z9,) -> 0 | AB9: =IF(AND(Z9>56.5,Z9<57.5),Z9,) -> 0 | AC9: =IF(AA9>0,AA9-3,IF(AB9>0,AB9-4,Z9-2)) -> 22 | AD9: ='N451 80 km'!D8 -> 27.1 | AE9: =IF(MOD(AD9,1)=0.5,INT(AD9)+MOD(INT(AD9),2),ROUND(AD9,0)) -> 27 | AF9: =IF(AND(AE9>55.49,AE9<56.51),AE9,) -> 0 | AG9: =IF(AND(AE9>56.5,AE9<57.5),AE9,) -> 0 | AH9: =IF(AF9>0,AF9-3,IF(AG9>0,AG9-4,AE9-2)) -> 25 | AI9: =IF('A12'!D8="--",6,'A12'!D8) -> 44.7 | AJ9: =IF(MOD(AI9,1)=0.5,INT(AI9)+MOD(INT(AI9),2),ROUND(AI9,0)) -> 45 | AK9: =IF(AND(AJ9>55.49,AJ9<56.51),AJ9,) -> 0 | AL9: =IF(AND(AJ9>56.5,AJ9<57.5),AJ9,) -> 0 | AM9: =IF(AK9>0,AK9-3,IF(AL9>0,AL9-4,AJ9-2)) -> 43 | AN9: ='A20'!D8 -> 39.8 | AO9: =IF(MOD(AN9,1)=0.5,INT(AN9)+MOD(INT(AN9),2),ROUND(AN9,0)) -> 40 | AP9: =IF(AND(AO9>55.49,AO9<56.51),AO9,) -> 0 | AQ9: =IF(AND(AO9>56.5,AO9<57.5),AO9,) -> 0 | AR9: =IF(AP9>0,AP9-3,IF(AQ9>0,AQ9-4,AO9-2)) -> 38 | AU9: {=_xlfn.IFS(I9=56,53,I9=57,53,OR(I9>57,I9<56),I9-2)} -> 53
A10: ='N207 50km'!A9 -> Z93_B | B10: ='N207 50km'!B9 -> Zuidkade 93 | C10: ='N207 50km'!C9 -> 4.5 | D10: ='N207'!D9 -> 57.1 | E10: =IF('N207 50km'!D9="--",6,'N207 50km'!D9) -> 52.1 | F10: =IF(MOD(E10,1)=0.5,INT(E10)+MOD(INT(E10),2),ROUND(E10,0)) -> 52 | G10: =F10-5 -> 47 | H10: =IF('N207 80km'!D9="--",6,'N207 80km'!D9) -> 55.4 | I10: =IF(MOD(H10,1)=0.5,INT(H10)+MOD(INT(H10),2),ROUND(H10,0)) -> 55 | J10: {=_xlfn.IFS(I10=56,53,I10=57,53,OR(I10>57,I10<56),I10-2)} -> 53 | K10: =10*LOG(10^(G10/10)+(10^(J10/10))) -> 53.973228 | L10: =IF(MOD(K10,1)=0.5,INT(K10)+MOD(INT(K10),2),ROUND(K10,0)) -> 54 | M10: =IF('Brugweg 30km'!D9="--",6,'Brugweg 30km'!D9) -> 18 | N10: =IF(MOD(M10,1)=0.5,INT(M10)+MOD(INT(M10),2),ROUND(M10,0)) -> 18 | O10: =N10-5 -> 13 | P10: =IF('Hefbrug (50 km uur)'!D9="--",6,'Hefbrug (50 km uur)'!D9) -> 13.4 | Q10: =IF(MOD(P10,1)=0.5,INT(P10)+MOD(INT(P10),2),ROUND(P10,0)) -> 13 | R10: =Q10-5 -> 8 | S10: ='Kerkweg oost 50 km'!D9 -> 16.8 | T10: =IF(MOD(S10,1)=0.5,INT(S10)+MOD(INT(S10),2),ROUND(S10,0)) -> 17 | U10: =T10-5 -> 12 | V10: ='N454 Kanaaldijk 50 km'!D9 -> 26.9 | W10: =IF(MOD(V10,1)=0.5,INT(V10)+MOD(INT(V10),2),ROUND(V10,0)) -> 27 | X10: =W10-5 -> 22 | Y10: ='N454 Kanaaldijk 80 km'!D9 -> 25.7 | Z10: =IF(MOD(Y10,1)=0.5,INT(Y10)+MOD(INT(Y10),2),ROUND(Y10,0)) -> 26 | AA10: =IF(AND(Z10>55.49,Z10<56.51),Z10,) -> 0 | AB10: =IF(AND(Z10>56.5,Z10<57.5),Z10,) -> 0 | AC10: =IF(AA10>0,AA10-3,IF(AB10>0,AB10-4,Z10-2)) -> 24 | AD10: ='N451 80 km'!D9 -> 27.7 | AE10: =IF(MOD(AD10,1)=0.5,INT(AD10)+MOD(INT(AD10),2),ROUND(AD10,0)) -> 28 | AF10: =IF(AND(AE10>55.49,AE10<56.51),AE10,) -> 0 | AG10: =IF(AND(AE10>56.5,AE10<57.5),AE10,) -> 0 | AH10: =IF(AF10>0,AF10-3,IF(AG10>0,AG10-4,AE10-2)) -> 26 | AI10: =IF('A12'!D9="--",6,'A12'!D9) -> 45.5 | AJ10: =IF(MOD(AI10,1)=0.5,INT(AI10)+MOD(INT(AI10),2),ROUND(AI10,0)) -> 46 | AK10: =IF(AND(AJ10>55.49,AJ10<56.51),AJ10,) -> 0 | AL10: =IF(AND(AJ10>56.5,AJ10<57.5),AJ10,) -> 0 | AM10: =IF(AK10>0,AK10-3,IF(AL10>0,AL10-4,AJ10-2)) -> 44 | AN10: ='A20'!D9 -> 41.2 | AO10: =IF(MOD(AN10,1)=0.5,INT(AN10)+MOD(INT(AN10),2),ROUND(AN10,0)) -> 41 | AP10: =IF(AND(AO10>55.49,AO10<56.51),AO10,) -> 0 | AQ10: =IF(AND(AO10>56.5,AO10<57.5),AO10,) -> 0 | AR10: =IF(AP10>0,AP10-3,IF(AQ10>0,AQ10-4,AO10-2)) -> 39
A11: ='N207 50km'!A10 -> Z93_A | B11: ='N207 50km'!B10 -> Zuidkade 93 | C11: ='N207 50km'!C10 -> 1.5 | D11: ='N207'!D10 -> 56 | E11: =IF('N207 50km'!D10="--",6,'N207 50km'!D10) -> 51.2 | F11: =IF(MOD(E11,1)=0.5,INT(E11)+MOD(INT(E11),2),ROUND(E11,0)) -> 51 | G11: =F11-5 -> 46 | H11: =IF('N207 80km'!D10="--",6,'N207 80km'!D10) -> 54.2 | I11: =IF(MOD(H11,1)=0.5,INT(H11)+MOD(INT(H11),2),ROUND(H11,0)) -> 54 | J11: {=_xlfn.IFS(I11=56,53,I11=57,53,OR(I11>57,I11<56),I11-2)} -> 52 | K11: =10*LOG(10^(G11/10)+(10^(J11/10))) -> 52.973228 | L11: =IF(MOD(K11,1)=0.5,INT(K11)+MOD(INT(K11),2),ROUND(K11,0)) -> 53 | M11: =IF('Brugweg 30km'!D10="--",6,'Brugweg 30km'!D10) -> 17.7 | N11: =IF(MOD(M11,1)=0.5,INT(M11)+MOD(INT(M11),2),ROUND(M11,0)) -> 18 | O11: =N11-5 -> 13 | P11: =IF('Hefbrug (50 km uur)'!D10="--",6,'Hefbrug (50 km uur)'!D10) -> 9 | Q11: =IF(MOD(P11,1)=0.5,INT(P11)+MOD(INT(P11),2),ROUND(P11,0)) -> 9 | R11: =Q11-5 -> 4 | S11: ='Kerkweg oost 50 km'!D10 -> 13.8 | T11: =IF(MOD(S11,1)=0.5,INT(S11)+MOD(INT(S11),2),ROUND(S11,0)) -> 14 | U11: =T11-5 -> 9 | V11: ='N454 Kanaaldijk 50 km'!D10 -> 26.9 | W11: =IF(MOD(V11,1)=0.5,INT(V11)+MOD(INT(V11),2),ROUND(V11,0)) -> 27 | X11: =W11-5 -> 22 | Y11: ='N454 Kanaaldijk 80 km'!D10 -> 24.8 | Z11: =IF(MOD(Y11,1)=0.5,INT(Y11)+MOD(INT(Y11),2),ROUND(Y11,0)) -> 25 | AA11: =IF(AND(Z11>55.49,Z11<56.51),Z11,) -> 0 | AB11: =IF(AND(Z11>56.5,Z11<57.5),Z11,) -> 0 | AC11: =IF(AA11>0,AA11-3,IF(AB11>0,AB11-4,Z11-2)) -> 23 | AD11: ='N451 80 km'!D10 -> 27 | AE11: =IF(MOD(AD11,1)=0.5,INT(AD11)+MOD(INT(AD11),2),ROUND(AD11,0)) -> 27 | AF11: =IF(AND(AE11>55.49,AE11<56.51),AE11,) -> 0 | AG11: =IF(AND(AE11>56.5,AE11<57.5),AE11,) -> 0 | AH11: =IF(AF11>0,AF11-3,IF(AG11>0,AG11-4,AE11-2)) -> 25 | AI11: =IF('A12'!D10="--",6,'A12'!D10) -> 45.1 | AJ11: =IF(MOD(AI11,1)=0.5,INT(AI11)+MOD(INT(AI11),2),ROUND(AI11,0)) -> 45 | AK11: =IF(AND(AJ11>55.49,AJ11<56.51),AJ11,) -> 0 | AL11: =IF(AND(AJ11>56.5,AJ11<57.5),AJ11,) -> 0 | AM11: =IF(AK11>0,AK11-3,IF(AL11>0,AL11-4,AJ11-2)) -> 43 | AN11: ='A20'!D10 -> 40.7 | AO11: =IF(MOD(AN11,1)=0.5,INT(AN11)+MOD(INT(AN11),2),ROUND(AN11,0)) -> 41 | AP11: =IF(AND(AO11>55.49,AO11<56.51),AO11,) -> 0 | AQ11: =IF(AND(AO11>56.5,AO11<57.5),AO11,) -> 0 | AR11: =IF(AP11>0,AP11-3,IF(AQ11>0,AQ11-4,AO11-2)) -> 39
A12: ='N207 50km'!A11 -> Z92_B | B12: ='N207 50km'!B11 -> Zuidkade 92 | C12: ='N207 50km'!C11 -> 4.5 | D12: ='N207'!D11 -> 57.5 | E12: =IF('N207 50km'!D11="--",6,'N207 50km'!D11) -> 53.7 | F12: =IF(MOD(E12,1)=0.5,INT(E12)+MOD(INT(E12),2),ROUND(E12,0)) -> 54 | G12: =F12-5 -> 49 | H12: =IF('N207 80km'!D11="--",6,'N207 80km'!D11) -> 55.1 | I12: =IF(MOD(H12,1)=0.5,INT(H12)+MOD(INT(H12),2),ROUND(H12,0)) -> 55 | J12: {=_xlfn.IFS(I12=56,53,I12=57,53,OR(I12>57,I12<56),I12-2)} -> 53 | K12: =10*LOG(10^(G12/10)+(10^(J12/10))) -> 54.455405 | L12: =IF(MOD(K12,1)=0.5,INT(K12)+MOD(INT(K12),2),ROUND(K12,0)) -> 54 | M12: =IF('Brugweg 30km'!D11="--",6,'Brugweg 30km'!D11) -> 18.7 | N12: =IF(MOD(M12,1)=0.5,INT(M12)+MOD(INT(M12),2),ROUND(M12,0)) -> 19 | O12: =N12-5 -> 14 | P12: =IF('Hefbrug (50 km uur)'!D11="--",6,'Hefbrug (50 km uur)'!D11) -> 24.3 | Q12: =IF(MOD(P12,1)=0.5,INT(P12)+MOD(INT(P12),2),ROUND(P12,0)) -> 24 | R12: =Q12-5 -> 19 | S12: ='Kerkweg oost 50 km'!D11 -> 16.4 | T12: =IF(MOD(S12,1)=0.5,INT(S12)+MOD(INT(S12),2),ROUND(S12,0)) -> 16 | U12: =T12-5 -> 11 | V12: ='N454 Kanaaldijk 50 km'!D11 -> 26.2 | W12: =IF(MOD(V12,1)=0.5,INT(V12)+MOD(INT(V12),2),ROUND(V12,0)) -> 26 | X12: =W12-5 -> 21 | Y12: ='N454 Kanaaldijk 80 km'!D11 -> 24.7 | Z12: =IF(MOD(Y12,1)=0.5,INT(Y12)+MOD(INT(Y12),2),ROUND(Y12,0)) -> 25 | AA12: =IF(AND(Z12>55.49,Z12<56.51),Z12,) -> 0 | AB12: =IF(AND(Z12>56.5,Z12<57.5),Z12,) -> 0 | AC12: =IF(AA12>0,AA12-3,IF(AB12>0,AB12-4,Z12-2)) -> 23 | AD12: ='N451 80 km'!D11 -> 27.6 | AE12: =IF(MOD(AD12,1)=0.5,INT(AD12)+MOD(INT(AD12),2),ROUND(AD12,0)) -> 28 | AF12: =IF(AND(AE12>55.49,AE12<56.51),AE12,) -> 0 | AG12: =IF(AND(AE12>56.5,AE12<57.5),AE12,) -> 0 | AH12: =IF(AF12>0,AF12-3,IF(AG12>0,AG12-4,AE12-2)) -> 26 | AI12: =IF('A12'!D11="--",6,'A12'!D11) -> 44.7 | AJ12: =IF(MOD(AI12,1)=0.5,INT(AI12)+MOD(INT(AI12),2),ROUND(AI12,0)) -> 45 | AK12: =IF(AND(AJ12>55.49,AJ12<56.51),AJ12,) -> 0 | AL12: =IF(AND(AJ12>56.5,AJ12<57.5),AJ12,) -> 0 | AM12: =IF(AK12>0,AK12-3,IF(AL12>0,AL12-4,AJ12-2)) -> 43 | AN12: ='A20'!D11 -> 40.1 | AO12: =IF(MOD(AN12,1)=0.5,INT(AN12)+MOD(INT(AN12),2),ROUND(AN12,0)) -> 40 | AP12: =IF(AND(AO12>55.49,AO12<56.51),AO12,) -> 0 | AQ12: =IF(AND(AO12>56.5,AO12<57.5),AO12,) -> 0 | AR12: =IF(AP12>0,AP12-3,IF(AQ12>0,AQ12-4,AO12-2)) -> 38
A13: ='N207 50km'!A12 -> Z92_A | B13: ='N207 50km'!B12 -> Zuidkade 92 | C13: ='N207 50km'!C12 -> 1.5 | D13: ='N207'!D12 -> 56.3 | E13: =IF('N207 50km'!D12="--",6,'N207 50km'!D12) -> 52.6 | F13: =IF(MOD(E13,1)=0.5,INT(E13)+MOD(INT(E13),2),ROUND(E13,0)) -> 53 | G13: =F13-5 -> 48 | H13: =IF('N207 80km'!D12="--",6,'N207 80km'!D12) -> 54 | I13: =IF(MOD(H13,1)=0.5,INT(H13)+MOD(INT(H13),2),ROUND(H13,0)) -> 54 | J13: {=_xlfn.IFS(I13=56,53,I13=57,53,OR(I13>57,I13<56),I13-2)} -> 52 | K13: =10*LOG(10^(G13/10)+(10^(J13/10))) -> 53.455405 | L13: =IF(MOD(K13,1)=0.5,INT(K13)+MOD(INT(K13),2),ROUND(K13,0)) -> 53 | M13: =IF('Brugweg 30km'!D12="--",6,'Brugweg 30km'!D12) -> 18.5 | N13: =IF(MOD(M13,1)=0.5,INT(M13)+MOD(INT(M13),2),ROUND(M13,0)) -> 18 | O13: =N13-5 -> 13 | P13: =IF('Hefbrug (50 km uur)'!D12="--",6,'Hefbrug (50 km uur)'!D12) -> 24.1 | Q13: =IF(MOD(P13,1)=0.5,INT(P13)+MOD(INT(P13),2),ROUND(P13,0)) -> 24 | R13: =Q13-5 -> 19 | S13: ='Kerkweg oost 50 km'!D12 -> 14.4 | T13: =IF(MOD(S13,1)=0.5,INT(S13)+MOD(INT(S13),2),ROUND(S13,0)) -> 14 | U13: =T13-5 -> 9 | V13: ='N454 Kanaaldijk 50 km'!D12 -> 27.2 | W13: =IF(MOD(V13,1)=0.5,INT(V13)+MOD(INT(V13),2),ROUND(V13,0)) -> 27 | X13: =W13-5 -> 22 | Y13: ='N454 Kanaaldijk 80 km'!D12 -> 23.6 | Z13: =IF(MOD(Y13,1)=0.5,INT(Y13)+MOD(INT(Y13),2),ROUND(Y13,0)) -> 24 | AA13: =IF(AND(Z13>55.49,Z13<56.51),Z13,) -> 0 | AB13: =IF(AND(Z13>56.5,Z13<57.5),Z13,) -> 0 | AC13: =IF(AA13>0,AA13-3,IF(AB13>0,AB13-4,Z13-2)) -> 22 | AD13: ='N451 80 km'!D12 -> 27.3 | AE13: =IF(MOD(AD13,1)=0.5,INT(AD13)+MOD(INT(AD13),2),ROUND(AD13,0)) -> 27 | AF13: =IF(AND(AE13>55.49,AE13<56.51),AE13,) -> 0 | AG13: =IF(AND(AE13>56.5,AE13<57.5),AE13,) -> 0 | AH13: =IF(AF13>0,AF13-3,IF(AG13>0,AG13-4,AE13-2)) -> 25 | AI13: =IF('A12'!D12="--",6,'A12'!D12) -> 44.4 | AJ13: =IF(MOD(AI13,1)=0.5,INT(AI13)+MOD(INT(AI13),2),ROUND(AI13,0)) -> 44 | AK13: =IF(AND(AJ13>55.49,AJ13<56.51),AJ13,) -> 0 | AL13: =IF(AND(AJ13>56.5,AJ13<57.5),AJ13,) -> 0 | AM13: =IF(AK13>0,AK13-3,IF(AL13>0,AL13-4,AJ13-2)) -> 42 | AN13: ='A20'!D12 -> 39.7 | AO13: =IF(MOD(AN13,1)=0.5,INT(AN13)+MOD(INT(AN13),2),ROUND(AN13,0)) -> 40 | AP13: =IF(AND(AO13>55.49,AO13<56.51),AO13,) -> 0 | AQ13: =IF(AND(AO13>56.5,AO13<57.5),AO13,) -> 0 | AR13: =IF(AP13>0,AP13-3,IF(AQ13>0,AQ13-4,AO13-2)) -> 38
A14: ='N207 50km'!A13 -> Z90g_C | B14: ='N207 50km'!B13 -> Zuidkade 90g | C14: ='N207 50km'!C13 -> 7.5 | D14: ='N207'!D13 -> 58 | E14: =IF('N207 50km'!D13="--",6,'N207 50km'!D13) -> 55 | F14: =IF(MOD(E14,1)=0.5,INT(E14)+MOD(INT(E14),2),ROUND(E14,0)) -> 55 | G14: =F14-5 -> 50 | H14: =IF('N207 80km'!D13="--",6,'N207 80km'!D13) -> 55.1 | I14: =IF(MOD(H14,1)=0.5,INT(H14)+MOD(INT(H14),2),ROUND(H14,0)) -> 55 | J14: {=_xlfn.IFS(I14=56,53,I14=57,53,OR(I14>57,I14<56),I14-2)} -> 53 | K14: =10*LOG(10^(G14/10)+(10^(J14/10))) -> 54.764349 | L14: =IF(MOD(K14,1)=0.5,INT(K14)+MOD(INT(K14),2),ROUND(K14,0)) -> 55 | M14: =IF('Brugweg 30km'!D13="--",6,'Brugweg 30km'!D13) -> 16.9 | N14: =IF(MOD(M14,1)=0.5,INT(M14)+MOD(INT(M14),2),ROUND(M14,0)) -> 17 | O14: =N14-5 -> 12 | P14: =IF('Hefbrug (50 km uur)'!D13="--",6,'Hefbrug (50 km uur)'!D13) -> 24.6 | Q14: =IF(MOD(P14,1)=0.5,INT(P14)+MOD(INT(P14),2),ROUND(P14,0)) -> 25 | R14: =Q14-5 -> 20 | S14: ='Kerkweg oost 50 km'!D13 -> 12.7 | T14: =IF(MOD(S14,1)=0.5,INT(S14)+MOD(INT(S14),2),ROUND(S14,0)) -> 13 | U14: =T14-5 -> 8 | V14: ='N454 Kanaaldijk 50 km'!D13 -> 27.3 | W14: =IF(MOD(V14,1)=0.5,INT(V14)+MOD(INT(V14),2),ROUND(V14,0)) -> 27 | X14: =W14-5 -> 22 | Y14: ='N454 Kanaaldijk 80 km'!D13 -> 27.4 | Z14: =IF(MOD(Y14,1)=0.5,INT(Y14)+MOD(INT(Y14),2),ROUND(Y14,0)) -> 27 | AA14: =IF(AND(Z14>55.49,Z14<56.51),Z14,) -> 0 | AB14: =IF(AND(Z14>56.5,Z14<57.5),Z14,) -> 0 | AC14: =IF(AA14>0,AA14-3,IF(AB14>0,AB14-4,Z14-2)) -> 25 | AD14: ='N451 80 km'!D13 -> 27.3 | AE14: =IF(MOD(AD14,1)=0.5,INT(AD14)+MOD(INT(AD14),2),ROUND(AD14,0)) -> 27 | AF14: =IF(AND(AE14>55.49,AE14<56.51),AE14,) -> 0 | AG14: =IF(AND(AE14>56.5,AE14<57.5),AE14,) -> 0 | AH14: =IF(AF14>0,AF14-3,IF(AG14>0,AG14-4,AE14-2)) -> 25 | AI14: =IF('A12'!D13="--",6,'A12'!D13) -> 44.4 | AJ14: =IF(MOD(AI14,1)=0.5,INT(AI14)+MOD(INT(AI14),2),ROUND(AI14,0)) -> 44 | AK14: =IF(AND(AJ14>55.49,AJ14<56.51),AJ14,) -> 0 | AL14: =IF(AND(AJ14>56.5,AJ14<57.5),AJ14,) -> 0 | AM14: =IF(AK14>0,AK14-3,IF(AL14>0,AL14-4,AJ14-2)) -> 42 | AN14: ='A20'!D13 -> 40 | AO14: =IF(MOD(AN14,1)=0.5,INT(AN14)+MOD(INT(AN14),2),ROUND(AN14,0)) -> 40 | AP14: =IF(AND(AO14>55.49,AO14<56.51),AO14,) -> 0 | AQ14: =IF(AND(AO14>56.5,AO14<57.5),AO14,) -> 0 | AR14: =IF(AP14>0,AP14-3,IF(AQ14>0,AQ14-4,AO14-2)) -> 38
A15: ='N207 50km'!A14 -> Z90g_B | B15: ='N207 50km'!B14 -> Zuidkade 90g | C15: ='N207 50km'!C14 -> 4.5 | D15: ='N207'!D14 -> 57.4 | E15: =IF('N207 50km'!D14="--",6,'N207 50km'!D14) -> 54.4 | F15: =IF(MOD(E15,1)=0.5,INT(E15)+MOD(INT(E15),2),ROUND(E15,0)) -> 54 | G15: =F15-5 -> 49 | H15: =IF('N207 80km'!D14="--",6,'N207 80km'!D14) -> 54.4 | I15: =IF(MOD(H15,1)=0.5,INT(H15)+MOD(INT(H15),2),ROUND(H15,0)) -> 54 | J15: {=_xlfn.IFS(I15=56,53,I15=57,53,OR(I15>57,I15<56),I15-2)} -> 52 | K15: =10*LOG(10^(G15/10)+(10^(J15/10))) -> 53.764349 | L15: =IF(MOD(K15,1)=0.5,INT(K15)+MOD(INT(K15),2),ROUND(K15,0)) -> 54 | M15: =IF('Brugweg 30km'!D14="--",6,'Brugweg 30km'!D14) -> 18.9 | N15: =IF(MOD(M15,1)=0.5,INT(M15)+MOD(INT(M15),2),ROUND(M15,0)) -> 19 | O15: =N15-5 -> 14 | P15: =IF('Hefbrug (50 km uur)'!D14="--",6,'Hefbrug (50 km uur)'!D14) -> 26 | Q15: =IF(MOD(P15,1)=0.5,INT(P15)+MOD(INT(P15),2),ROUND(P15,0)) -> 26 | R15: =Q15-5 -> 21 | S15: ='Kerkweg oost 50 km'!D14 -> 13.5 | T15: =IF(MOD(S15,1)=0.5,INT(S15)+MOD(INT(S15),2),ROUND(S15,0)) -> 14 | U15: =T15-5 -> 9 | V15: ='N454 Kanaaldijk 50 km'!D14 -> 26.3 | W15: =IF(MOD(V15,1)=0.5,INT(V15)+MOD(INT(V15),2),ROUND(V15,0)) -> 26 | X15: =W15-5 -> 21 | Y15: ='N454 Kanaaldijk 80 km'!D14 -> 23.3 | Z15: =IF(MOD(Y15,1)=0.5,INT(Y15)+MOD(INT(Y15),2),ROUND(Y15,0)) -> 23 | AA15: =IF(AND(Z15>55.49,Z15<56.51),Z15,) -> 0 | AB15: =IF(AND(Z15>56.5,Z15<57.5),Z15,) -> 0 | AC15: =IF(AA15>0,AA15-3,IF(AB15>0,AB15-4,Z15-2)) -> 21 | AD15: ='N451 80 km'!D14 -> 27.2 | AE15: =IF(MOD(AD15,1)=0.5,INT(AD15)+MOD(INT(AD15),2),ROUND(AD15,0)) -> 27 | AF15: =IF(AND(AE15>55.49,AE15<56.51),AE15,) -> 0 | AG15: =IF(AND(AE15>56.5,AE15<57.5),AE15,) -> 0 | AH15: =IF(AF15>0,AF15-3,IF(AG15>0,AG15-4,AE15-2)) -> 25 | AI15: =IF('A12'!D14="--",6,'A12'!D14) -> 43.7 | AJ15: =IF(MOD(AI15,1)=0.5,INT(AI15)+MOD(INT(AI15),2),ROUND(AI15,0)) -> 44 | AK15: =IF(AND(AJ15>55.49,AJ15<56.51),AJ15,) -> 0 | AL15: =IF(AND(AJ15>56.5,AJ15<57.5),AJ15,) -> 0 | AM15: =IF(AK15>0,AK15-3,IF(AL15>0,AL15-4,AJ15-2)) -> 42 | AN15: ='A20'!D14 -> 37.8 | AO15: =IF(MOD(AN15,1)=0.5,INT(AN15)+MOD(INT(AN15),2),ROUND(AN15,0)) -> 38 | AP15: =IF(AND(AO15>55.49,AO15<56.51),AO15,) -> 0 | AQ15: =IF(AND(AO15>56.5,AO15<57.5),AO15,) -> 0 | AR15: =IF(AP15>0,AP15-3,IF(AQ15>0,AQ15-4,AO15-2)) -> 36
A16: ='N207 50km'!A15 -> Z90g_A | B16: ='N207 50km'!B15 -> Zuidkade 90g | C16: ='N207 50km'!C15 -> 1.5 | D16: ='N207'!D15 -> 56.4 | E16: =IF('N207 50km'!D15="--",6,'N207 50km'!D15) -> 53.3 | F16: =IF(MOD(E16,1)=0.5,INT(E16)+MOD(INT(E16),2),ROUND(E16,0)) -> 53 | G16: =F16-5 -> 48 | H16: =IF('N207 80km'!D15="--",6,'N207 80km'!D15) -> 53.4 | I16: =IF(MOD(H16,1)=0.5,INT(H16)+MOD(INT(H16),2),ROUND(H16,0)) -> 53 | J16: {=_xlfn.IFS(I16=56,53,I16=57,53,OR(I16>57,I16<56),I16-2)} -> 51 | K16: =10*LOG(10^(G16/10)+(10^(J16/10))) -> 52.764349 | L16: =IF(MOD(K16,1)=0.5,INT(K16)+MOD(INT(K16),2),ROUND(K16,0)) -> 53 | M16: =IF('Brugweg 30km'!D15="--",6,'Brugweg 30km'!D15) -> 18.8 | N16: =IF(MOD(M16,1)=0.5,INT(M16)+MOD(INT(M16),2),ROUND(M16,0)) -> 19 | O16: =N16-5 -> 14 | P16: =IF('Hefbrug (50 km uur)'!D15="--",6,'Hefbrug (50 km uur)'!D15) -> 25.9 | Q16: =IF(MOD(P16,1)=0.5,INT(P16)+MOD(INT(P16),2),ROUND(P16,0)) -> 26 | R16: =Q16-5 -> 21 | S16: ='Kerkweg oost 50 km'!D15 -> 9.6 | T16: =IF(MOD(S16,1)=0.5,INT(S16)+MOD(INT(S16),2),ROUND(S16,0)) -> 10 | U16: =T16-5 -> 5 | V16: ='N454 Kanaaldijk 50 km'!D15 -> 24 | W16: =IF(MOD(V16,1)=0.5,INT(V16)+MOD(INT(V16),2),ROUND(V16,0)) -> 24 | X16: =W16-5 -> 19 | Y16: ='N454 Kanaaldijk 80 km'!D15 -> 21.5 | Z16: =IF(MOD(Y16,1)=0.5,INT(Y16)+MOD(INT(Y16),2),ROUND(Y16,0)) -> 22 | AA16: =IF(AND(Z16>55.49,Z16<56.51),Z16,) -> 0 | AB16: =IF(AND(Z16>56.5,Z16<57.5),Z16,) -> 0 | AC16: =IF(AA16>0,AA16-3,IF(AB16>0,AB16-4,Z16-2)) -> 20 | AD16: ='N451 80 km'!D15 -> 27.1 | AE16: =IF(MOD(AD16,1)=0.5,INT(AD16)+MOD(INT(AD16),2),ROUND(AD16,0)) -> 27 | AF16: =IF(AND(AE16>55.49,AE16<56.51),AE16,) -> 0 | AG16: =IF(AND(AE16>56.5,AE16<57.5),AE16,) -> 0 | AH16: =IF(AF16>0,AF16-3,IF(AG16>0,AG16-4,AE16-2)) -> 25 | AI16: =IF('A12'!D15="--",6,'A12'!D15) -> 43.5 | AJ16: =IF(MOD(AI16,1)=0.5,INT(AI16)+MOD(INT(AI16),2),ROUND(AI16,0)) -> 44 | AK16: =IF(AND(AJ16>55.49,AJ16<56.51),AJ16,) -> 0 | AL16: =IF(AND(AJ16>56.5,AJ16<57.5),AJ16,) -> 0 | AM16: =IF(AK16>0,AK16-3,IF(AL16>0,AL16-4,AJ16-2)) -> 42 | AN16: ='A20'!D15 -> 37.6 | AO16: =IF(MOD(AN16,1)=0.5,INT(AN16)+MOD(INT(AN16),2),ROUND(AN16,0)) -> 38 | AP16: =IF(AND(AO16>55.49,AO16<56.51),AO16,) -> 0 | AQ16: =IF(AND(AO16>56.5,AO16<57.5),AO16,) -> 0 | AR16: =IF(AP16>0,AP16-3,IF(AQ16>0,AQ16-4,AO16-2)) -> 36
A17: ='N207 50km'!A16 -> Z90f_C | B17: ='N207 50km'!B16 -> Zuidkade 90f | C17: ='N207 50km'!C16 -> 7.5 | D17: ='N207'!D16 -> 58 | E17: =IF('N207 50km'!D16="--",6,'N207 50km'!D16) -> 55.2 | F17: =IF(MOD(E17,1)=0.5,INT(E17)+MOD(INT(E17),2),ROUND(E17,0)) -> 55 | G17: =F17-5 -> 50 | H17: =IF('N207 80km'!D16="--",6,'N207 80km'!D16) -> 54.8 | I17: =IF(MOD(H17,1)=0.5,INT(H17)+MOD(INT(H17),2),ROUND(H17,0)) -> 55 | J17: {=_xlfn.IFS(I17=56,53,I17=57,53,OR(I17>57,I17<56),I17-2)} -> 53 | K17: =10*LOG(10^(G17/10)+(10^(J17/10))) -> 54.764349 | L17: =IF(MOD(K17,1)=0.5,INT(K17)+MOD(INT(K17),2),ROUND(K17,0)) -> 55 | M17: =IF('Brugweg 30km'!D16="--",6,'Brugweg 30km'!D16) -> 16.9 | N17: =IF(MOD(M17,1)=0.5,INT(M17)+MOD(INT(M17),2),ROUND(M17,0)) -> 17 | O17: =N17-5 -> 12 | P17: =IF('Hefbrug (50 km uur)'!D16="--",6,'Hefbrug (50 km uur)'!D16) -> 24.9 | Q17: =IF(MOD(P17,1)=0.5,INT(P17)+MOD(INT(P17),2),ROUND(P17,0)) -> 25 | R17: =Q17-5 -> 20 | S17: ='Kerkweg oost 50 km'!D16 -> 12.5 | T17: =IF(MOD(S17,1)=0.5,INT(S17)+MOD(INT(S17),2),ROUND(S17,0)) -> 12 | U17: =T17-5 -> 7 | V17: ='N454 Kanaaldijk 50 km'!D16 -> 26.2 | W17: =IF(MOD(V17,1)=0.5,INT(V17)+MOD(INT(V17),2),ROUND(V17,0)) -> 26 | X17: =W17-5 -> 21 | Y17: ='N454 Kanaaldijk 80 km'!D16 -> 27.2 | Z17: =IF(MOD(Y17,1)=0.5,INT(Y17)+MOD(INT(Y17),2),ROUND(Y17,0)) -> 27 | AA17: =IF(AND(Z17>55.49,Z17<56.51),Z17,) -> 0 | AB17: =IF(AND(Z17>56.5,Z17<57.5),Z17,) -> 0 | AC17: =IF(AA17>0,AA17-3,IF(AB17>0,AB17-4,Z17-2)) -> 25 | AD17: ='N451 80 km'!D16 -> 27 | AE17: =IF(MOD(AD17,1)=0.5,INT(AD17)+MOD(INT(AD17),2),ROUND(AD17,0)) -> 27 | AF17: =IF(AND(AE17>55.49,AE17<56.51),AE17,) -> 0 | AG17: =IF(AND(AE17>56.5,AE17<57.5),AE17,) -> 0 | AH17: =IF(AF17>0,AF17-3,IF(AG17>0,AG17-4,AE17-2)) -> 25 | AI17: =IF('A12'!D16="--",6,'A12'!D16) -> 44.3 | AJ17: =IF(MOD(AI17,1)=0.5,INT(AI17)+MOD(INT(AI17),2),ROUND(AI17,0)) -> 44 | AK17: =IF(AND(AJ17>55.49,AJ17<56.51),AJ17,) -> 0 | AL17: =IF(AND(AJ17>56.5,AJ17<57.5),AJ17,) -> 0 | AM17: =IF(AK17>0,AK17-3,IF(AL17>0,AL17-4,AJ17-2)) -> 42 | AN17: ='A20'!D16 -> 40 | AO17: =IF(MOD(AN17,1)=0.5,INT(AN17)+MOD(INT(AN17),2),ROUND(AN17,0)) -> 40 | AP17: =IF(AND(AO17>55.49,AO17<56.51),AO17,) -> 0 | AQ17: =IF(AND(AO17>56.5,AO17<57.5),AO17,) -> 0 | AR17: =IF(AP17>0,AP17-3,IF(AQ17>0,AQ17-4,AO17-2)) -> 38
