Workbook

Sheet Bijlage 1
A1: Lijst saneringsobjecten Wet geluidhinder | Z1: Bijlage UKS
A2: Gegevens na sanering, geluidbelasting inclusief eventuele bron- en/of afschermende maatregelen
A3: Projectnaam | C3: ODMH namens gemeente Zuidplas | E3: Saneringsprogramma N207 Henegouwerweg Waddinxveen
A4: project: | C4: Aanvraag saneringsprogramma (combinatie projecten bij BSV: 577.218.05/576.239.00) | D4: Projectnummer BSV | E4: 777.055.00
A6: nr | B6: WNP | C6: omschrijving WNP | D6: Adres | E6: Huisnummer en toevoegingen | H6: postcode | I6: plaats | J6: kadastrale gegevens | K6: Maatgevende weg | L6: bouwjaar | M6: opmerkingen (o.a. contactmomenten) | N6: status | Q6: hoogte (m) | R6: Lden 2030 excl aftrek (dB) | T6: aftrek | U6: Lden 2030 incl aftrek (dB) | V6: vast te stellen HW | X6: aantal woningen | Y6: gesloopt | Z6: 30 Km/u weg | AA6: gerenoveerd | AB6: gewijzigd van bestemming | AC6: reeds maatregelen getroffen | AG6: Voorschot
A7: 1 | B7: ='N207 50km'!A7 -> Z95_B | C7: ='N207 50km'!B7 -> Zuidkade 95 | D7: {=_xlfn.TEXTSPLIT(C7," ")} -> Zuidkade | E7: 95 | H7: =VLOOKUP(C7,'ICT gegevens'!$A$6:$B$186,2,TRUE) -> 2741JE | I7: Waddinxveen | J7: =VLOOKUP(C7,'ICT gegevens'!$A$6:$F$186,6,TRUE) -> WDV01D2651 | K7: N207 | L7: =VLOOKUP(C7,'ICT gegevens'!$A$6:$G$186,7,TRUE) -> 1974 | N7: =VLOOKUP(C7,'ICT gegevens'!$A$6:$E$186,5,TRUE) -> Wonen | Q7: ='N207 50km'!C7 -> 4.5 | R7: =IF('N207'!D7="--",6,'N207'!D7) -> 57.1 | S7: =IF(MOD(R7,1)=0.5,INT(R7)+MOD(INT(R7),2),ROUND(R7,0)) -> 57 | T7: =S7-U7 -> 3 | U7: ='overzicht alle wegen'!L8 -> 54 | V7: 54 | X7: 1 | AG7: 0
B8: ='N207 50km'!A8 -> Z95_A | C8: ='N207 50km'!B8 -> Zuidkade 95 | D8: {=_xlfn.TEXTSPLIT(C8," ")} -> Zuidkade | E8: 95 | H8: =VLOOKUP(C8,'ICT gegevens'!$A$6:$B$186,2,TRUE) -> 2741JE | I8: Waddinxveen | J8: =VLOOKUP(C8,'ICT gegevens'!$A$6:$F$186,6,TRUE) -> WDV01D2651 | K8: N207 | L8: =VLOOKUP(C8,'ICT gegevens'!$A$6:$G$186,7,TRUE) -> 1974 | N8: =VLOOKUP(C8,'ICT gegevens'!$A$6:$E$186,5,TRUE) -> Wonen | Q8: ='N207 50km'!C8 -> 1.5 | R8: =IF('N207'!D8="--",6,'N207'!D8) -> 56.1 | S8: =IF(MOD(R8,1)=0.5,INT(R8)+MOD(INT(R8),2),ROUND(R8,0)) -> 56 | T8: =S8-U8 -> 2 | U8: ='overzicht alle wegen'!L9 -> 54
A9: 2 | B9: ='N207 50km'!A9 -> Z93_B | C9: ='N207 50km'!B9 -> Zuidkade 93 | D9: {=_xlfn.TEXTSPLIT(C9," ")} -> Zuidkade | E9: 93 | H9: =VLOOKUP(C9,'ICT gegevens'!$A$6:$B$186,2,TRUE) -> 2741JE | I9: Waddinxveen | J9: =VLOOKUP(C9,'ICT gegevens'!$A$6:$F$186,6,TRUE) -> WDV01D1898 | K9: N207 | L9: =VLOOKUP(C9,'ICT gegevens'!$A$6:$G$186,7,TRUE) -> 1926 | N9: =VLOOKUP(C9,'ICT gegevens'!$A$6:$E$186,5,TRUE) -> Wonen | Q9: ='N207 50km'!C9 -> 4.5 | R9: =IF('N207'!D9="--",6,'N207'!D9) -> 57.1 | S9: =IF(MOD(R9,1)=0.5,INT(R9)+MOD(INT(R9),2),ROUND(R9,0)) -> 57 | T9: =S9-U9 -> 3 | U9: ='overzicht alle wegen'!L10 -> 54 | V9: 54 | X9: 1 | AG9: 0
B10: ='N207 50km'!A10 -> Z93_A | C10: ='N207 50km'!B10 -> Zuidkade 93 | D10: {=_xlfn.TEXTSPLIT(C10," ")} -> Zuidkade | E10: 93 | H10: =VLOOKUP(C10,'ICT gegevens'!$A$6:$B$186,2,TRUE) -> 2741JE | I10: Waddinxveen | J10: =VLOOKUP(C10,'ICT gegevens'!$A$6:$F$186,6,TRUE) -> WDV01D1898 | K10: N207 | L10: =VLOOKUP(C10,'ICT gegevens'!$A$6:$G$186,7,TRUE) -> 1926 | N10: =VLOOKUP(C10,'ICT gegevens'!$A$6:$E$186,5,TRUE) -> Wonen | Q10: ='N207 50km'!C10 -> 1.5 | R10: =IF('N207'!D10="--",6,'N207'!D10) -> 56 | S10: =IF(MOD(R10,1)=0.5,INT(R10)+MOD(INT(R10),2),ROUND(R10,0)) -> 56 | T10: =S10-U10 -> 3 | U10: ='overzicht alle wegen'!L11 -> 53
A11: 3 | B11: ='N207 50km'!A11 -> Z92_B | C11: ='N207 50km'!B11 -> Zuidkade 92 | D11: {=_xlfn.TEXTSPLIT(C11," ")} -> Zuidkade | E11: 92 | H11: =VLOOKUP(C11,'ICT gegevens'!$A$6:$B$186,2,TRUE) -> 2741JE | I11: Waddinxveen | J11: =VLOOKUP(C11,'ICT gegevens'!$A$6:$F$186,6,TRUE) -> WDV01D904 | K11: N207 | L11: =VLOOKUP(C11,'ICT gegevens'!$A$6:$G$186,7,TRUE) -> 1910 | N11: =VLOOKUP(C11,'ICT gegevens'!$A$6:$E$186,5,TRUE) -> Wonen | Q11: ='N207 50km'!C11 -> 4.5 | R11: =IF('N207'!D11="--",6,'N207'!D11) -> 57.5 | S11: =IF(MOD(R11,1)=0.5,INT(R11)+MOD(INT(R11),2),ROUND(R11,0)) -> 58 | T11: =S11-U11 -> 4 | U11: ='overzicht alle wegen'!L12 -> 54 | V11: 54 | X11: 1 | AG11: 0
B12: ='N207 50km'!A12 -> Z92_A | C12: ='N207 50km'!B12 -> Zuidkade 92 | D12: {=_xlfn.TEXTSPLIT(C12," ")} -> Zuidkade | E12: 92 | H12: =VLOOKUP(C12,'ICT gegevens'!$A$6:$B$186,2,TRUE) -> 2741JE | I12: Waddinxveen | J12: =VLOOKUP(C12,'ICT gegevens'!$A$6:$F$186,6,TRUE) -> WDV01D904 | K12: N207 | L12: =VLOOKUP(C12,'ICT gegevens'!$A$6:$G$186,7,TRUE) -> 1910 | N12: =VLOOKUP(C12,'ICT gegevens'!$A$6:$E$186,5,TRUE) -> Wonen | Q12: ='N207 50km'!C12 -> 1.5 | R12: =IF('N207'!D12="--",6,'N207'!D12) -> 56.3 | S12: =IF(MOD(R12,1)=0.5,INT(R12)+MOD(INT(R12),2),ROUND(R12,0)) -> 56 | T12: =S12-U12 -> 3 | U12: ='overzicht alle wegen'!L13 -> 53
A13: 4 | B13: ='N207 50km'!A13 -> Z90g_C | C13: ='N207 50km'!B13 -> Zuidkade 90g | D13: {=_xlfn.TEXTSPLIT(C13," ")} -> Zuidkade | E13: 90g | H13: =VLOOKUP(C13,'ICT gegevens'!$A$6:$B$186,2,TRUE) -> 2741JE | I13: Waddinxveen | J13: =VLOOKUP(C13,'ICT gegevens'!$A$6:$F$186,6,TRUE) -> WDV01D1813 | K13: N207 | L13: =VLOOKUP(C13,'ICT gegevens'!$A$6:$G$186,7,TRUE) -> 1939 | N13: =VLOOKUP(C13,'ICT gegevens'!$A$6:$E$186,5,TRUE) -> Wonen | Q13: ='N207 50km'!C13 -> 7.5 | R13: =IF('N207'!D13="--",6,'N207'!D13) -> 58 | S13: =IF(MOD(R13,1)=0.5,INT(R13)+MOD(INT(R13),2),ROUND(R13,0)) -> 58 | T13: =S13-U13 -> 3 | U13: ='overzicht alle wegen'!L14 -> 55 | V13: 55 | X13: 1 | AG13: 0
B14: ='N207 50km'!A14 -> Z90g_B | C14: ='N207 50km'!B14 -> Zuidkade 90g | D14: {=_xlfn.TEXTSPLIT(C14," ")} -> Zuidkade | E14: 90g | H14: =VLOOKUP(C14,'ICT gegevens'!$A$6:$B$186,2,TRUE) -> 2741JE | I14: Waddinxveen | J14: =VLOOKUP(C14,'ICT gegevens'!$A$6:$F$186,6,TRUE) -> WDV01D1813 | K14: N207 | L14: =VLOOKUP(C14,'ICT gegevens'!$A$6:$G$186,7,TRUE) -> 1939 | N14: =VLOOKUP(C14,'ICT gegevens'!$A$6:$E$186,5,TRUE) -> Wonen | Q14: ='N207 50km'!C14 -> 4.5 | R14: =IF('N207'!D14="--",6,'N207'!D14) -> 57.4 | S14: =IF(MOD(R14,1)=0.5,INT(R14)+MOD(INT(R14),2),ROUND(R14,0)) -> 57 | T14: =S14-U14 -> 3 | U14: ='overzicht alle wegen'!L15 -> 54
B15: ='N207 50km'!A15 -> Z90g_A | C15: ='N207 50km'!B15 -> Zuidkade 90g | D15: {=_xlfn.TEXTSPLIT(C15," ")} -> Zuidkade | E15: 90g | H15: =VLOOKUP(C15,'ICT gegevens'!$A$6:$B$186,2,TRUE) -> 2741JE | I15: Waddinxveen | J15: =VLOOKUP(C15,'ICT gegevens'!$A$6:$F$186,6,TRUE) -> WDV01D1813 | K15: N207 | L15: =VLOOKUP(C15,'ICT gegevens'!$A$6:$G$186,7,TRUE) -> 1939 | N15: =VLOOKUP(C15,'ICT gegevens'!$A$6:$E$186,5,TRUE) -> Wonen | Q15: ='N207 50km'!C15 -> 1.5 | R15: =IF('N207'!D15="--",6,'N207'!D15) -> 56.4 | S15: =IF(MOD(R15,1)=0.5,INT(R15)+MOD(INT(R15),2),ROUND(R15,0)) -> 56 | T15: =S15-U15 -> 3 | U15: ='overzicht alle wegen'!L16 -> 53
A16: 5 | B16: ='N207 50km'!A16 -> Z90f_C | C16: ='N207 50km'!B16 -> Zuidkade 90f | D16: {=_xlfn.TEXTSPLIT(C16," ")} -> Zuidkade | E16: 90f | H16: =VLOOKUP(C16,'ICT gegevens'!$A$6:$B$186,2,TRUE) -> 2741JE | I16: Waddinxveen | J16: =VLOOKUP(C16,'ICT gegevens'!$A$6:$F$186,6,TRUE) -> WDV01D1812 | K16: N207 | L16: =VLOOKUP(C16,'ICT gegevens'!$A$6:$G$186,7,TRUE) -> 1939 | N16: =VLOOKUP(C16,'ICT gegevens'!$A$6:$E$186,5,TRUE) -> Wonen | Q16: ='N207 50km'!C16 -> 7.5 | R16: =IF('N207'!D16="--",6,'N207'!D16) -> 58 | S16: =IF(MOD(R16,1)=0.5,INT(R16)+MOD(INT(R16),2),ROUND(R16,0)) -> 58 | T16: =S16-U16 -> 3 | U16: ='overzicht alle wegen'!L17 -> 55 | V16: 55 | X16: 1 | AG16: 0
B17: ='N207 50km'!A17 -> Z90f_B | C17: ='N207 50km'!B17 -> Zuidkade 90f | D17: {=_xlfn.TEXTSPLIT(C17," ")} -> Zuidkade | E17: 90f | H17: =VLOOKUP(C17,'ICT gegevens'!$A$6:$B$186,2,TRUE) -> 2741JE | I17: Waddinxveen | J17: =VLOOKUP(C17,'ICT gegevens'!$A$6:$F$186,6,TRUE) -> WDV01D1812 | K17: N207 | L17: =VLOOKUP(C17,'ICT gegevens'!$A$6:$G$186,7,TRUE) -> 1939 | N17: =VLOOKUP(C17,'ICT gegevens'!$A$6:$E$186,5,TRUE) -> Wonen | Q17: ='N207 50km'!C17 -> 4.5 | R17: =IF('N207'!D17="--",6,'N207'!D17) -> 57.4 | S17: =IF(MOD(R17,1)=0.5,INT(R17)+MOD(INT(R17),2),ROUND(R17,0)) -> 57 | T17: =S17-U17 -> 3 | U17: ='overzicht alle wegen'!L18 -> 54
B18: ='N207 50km'!A18 -> Z90f_A | C18: ='N207 50km'!B18 -> Zuidkade 90f | D18: {=_xlfn.TEXTSPLIT(C18," ")} -> Zuidkade | E18: 90f | H18: =VLOOKUP(C18,'ICT gegevens'!$A$6:$B$186,2,TRUE) -> 2741JE | I18: Waddinxveen | J18: =VLOOKUP(C18,'ICT gegevens'!$A$6:$F$186,6,TRUE) -> WDV01D1812 | K18: N207 | L18: =VLOOKUP(C18,'ICT gegevens'!$A$6:$G$186,7,TRUE) -> 1939 | N18: =VLOOKUP(C18,'ICT gegevens'!$A$6:$E$186,5,TRUE) -> Wonen | Q18: ='N207 50km'!C18 -> 1.5 | R18: =IF('N207'!D18="--",6,'N207'!D18) -> 56.3 | S18: =IF(MOD(R18,1)=0.5,INT(R18)+MOD(INT(R18),2),ROUND(R18,0)) -> 56 | T18: =S18-U18 -> 3 | U18: ='overzicht alle wegen'!L19 -> 53
A19: 6 | B19: ='N207 50km'!A19 -> Z90e_C | C19: ='N207 50km'!B19 -> Zuidkade 90e | D19: {=_xlfn.TEXTSPLIT(C19," ")} -> Zuidkade | E19: 90e | H19: =VLOOKUP(C19,'ICT gegevens'!$A$6:$B$186,2,TRUE) -> 2741JE | I19: Waddinxveen | J19: =VLOOKUP(C19,'ICT gegevens'!$A$6:$F$186,6,TRUE) -> WDV01D2013 | K19: N207 | L19: =VLOOKUP(C19,'ICT gegevens'!$A$6:$G$186,7,TRUE) -> 1939 | N19: =VLOOKUP(C19,'ICT gegevens'!$A$6:$E$186,5,TRUE) -> Wonen | Q19: ='N207 50km'!C19 -> 7.5 | R19: =IF('N207'!D19="--",6,'N207'!D19) -> 58.1 | S19: =IF(MOD(R19,1)=0.5,INT(R19)+MOD(INT(R19),2),ROUND(R19,0)) -> 58 | T19: =S19-U19 -> 3 | U19: ='overzicht alle wegen'!L20 -> 55 | V19: 55 | X19: 1 | AG19: 0
B20: ='N207 50km'!A20 -> Z90e_B | C20: ='N207 50km'!B20 -> Zuidkade 90e | D20: {=_xlfn.TEXTSPLIT(C20," ")} -> Zuidkade | E20: 90e | H20: =VLOOKUP(C20,'ICT gegevens'!$A$6:$B$186,2,TRUE) -> 2741JE | I20: Waddinxveen | J20: =VLOOKUP(C20,'ICT gegevens'!$A$6:$F$186,6,TRUE) -> WDV01D2013 | K20: N207 | L20: =VLOOKUP(C20,'ICT gegevens'!$A$6:$G$186,7,TRUE) -> 1939 | N20: =VLOOKUP(C20,'ICT gegevens'!$A$6:$E$186,5,TRUE) -> Wonen | Q20: ='N207 50km'!C20 -> 4.5 | R20: =IF('N207'!D20="--",6,'N207'!D20) -> 57.4 | S20: =IF(MOD(R20,1)=0.5,INT(R20)+MOD(INT(R20),2),ROUND(R20,0)) -> 57 | T20: =S20-U20 -> 3 | U20: ='overzicht alle wegen'!L21 -> 54
B21: ='N207 50km'!A21 -> Z90e_A | C21: ='N207 50km'!B21 -> Zuidkade 90e | D21: {=_xlfn.TEXTSPLIT(C21," ")} -> Zuidkade | E21: 90e | H21: =VLOOKUP(C21,'ICT gegevens'!$A$6:$B$186,2,TRUE) -> 2741JE | I21: Waddinxveen | J21: =VLOOKUP(C21,'ICT gegevens'!$A$6:$F$186,6,TRUE) -> WDV01D2013 | K21: N207 | L21: =VLOOKUP(C21,'ICT gegevens'!$A$6:$G$186,7,TRUE) -> 1939 | N21: =VLOOKUP(C21,'ICT gegevens'!$A$6:$E$186,5,TRUE) -> Wonen | Q21: ='N207 50km'!C21 -> 1.5 | R21: =IF('N207'!D21="--",6,'N207'!D21) -> 56.3 | S21: =IF(MOD(R21,1)=0.5,INT(R21)+MOD(INT(R21),2),ROUND(R21,0)) -> 56 | T21: =S21-U21 -> 3 | U21: ='overzicht alle wegen'!L22 -> 53
A22: 7 | B22: ='N207 50km'!A22 -> Z90d_C | C22: ='N207 50km'!B22 -> Zuidkade 90d | D22: {=_xlfn.TEXTSPLIT(C22," ")} -> Zuidkade | E22: 90d | H22: =VLOOKUP(C22,'ICT gegevens'!$A$6:$B$186,2,TRUE) -> 2741JE | I22: Waddinxveen | J22: =VLOOKUP(C22,'ICT gegevens'!$A$6:$F$186,6,TRUE) -> WDV01D2012 | K22: N207 | L22: =VLOOKUP(C22,'ICT gegevens'!$A$6:$G$186,7,TRUE) -> 1939 | N22: =VLOOKUP(C22,'ICT gegevens'!$A$6:$E$186,5,TRUE) -> Wonen | Q22: ='N207 50km'!C22 -> 7.5 | R22: =IF('N207'!D22="--",6,'N207'!D22) -> 58 | S22: =IF(MOD(R22,1)=0.5,INT(R22)+MOD(INT(R22),2),ROUND(R22,0)) -> 58 | T22: =S22-U22 -> 3 | U22: ='overzicht alle wegen'!L23 -> 55 | V22: 55 | X22: 1 | AG22: 0
B23: ='N207 50km'!A23 -> Z90d_B | C23: ='N207 50km'!B23 -> Zuidkade 90d | D23: {=_xlfn.TEXTSPLIT(C23," ")} -> Zuidkade | E23: 90d | H23: =VLOOKUP(C23,'ICT gegevens'!$A$6:$B$186,2,TRUE) -> 2741JE | I23: Waddinxveen | J23: =VLOOKUP(C23,'ICT gegevens'!$A$6:$F$186,6,TRUE) -> WDV01D2012 | K23: N207 | L23: =VLOOKUP(C23,'ICT gegevens'!$A$6:$G$186,7,TRUE) -> 1939 | N23: =VLOOKUP(C23,'ICT gegevens'!$A$6:$E$186,5,TRUE) -> Wonen | Q23: ='N207 50km'!C23 -> 4.5 | R23: =IF('N207'!D23="--",6,'N207'!D23) -> 57.4 | S23: =IF(MOD(R23,1)=0.5,INT(R23)+MOD(INT(R23),2),ROUND(R23,0)) -> 57 | T23: =S23-U23 -> 3 | U23: ='overzicht alle wegen'!L24 -> 54
B24: ='N207 50km'!A24 -> Z90d_A | C24: ='N207 50km'!B24 -> Zuidkade 90d | D24: {=_xlfn.TEXTSPLIT(C24," ")} -> Zuidkade | E24: 90d | H24: =VLOOKUP(C24,'ICT gegevens'!$A$6:$B$186,2,TRUE) -> 2741JE | I24: Waddinxveen | J24: =VLOOKUP(C24,'ICT gegevens'!$A$6:$F$186,6,TRUE) -> WDV01D2012 | K24: N207 | L24: =VLOOKUP(C24,'ICT gegevens'!$A$6:$G$186,7,TRUE) -> 1939 | N24: =VLOOKUP(C24,'ICT gegevens'!$A$6:$E$186,5,TRUE) -> Wonen | Q24: ='N207 50km'!C24 -> 1.5 | R24: =IF('N207'!D24="--",6,'N207'!D24) -> 56.3 | S24: =IF(MOD(R24,1)=0.5,INT(R24)+MOD(INT(R24),2),ROUND(R24,0)) -> 56 | T24: =S24-U24 -> 3 | U24: ='overzicht alle wegen'!L25 -> 53
A25: 8 | B25: ='N207 50km'!A25 -> Z90c_C | C25: ='N207 50km'!B25 -> Zuidkade 90c | D25: {=_xlfn.TEXTSPLIT(C25," ")} -> Zuidkade | E25: 90c | H25: =VLOOKUP(C25,'ICT gegevens'!$A$6:$B$186,2,TRUE) -> 2741JE | I25: Waddinxveen | J25: =VLOOKUP(C25,'ICT gegevens'!$A$6:$F$186,6,TRUE) -> WDV01D1978 | K25: N207 | L25: =VLOOKUP(C25,'ICT gegevens'!$A$6:$G$186,7,TRUE) -> 1938 | N25: =VLOOKUP(C25,'ICT gegevens'!$A$6:$E$186,5,TRUE) -> Wonen | Q25: ='N207 50km'!C25 -> 7.5 | R25: =IF('N207'!D25="--",6,'N207'!D25) -> 57.8 | S25: =IF(MOD(R25,1)=0.5,INT(R25)+MOD(INT(R25),2),ROUND(R25,0)) -> 58 | T25: =S25-U25 -> 4 | U25: ='overzicht alle wegen'!L26 -> 54 | V25: 54 | X25: 1 | AG25: 0
B26: ='N207 50km'!A26 -> Z90c_B | C26: ='N207 50km'!B26 -> Zuidkade 90c | D26: {=_xlfn.TEXTSPLIT(C26," ")} -> Zuidkade | E26: 90c | H26: =VLOOKUP(C26,'ICT gegevens'!$A$6:$B$186,2,TRUE) -> 2741JE | I26: Waddinxveen | J26: =VLOOKUP(C26,'ICT gegevens'!$A$6:$F$186,6,TRUE) -> WDV01D1978 | K26: N207 | L26: =VLOOKUP(C26,'ICT gegevens'!$A$6:$G$186,7,TRUE) -> 1938 | N26: =VLOOKUP(C26,'ICT gegevens'!$A$6:$E$186,5,TRUE) -> Wonen | Q26: ='N207 50km'!C26 -> 4.5 | R26: =IF('N207'!D26="--",6,'N207'!D26) -> 57.2 | S26: =IF(MOD(R26,1)=0.5,INT(R26)+MOD(INT(R26),2),ROUND(R26,0)) -> 57 | T26: =S26-U26 -> 4 | U26: ='overzicht alle wegen'!L27 -> 53
B27: ='N207 50km'!A27 -> Z90c_A | C27: ='N207 50km'!B27 -> Zuidkade 90c | D27: {=_xlfn.TEXTSPLIT(C27," ")} -> Zuidkade | E27: 90c | H27: =VLOOKUP(C27,'ICT gegevens'!$A$6:$B$186,2,TRUE) -> 2741JE | I27: Waddinxveen | J27: =VLOOKUP(C27,'ICT gegevens'!$A$6:$F$186,6,TRUE) -> WDV01D1978 | K27: N207 | L27: =VLOOKUP(C27,'ICT gegevens'!$A$6:$G$186,7,TRUE) -> 1938 | N27: =VLOOKUP(C27,'ICT gegevens'!$A$6:$E$186,5,TRUE) -> Wonen | Q27: ='N207 50km'!C27 -> 1.5 | R27: =IF('N207'!D27="--",6,'N207'!D27) -> 56 | S27: =IF(MOD(R27,1)=0.5,INT(R27)+MOD(INT(R27),2),ROUND(R27,0)) -> 56 | T27: =S27-U27 -> 4 | U27: ='overzicht alle wegen'!L28 -> 52
A28: 9 | B28: ='N207 50km'!A28 -> Z90b_C | C28: ='N207 50km'!B28 -> Zuidkade 90b | D28: {=_xlfn.TEXTSPLIT(C28," ")} -> Zuidkade | E28: 90b | H28: =VLOOKUP(C28,'ICT gegevens'!$A$6:$B$186,2,TRUE) -> 2741JE | I28: Waddinxveen | J28: =VLOOKUP(C28,'ICT gegevens'!$A$6:$F$186,6,TRUE) -> WDV01D1977 | K28: N207 | L28: =VLOOKUP(C28,'ICT gegevens'!$A$6:$G$186,7,TRUE) -> 1938 | N28: =VLOOKUP(C28,'ICT gegevens'!$A$6:$E$186,5,TRUE) -> Wonen | Q28: ='N207 50km'!C28 -> 7.5 | R28: =IF('N207'!D28="--",6,'N207'!D28) -> 57.9 | S28: =IF(MOD(R28,1)=0.5,INT(R28)+MOD(INT(R28),2),ROUND(R28,0)) -> 58 | T28: =S28-U28 -> 4 | U28: ='overzicht alle wegen'!L29 -> 54 | V28: 54 | X28: 1 | AG28: 0
B29: ='N207 50km'!A29 -> Z90b_B | C29: ='N207 50km'!B29 -> Zuidkade 90b | D29: {=_xlfn.TEXTSPLIT(C29," ")} -> Zuidkade | E29: 90b | H29: =VLOOKUP(C29,'ICT gegevens'!$A$6:$B$186,2,TRUE) -> 2741JE | I29: Waddinxveen | J29: =VLOOKUP(C29,'ICT gegevens'!$A$6:$F$186,6,TRUE) -> WDV01D1977 | K29: N207 | L29: =VLOOKUP(C29,'ICT gegevens'!$A$6:$G$186,7,TRUE) -> 1938 | N29: =VLOOKUP(C29,'ICT gegevens'!$A$6:$E$186,5,TRUE) -> Wonen | Q29: ='N207 50km'!C29 -> 4.5 | R29: =IF('N207'!D29="--",6,'N207'!D29) -> 57.2 | S29: =IF(MOD(R29,1)=0.5,INT(R29)+MOD(INT(R29),2),ROUND(R29,0)) -> 57 | T29: =S29-U29 -> 4 | U29: ='overzicht alle wegen'!L30 -> 53
B30: ='N207 50km'!A30 -> Z90b_A | C30: ='N207 50km'!B30 -> Zuidkade 90b | D30: {=_xlfn.TEXTSPLIT(C30," ")} -> Zuidkade | E30: 90b | H30: =VLOOKUP(C30,'ICT gegevens'!$A$6:$B$186,2,TRUE) -> 2741JE | I30: Waddinxveen | J30: =VLOOKUP(C30,'ICT gegevens'!$A$6:$F$186,6,TRUE) -> WDV01D1977 | K30: N207 | L30: =VLOOKUP(C30,'ICT gegevens'!$A$6:$G$186,7,TRUE) -> 1938 | N30: =VLOOKUP(C30,'ICT gegevens'!$A$6:$E$186,5,TRUE) -> Wonen | Q30: ='N207 50km'!C30 -> 1.5 | R30: =IF('N207'!D30="--",6,'N207'!D30) -> 56.1 | S30: =IF(MOD(R30,1)=0.5,INT(R30)+MOD(INT(R30),2),ROUND(R30,0)) -> 56 | T30: =S30-U30 -> 4 | U30: ='overzicht alle wegen'!L31 -> 52
A31: 10 | B31: ='N207 50km'!A4 -> Z9_C | C31: ='N207 50km'!B4 -> Zuidkade 9 | D31: {=_xlfn.TEXTSPLIT(C31," ")} -> Zuidkade | E31: 9 | H31: =VLOOKUP(C31,'ICT gegevens'!$A$6:$B$186,2,TRUE) -> 2741JA | I31: Waddinxveen | J31: =VLOOKUP(C31,'ICT gegevens'!$A$6:$F$186,6,TRUE) -> WDV01D2632 | K31: N207 | L31: =VLOOKUP(C31,'ICT gegevens'!$A$6:$G$186,7,TRUE) -> 1920 | N31: =VLOOKUP(C31,'ICT gegevens'!$A$6:$E$186,5,TRUE) -> Wonen | Q31: ='N207 50km'!C4 -> 7.5 | R31: =IF('N207'!D4="--",6,'N207'!D4) -> 60.5 | S31: =IF(MOD(R31,1)=0.5,INT(R31)+MOD(INT(R31),2),ROUND(R31,0)) -> 60 | T31: =S31-U31 -> 5 | U31: ='overzicht alle wegen'!L5 -> 55 | V31: 55 | X31: 1 | AG31: 0
B32: ='N207 50km'!A5 -> Z9_B | C32: ='N207 50km'!B5 -> Zuidkade 9 | D32: {=_xlfn.TEXTSPLIT(C32," ")} -> Zuidkade | E32: 9 | H32: =VLOOKUP(C32,'ICT gegevens'!$A$6:$B$186,2,TRUE) -> 2741JA | I32: Waddinxveen | J32: =VLOOKUP(C32,'ICT gegevens'!$A$6:$F$186,6,TRUE) -> WDV01D2632 | K32: N207 | L32: =VLOOKUP(C32,'ICT gegevens'!$A$6:$G$186,7,TRUE) -> 1920 | N32: =VLOOKUP(C32,'ICT gegevens'!$A$6:$E$186,5,TRUE) -> Wonen | Q32: ='N207 50km'!C5 -> 4.5 | R32: =IF('N207'!D5="--",6,'N207'!D5) -> 60.1 | S32: =IF(MOD(R32,1)=0.5,INT(R32)+MOD(INT(R32),2),ROUND(R32,0)) -> 60 | T32: =S32-U32 -> 5 | U32: ='overzicht alle wegen'!L6 -> 55
B33: ='N207 50km'!A6 -> Z9_A | C33: ='N207 50km'!B6 -> Zuidkade 9 | D33: {=_xlfn.TEXTSPLIT(C33," ")} -> Zuidkade | E33: 9 | H33: =VLOOKUP(C33,'ICT gegevens'!$A$6:$B$186,2,TRUE) -> 2741JA | I33: Waddinxveen | J33: =VLOOKUP(C33,'ICT gegevens'!$A$6:$F$186,6,TRUE) -> WDV01D2632 | K33: N207 | L33: =VLOOKUP(C33,'ICT gegevens'!$A$6:$G$186,7,TRUE) -> 1920 | N33: =VLOOKUP(C33,'ICT gegevens'!$A$6:$E$186,5,TRUE) -> Wonen | Q33: ='N207 50km'!C6 -> 1.5 | R33: =IF('N207'!D6="--",6,'N207'!D6) -> 58.7 | S33: =IF(MOD(R33,1)=0.5,INT(R33)+MOD(INT(R33),2),ROUND(R33,0)) -> 59 | T33: =S33-U33 -> 5 | U33: ='overzicht alle wegen'!L7 -> 54
A34: 11 | B34: ='N207 50km'!A34 -> Z85_C | C34: ='N207 50km'!B34 -> Zuidkade 85 | D34: {=_xlfn.TEXTSPLIT(C34," ")} -> Zuidkade | E34: 85 | H34: =VLOOKUP(C34,'ICT gegevens'!$A$6:$B$186,2,TRUE) -> 2741JD | I34: Waddinxveen | J34: =VLOOKUP(C34,'ICT gegevens'!$A$6:$F$186,6,TRUE) -> WDV01D2819 | K34: N207 | L34: =VLOOKUP(C34,'ICT gegevens'!$A$6:$G$186,7,TRUE) -> 1987 | M34: Nieuwbouw | N34: =VLOOKUP(C34,'ICT gegevens'!$A$6:$E$186,5,TRUE) -> Wonen | Q34: ='N207 50km'!C34 -> 7.5 | R34: =IF('N207'!D34="--",6,'N207'!D34) -> 57.9 | S34: =IF(MOD(R34,1)=0.5,INT(R34)+MOD(INT(R34),2),ROUND(R34,0)) -> 58 | T34: =S34-U34 -> 5 | U34: ='overzicht alle wegen'!L35 -> 53 | AA34: 1 | AF34: =C34 -> Zuidkade 85 | AG34: 0
B35: ='N207 50km'!A35 -> Z85_B | C35: ='N207 50km'!B35 -> Zuidkade 85 | D35: {=_xlfn.TEXTSPLIT(C35," ")} -> Zuidkade | E35: 85 | H35: =VLOOKUP(C35,'ICT gegevens'!$A$6:$B$186,2,TRUE) -> 2741JD | I35: Waddinxveen | J35: =VLOOKUP(C35,'ICT gegevens'!$A$6:$F$186,6,TRUE) -> WDV01D2819 | K35: N207 | L35: =VLOOKUP(C35,'ICT gegevens'!$A$6:$G$186,7,TRUE) -> 1987 | N35: =VLOOKUP(C35,'ICT gegevens'!$A$6:$E$186,5,TRUE) -> Wonen | Q35: ='N207 50km'!C35 -> 4.5 | R35: =IF('N207'!D35="--",6,'N207'!D35) -> 57.2 | S35: =IF(MOD(R35,1)=0.5,INT(R35)+MOD(INT(R35),2),ROUND(R35,0)) -> 57 | T35: =S35-U35 -> 4 | U35: ='overzicht alle wegen'!L36 -> 53
B36: ='N207 50km'!A36 -> Z85_A | C36: ='N207 50km'!B36 -> Zuidkade 85 | D36: {=_xlfn.TEXTSPLIT(C36," ")} -> Zuidkade | E36: 85 | H36: =VLOOKUP(C36,'ICT gegevens'!$A$6:$B$186,2,TRUE) -> 2741JD | I36: Waddinxveen | J36: =VLOOKUP(C36,'ICT gegevens'!$A$6:$F$186,6,TRUE) -> WDV01D2819 | K36: N207 | L36: =VLOOKUP(C36,'ICT gegevens'!$A$6:$G$186,7,TRUE) -> 1987 | N36: =VLOOKUP(C36,'ICT gegevens'!$A$6:$E$186,5,TRUE) -> Wonen | Q36: ='N207 50km'!C36 -> 1.5 | R36: =IF('N207'!D36="--",6,'N207'!D36) -> 56.1 | S36: =IF(MOD(R36,1)=0.5,INT(R36)+MOD(INT(R36),2),ROUND(R36,0)) -> 56 | T36: =S36-U36 -> 5 | U36: ='overzicht alle wegen'!L37 -> 51
A37: 12 | B37: ='N207 50km'!A37 -> Z84_C | C37: ='N207 50km'!B37 -> Zuidkade 84 | D37: {=_xlfn.TEXTSPLIT(C37," ")} -> Zuidkade | E37: 84 | H37: =VLOOKUP(C37,'ICT gegevens'!$A$6:$B$186,2,TRUE) -> 2741JD | I37: Waddinxveen | J37: =VLOOKUP(C37,'ICT gegevens'!$A$6:$F$186,6,TRUE) -> WDV01D2820 | K37: N207 | L37: =VLOOKUP(C37,'ICT gegevens'!$A$6:$G$186,7,TRUE) -> 1987 | M37: Nieuwbouw | N37: =VLOOKUP(C37,'ICT gegevens'!$A$6:$E$186,5,TRUE) -> Wonen | Q37: ='N207 50km'!C37 -> 7.5 | R37: =IF('N207'!D37="--",6,'N207'!D37) -> 57.8 | S37: =IF(MOD(R37,1)=0.5,INT(R37)+MOD(INT(R37),2),ROUND(R37,0)) -> 58 | T37: =S37-U37 -> 5 | U37: ='overzicht alle wegen'!L38 -> 53 | AA37: 1 | AF37: =C37 -> Zuidkade 84 | AG37: 0
B38: ='N207 50km'!A38 -> Z84_B | C38: ='N207 50km'!B38 -> Zuidkade 84 | D38: {=_xlfn.TEXTSPLIT(C38," ")} -> Zuidkade | E38: 84 | H38: =VLOOKUP(C38,'ICT gegevens'!$A$6:$B$186,2,TRUE) -> 2741JD | I38: Waddinxveen | J38: =VLOOKUP(C38,'ICT gegevens'!$A$6:$F$186,6,TRUE) -> WDV01D2820 | K38: N207 | L38: =VLOOKUP(C38,'ICT gegevens'!$A$6:$G$186,7,TRUE) -> 1987 | N38: =VLOOKUP(C38,'ICT gegevens'!$A$6:$E$186,5,TRUE) -> Wonen | Q38: ='N207 50km'!C38 -> 4.5 | R38: =IF('N207'!D38="--",6,'N207'!D38) -> 57.1 | S38: =IF(MOD(R38,1)=0.5,INT(R38)+MOD(INT(R38),2),ROUND(R38,0)) -> 57 | T38: =S38-U38 -> 4 | U38: ='overzicht alle wegen'!L39 -> 53
B39: ='N207 50km'!A39 -> Z84_A | C39: ='N207 50km'!B39 -> Zuidkade 84 | D39: {=_xlfn.TEXTSPLIT(C39," ")} -> Zuidkade | E39: 84 | H39: =VLOOKUP(C39,'ICT gegevens'!$A$6:$B$186,2,TRUE) -> 2741JD | I39: Waddinxveen | J39: =VLOOKUP(C39,'ICT gegevens'!$A$6:$F$186,6,TRUE) -> WDV01D2820 | K39: N207 | L39: =VLOOKUP(C39,'ICT gegevens'!$A$6:$G$186,7,TRUE) -> 1987 | N39: =VLOOKUP(C39,'ICT gegevens'!$A$6:$E$186,5,TRUE) -> Wonen | Q39: ='N207 50km'!C39 -> 1.5 | R39: =IF('N207'!D39="--",6,'N207'!D39) -> 56 | S39: =IF(MOD(R39,1)=0.5,INT(R39)+MOD(INT(R39),2),ROUND(R39,0)) -> 56 | T39: =S39-U39 -> 5 | U39: ='overzicht alle wegen'!L40 -> 51
A40: 13 | B40: ='N207 50km'!A40 -> Z83_C | C40: ='N207 50km'!B40 -> Zuidkade 83 | D40: {=_xlfn.TEXTSPLIT(C40," ")} -> Zuidkade | E40: 83 | H40: =VLOOKUP(C40,'ICT gegevens'!$A$6:$B$186,2,TRUE) -> 2741JD | I40: Waddinxveen | J40: =VLOOKUP(C40,'ICT gegevens'!$A$6:$F$186,6,TRUE) -> WDV01D2821 | K40: N207 | L40: =VLOOKUP(C40,'ICT gegevens'!$A$6:$G$186,7,TRUE) -> 1987 | M40: Nieuwbouw | N40: =VLOOKUP(C40,'ICT gegevens'!$A$6:$E$186,5,TRUE) -> Wonen | Q40: ='N207 50km'!C40 -> 7.5 | R40: =IF('N207'!D40="--",6,'N207'!D40) -> 57.8 | S40: =IF(MOD(R40,1)=0.5,INT(R40)+MOD(INT(R40),2),ROUND(R40,0)) -> 58 | T40: =S40-U40 -> 5 | U40: ='overzicht alle wegen'!L41 -> 53 | AA40: 1 | AF40: =C40 -> Zuidkade 83 | AG40: 0
B41: ='N207 50km'!A41 -> Z83_B | C41: ='N207 50km'!B41 -> Zuidkade 83 | D41: {=_xlfn.TEXTSPLIT(C41," ")} -> Zuidkade | E41: 83 | H41: =VLOOKUP(C41,'ICT gegevens'!$A$6:$B$186,2,TRUE) -> 2741JD | I41: Waddinxveen | J41: =VLOOKUP(C41,'ICT gegevens'!$A$6:$F$186,6,TRUE) -> WDV01D2821 | K41: N207 | L41: =VLOOKUP(C41,'ICT gegevens'!$A$6:$G$186,7,TRUE) -> 1987 | N41: =VLOOKUP(C41,'ICT gegevens'!$A$6:$E$186,5,TRUE) -> Wonen | Q41: ='N207 50km'!C41 -> 4.5 | R41: =IF('N207'!D41="--",6,'N207'!D41) -> 57.1 | S41: =IF(MOD(R41,1)=0.5,INT(R41)+MOD(INT(R41),2),ROUND(R41,0)) -> 57 | T41: =S41-U41 -> 4 | U41: ='overzicht alle wegen'!L42 -> 53
B42: ='N207 50km'!A42 -> Z83_A | C42: ='N207 50km'!B42 -> Zuidkade 83 | D42: {=_xlfn.TEXTSPLIT(C42," ")} -> Zuidkade | E42: 83 | H42: =VLOOKUP(C42,'ICT gegevens'!$A$6:$B$186,2,TRUE) -> 2741JD | I42: Waddinxveen | J42: =VLOOKUP(C42,'ICT gegevens'!$A$6:$F$186,6,TRUE) -> WDV01D2821 | K42: N207 | L42: =VLOOKUP(C42,'ICT gegevens'!$A$6:$G$186,7,TRUE) -> 1987 | N42: =VLOOKUP(C42,'ICT gegevens'!$A$6:$E$186,5,TRUE) -> Wonen | Q42: ='N207 50km'!C42 -> 1.5 | R42: =IF('N207'!D42="--",6,'N207'!D42) -> 56 | S42: =IF(MOD(R42,1)=0.5,INT(R42)+MOD(INT(R42),2),ROUND(R42,0)) -> 56 | T42: =S42-U42 -> 5 | U42: ='overzicht alle wegen'!L43 -> 51
A43: 14 | B43: ='N207 50km'!A43 -> Z82_B | C43: ='N207 50km'!B43 -> Zuidkade 82 | D43: {=_xlfn.TEXTSPLIT(C43," ")} -> Zuidkade | E43: 82 | H43: =VLOOKUP(C43,'ICT gegevens'!$A$6:$B$186,2,TRUE) -> 2741JD | I43: Waddinxveen | J43: =VLOOKUP(C43,'ICT gegevens'!$A$6:$F$186,6,TRUE) -> WDV01D2822 | K43: N207 | L43: =VLOOKUP(C43,'ICT gegevens'!$A$6:$G$186,7,TRUE) -> 1910 | N43: =VLOOKUP(C43,'ICT gegevens'!$A$6:$E$186,5,TRUE) -> Wonen | Q43: ='N207 50km'!C43 -> 4.5 | R43: =IF('N207'!D43="--",6,'N207'!D43) -> 57.1 | S43: =IF(MOD(R43,1)=0.5,INT(R43)+MOD(INT(R43),2),ROUND(R43,0)) -> 57 | T43: =S43-U43 -> 4 | U43: ='overzicht alle wegen'!L44 -> 53 | V43: 53 | X43: 1 | AG43: 0
B44: ='N207 50km'!A44 -> Z82_A | C44: ='N207 50km'!B44 -> Zuidkade 82 | D44: {=_xlfn.TEXTSPLIT(C44," ")} -> Zuidkade | E44: 82 | H44: =VLOOKUP(C44,'ICT gegevens'!$A$6:$B$186,2,TRUE) -> 2741JD | I44: Waddinxveen | J44: =VLOOKUP(C44,'ICT gegevens'!$A$6:$F$186,6,TRUE) -> WDV01D2822 | K44: N207 | L44: =VLOOKUP(C44,'ICT gegevens'!$A$6:$G$186,7,TRUE) -> 1910 | N44: =VLOOKUP(C44,'ICT gegevens'!$A$6:$E$186,5,TRUE) -> Wonen | Q44: ='N207 50km'!C44 -> 1.5 | R44: =IF('N207'!D44="--",6,'N207'!D44) -> 56 | S44: =IF(MOD(R44,1)=0.5,INT(R44)+MOD(INT(R44),2),ROUND(R44,0)) -> 56 | T44: =S44-U44 -> 5 | U44: ='overzicht alle wegen'!L45 -> 51
A45: 15 | B45: ='N207 50km'!A45 -> Z80_B | C45: ='N207 50km'!B45 -> Zuidkade 80 | D45: {=_xlfn.TEXTSPLIT(C45," ")} -> Zuidkade | E45: 80 | H45: =VLOOKUP(C45,'ICT gegevens'!$A$6:$B$186,2,TRUE) -> 2741JD | I45: Waddinxveen | J45: =VLOOKUP(C45,'ICT gegevens'!$A$6:$F$186,6,TRUE) -> WDV01D2235 | K45: N207 | L45: =VLOOKUP(C45,'ICT gegevens'!$A$6:$G$186,7,TRUE) -> 1930 | N45: =VLOOKUP(C45,'ICT gegevens'!$A$6:$E$186,5,TRUE) -> Wonen | Q45: ='N207 50km'!C45 -> 4.5 | R45: =IF('N207'!D45="--",6,'N207'!D45) -> 57 | S45: =IF(MOD(R45,1)=0.5,INT(R45)+MOD(INT(R45),2),ROUND(R45,0)) -> 57 | T45: =S45-U45 -> 4 | U45: ='overzicht alle wegen'!L46 -> 53 | V45: 53 | X45: 1 | AG45: 0
B46: ='N207 50km'!A46 -> Z80_A | C46: ='N207 50km'!B46 -> Zuidkade 80 | D46: {=_xlfn.TEXTSPLIT(C46," ")} -> Zuidkade | E46: 80 | H46: =VLOOKUP(C46,'ICT gegevens'!$A$6:$B$186,2,TRUE) -> 2741JD | I46: Waddinxveen | J46: =VLOOKUP(C46,'ICT gegevens'!$A$6:$F$186,6,TRUE) -> WDV01D2235 | K46: N207 | L46: =VLOOKUP(C46,'ICT gegevens'!$A$6:$G$186,7,TRUE) -> 1930 | N46: =VLOOKUP(C46,'ICT gegevens'!$A$6:$E$186,5,TRUE) -> Wonen | Q46: ='N207 50km'!C46 -> 1.5 | R46: =IF('N207'!D46="--",6,'N207'!D46) -> 55.8 | S46: =IF(MOD(R46,1)=0.5,INT(R46)+MOD(INT(R46),2),ROUND(R46,0)) -> 56 | T46: =S46-U46 -> 5 | U46: ='overzicht alle wegen'!L47 -> 51
A47: 16 | B47: ='N207 50km'!A31 -> Z8_C | C47: ='N207 50km'!B31 -> Zuidkade 8 | D47: {=_xlfn.TEXTSPLIT(C47," ")} -> Zuidkade | E47: 8 | H47: =VLOOKUP(C47,'ICT gegevens'!$A$6:$B$186,2,TRUE) -> 2741JA | I47: Waddinxveen | J47: =VLOOKUP(C47,'ICT gegevens'!$A$6:$F$186,6,TRUE) -> WDV01D2875 | K47: N207 | L47: =VLOOKUP(C47,'ICT gegevens'!$A$6:$G$186,7,TRUE) -> 1908 | M47: Geen woning | N47: kantoor | Q47: ='N207 50km'!C31 -> 7.5 | R47: =IF('N207'!D31="--",6,'N207'!D31) -> 60.1 | S47: =IF(MOD(R47,1)=0.5,INT(R47)+MOD(INT(R47),2),ROUND(R47,0)) -> 60 | T47: =S47-U47 -> 5 | U47: ='overzicht alle wegen'!L32 -> 55 | AB47: 1
B48: ='N207 50km'!A32 -> Z8_B | C48: ='N207 50km'!B32 -> Zuidkade 8 | D48: {=_xlfn.TEXTSPLIT(C48," ")} -> Zuidkade | E48: 8 | H48: =VLOOKUP(C48,'ICT gegevens'!$A$6:$B$186,2,TRUE) -> 2741JA | I48: Waddinxveen | J48: =VLOOKUP(C48,'ICT gegevens'!$A$6:$F$186,6,TRUE) -> WDV01D2875 | K48: N207 | L48: =VLOOKUP(C48,'ICT gegevens'!$A$6:$G$186,7,TRUE) -> 1908 | N48: kantoor | Q48: ='N207 50km'!C32 -> 4.5 | R48: =IF('N207'!D32="--",6,'N207'!D32) -> 59.7 | S48: =IF(MOD(R48,1)=0.5,INT(R48)+MOD(INT(R48),2),ROUND(R48,0)) -> 60 | T48: =S48-U48 -> 5 | U48: ='overzicht alle wegen'!L33 -> 55
B49: ='N207 50km'!A33 -> Z8_A | C49: ='N207 50km'!B33 -> Zuidkade 8 | D49: {=_xlfn.TEXTSPLIT(C49," ")} -> Zuidkade | E49: 8 | H49: =VLOOKUP(C49,'ICT gegevens'!$A$6:$B$186,2,TRUE) -> 2741JA | I49: Waddinxveen | J49: =VLOOKUP(C49,'ICT gegevens'!$A$6:$F$186,6,TRUE) -> WDV01D2875 | K49: N207 | L49: =VLOOKUP(C49,'ICT gegevens'!$A$6:$G$186,7,TRUE) -> 1908 | N49: kantoor | Q49: ='N207 50km'!C33 -> 1.5 | R49: =IF('N207'!D33="--",6,'N207'!D33) -> 58.1 | S49: =IF(MOD(R49,1)=0.5,INT(R49)+MOD(INT(R49),2),ROUND(R49,0)) -> 58 | T49: =S49-U49 -> 5 | U49: ='overzicht alle wegen'!L34 -> 53
A50: 17 | B50: ='N207 50km'!A47 -> Z78_B | C50: ='N207 50km'!B47 -> Zuidkade 78 | D50: {=_xlfn.TEXTSPLIT(C50," ")} -> Zuidkade | E50: 78 | H50: =VLOOKUP(C50,'ICT gegevens'!$A$6:$B$186,2,TRUE) -> 2741JD | I50: Waddinxveen | J50: =VLOOKUP(C50,'ICT gegevens'!$A$6:$F$186,6,TRUE) -> WDV01D2803 | K50: N207 | L50: =VLOOKUP(C50,'ICT gegevens'!$A$6:$G$186,7,TRUE) -> 1928 | N50: =VLOOKUP(C50,'ICT gegevens'!$A$6:$E$186,5,TRUE) -> Wonen | Q50: ='N207 50km'!C47 -> 4.5 | R50: =IF('N207'!D47="--",6,'N207'!D47) -> 57.1 | S50: =IF(MOD(R50,1)=0.5,INT(R50)+MOD(INT(R50),2),ROUND(R50,0)) -> 57 | T50: =S50-U50 -> 5 | U50: ='overzicht alle wegen'!L48 -> 52 | V50: 52 | X50: 1 | AG50: 0
B51: ='N207 50km'!A48 -> Z78_A | C51: ='N207 50km'!B48 -> Zuidkade 78 | D51: {=_xlfn.TEXTSPLIT(C51," ")} -> Zuidkade | E51: 78 | H51: =VLOOKUP(C51,'ICT gegevens'!$A$6:$B$186,2,TRUE) -> 2741JD | I51: Waddinxveen | J51: =VLOOKUP(C51,'ICT gegevens'!$A$6:$F$186,6,TRUE) -> WDV01D2803 | K51: N207 | L51: =VLOOKUP(C51,'ICT gegevens'!$A$6:$G$186,7,TRUE) -> 1928 | N51: =VLOOKUP(C51,'ICT gegevens'!$A$6:$E$186,5,TRUE) -> Wonen | Q51: ='N207 50km'!C48 -> 1.5 | R51: =IF('N207'!D48="--",6,'N207'!D48) -> 55.9 | S51: =IF(MOD(R51,1)=0.5,INT(R51)+MOD(INT(R51),2),ROUND(R51,0)) -> 56 | T51: =S51-U51 -> 4 | U51: ='overzicht alle wegen'!L49 -> 52
A52: 18 | B52: ='N207 50km'!A49 -> Z77_B | C52: ='N207 50km'!B49 -> Zuidkade 77 | D52: {=_xlfn.TEXTSPLIT(C52," ")} -> Zuidkade | E52: 77 | H52: =VLOOKUP(C52,'ICT gegevens'!$A$6:$B$186,2,TRUE) -> 2741JD | I52: Waddinxveen | J52: =VLOOKUP(C52,'ICT gegevens'!$A$6:$F$186,6,TRUE) -> WDV01D3303 | K52: N207 | L52: =VLOOKUP(C52,'ICT gegevens'!$A$6:$G$186,7,TRUE) -> 1928 | N52: =VLOOKUP(C52,'ICT gegevens'!$A$6:$E$186,5,TRUE) -> Wonen | Q52: ='N207 50km'!C49 -> 4.5 | R52: =IF('N207'!D49="--",6,'N207'!D49) -> 57.1 | S52: =IF(MOD(R52,1)=0.5,INT(R52)+MOD(INT(R52),2),ROUND(R52,0)) -> 57 | T52: =S52-U52 -> 4 | U52: ='overzicht alle wegen'!L50 -> 53 | V52: 53 | X52: 1 | AG52: 0
B53: ='N207 50km'!A50 -> Z77_A | C53: ='N207 50km'!B50 -> Zuidkade 77 | D53: {=_xlfn.TEXTSPLIT(C53," ")} -> Zuidkade | E53: 77 | H53: =VLOOKUP(C53,'ICT gegevens'!$A$6:$B$186,2,TRUE) -> 2741JD | I53: Waddinxveen | J53: =VLOOKUP(C53,'ICT gegevens'!$A$6:$F$186,6,TRUE) -> WDV01D3303 | K53: N207 | L53: =VLOOKUP(C53,'ICT gegevens'!$A$6:$G$186,7,TRUE) -> 1928 | N53: =VLOOKUP(C53,'ICT gegevens'!$A$6:$E$186,5,TRUE) -> Wonen | Q53: ='N207 50km'!C50 -> 1.5 | R53: =IF('N207'!D50="--",6,'N207'!D50) -> 55.8 | S53: =IF(MOD(R53,1)=0.5,INT(R53)+MOD(INT(R53),2),ROUND(R53,0)) -> 56 | T53: =S53-U53 -> 5 | U53: ='overzicht alle wegen'!L51 -> 51
A54: 19 | B54: ='N207 50km'!A51 -> Z76_B | C54: ='N207 50km'!B51 -> Zuidkade 76 | D54: {=_xlfn.TEXTSPLIT(C54," ")} -> Zuidkade | E54: 76 | H54: =VLOOKUP(C54,'ICT gegevens'!$A$6:$B$186,2,TRUE) -> 2741JD | I54: Waddinxveen | J54: =VLOOKUP(C54,'ICT gegevens'!$A$6:$F$186,6,TRUE) -> WDV01D1102 | K54: N207 | L54: =VLOOKUP(C54,'ICT gegevens'!$A$6:$G$186,7,TRUE) -> 2014 | M54: Herbouw | N54: =VLOOKUP(C54,'ICT gegevens'!$A$6:$E$186,5,TRUE) -> Wonen | Q54: ='N207 50km'!C51 -> 4.5 | R54: =IF('N207'!D51="--",6,'N207'!D51) -> 57.8 | S54: =IF(MOD(R54,1)=0.5,INT(R54)+MOD(INT(R54),2),ROUND(R54,0)) -> 58 | T54: =S54-U54 -> 4 | U54: ='overzicht alle wegen'!L52 -> 54 | V54: 54 | X54: 1 | AD54: 1 | AF54: =C54 -> Zuidkade 76 | AG54: 0
B55: ='N207 50km'!A52 -> Z76_A | C55: ='N207 50km'!B52 -> Zuidkade 76 | D55: {=_xlfn.TEXTSPLIT(C55," ")} -> Zuidkade | E55: 76 | H55: =VLOOKUP(C55,'ICT gegevens'!$A$6:$B$186,2,TRUE) -> 2741JD | I55: Waddinxveen | J55: =VLOOKUP(C55,'ICT gegevens'!$A$6:$F$186,6,TRUE) -> WDV01D1102 | K55: N207 | L55: =VLOOKUP(C55,'ICT gegevens'!$A$6:$G$186,7,TRUE) -> 2014 | N55: =VLOOKUP(C55,'ICT gegevens'!$A$6:$E$186,5,TRUE) -> Wonen | Q55: ='N207 50km'!C52 -> 1.5 | R55: =IF('N207'!D52="--",6,'N207'!D52) -> 56.6 | S55: =IF(MOD(R55,1)=0.5,INT(R55)+MOD(INT(R55),2),ROUND(R55,0)) -> 57 | T55: =S55-U55 -> 5 | U55: ='overzicht alle wegen'!L53 -> 52
A56: 20 | B56: ='N207 50km'!A53 -> Z72_C | C56: ='N207 50km'!B53 -> Zuidkade 72 | D56: {=_xlfn.TEXTSPLIT(C56," ")} -> Zuidkade | E56: 72 | H56: =VLOOKUP(C56,'ICT gegevens'!$A$6:$B$186,2,TRUE) -> 2741JC | I56: Waddinxveen | J56: =VLOOKUP(C56,'ICT gegevens'!$A$6:$F$186,6,TRUE) -> WDV01D3447 | K56: N207 | L56: =VLOOKUP(C56,'ICT gegevens'!$A$6:$G$186,7,TRUE) -> 2017 | M56: Nieuwbouw | N56: =VLOOKUP(C56,'ICT gegevens'!$A$6:$E$186,5,TRUE) -> Wonen | Q56: ='N207 50km'!C53 -> 7.5 | R56: =IF('N207'!D53="--",6,'N207'!D53) -> 57.9 | S56: =IF(MOD(R56,1)=0.5,INT(R56)+MOD(INT(R56),2),ROUND(R56,0)) -> 58 | T56: =S56-U56 -> 5 | U56: ='overzicht alle wegen'!L54 -> 53 | AA56: 1 | AF56: =C56 -> Zuidkade 72 | AG56: 0
B57: ='N207 50km'!A54 -> Z72_B | C57: ='N207 50km'!B54 -> Zuidkade 72 | D57: {=_xlfn.TEXTSPLIT(C57," ")} -> Zuidkade | E57: 72 | H57: =VLOOKUP(C57,'ICT gegevens'!$A$6:$B$186,2,TRUE) -> 2741JC | I57: Waddinxveen | J57: =VLOOKUP(C57,'ICT gegevens'!$A$6:$F$186,6,TRUE) -> WDV01D3447 | K57: N207 | L57: =VLOOKUP(C57,'ICT gegevens'!$A$6:$G$186,7,TRUE) -> 2017 | N57: =VLOOKUP(C57,'ICT gegevens'!$A$6:$E$186,5,TRUE) -> Wonen | Q57: ='N207 50km'!C54 -> 4.5 | R57: =IF('N207'!D54="--",6,'N207'!D54) -> 57.2 | S57: =IF(MOD(R57,1)=0.5,INT(R57)+MOD(INT(R57),2),ROUND(R57,0)) -> 57 | T57: =S57-U57 -> 4 | U57: ='overzicht alle wegen'!L55 -> 53
B58: ='N207 50km'!A55 -> Z72_A | C58: ='N207 50km'!B55 -> Zuidkade 72 | D58: {=_xlfn.TEXTSPLIT(C58," ")} -> Zuidkade | E58: 72 | H58: =VLOOKUP(C58,'ICT gegevens'!$A$6:$B$186,2,TRUE) -> 2741JC | I58: Waddinxveen | J58: =VLOOKUP(C58,'ICT gegevens'!$A$6:$F$186,6,TRUE) -> WDV01D3447 | K58: N207 | L58: =VLOOKUP(C58,'ICT gegevens'!$A$6:$G$186,7,TRUE) -> 2017 | N58: =VLOOKUP(C58,'ICT gegevens'!$A$6:$E$186,5,TRUE) -> Wonen | Q58: ='N207 50km'!C55 -> 1.5 | R58: =IF('N207'!D55="--",6,'N207'!D55) -> 56 | S58: =IF(MOD(R58,1)=0.5,INT(R58)+MOD(INT(R58),2),ROUND(R58,0)) -> 56 | T58: =S58-U58 -> 4 | U58: ='overzicht alle wegen'!L56 -> 52
A59: 21 | B59: ='N207 50km'!A56 -> Z71_C | C59: ='N207 50km'!B56 -> Zuidkade 71 | D59: {=_xlfn.TEXTSPLIT(C59," ")} -> Zuidkade | E59: 71 | H59: =VLOOKUP(C59,'ICT gegevens'!$A$6:$B$186,2,TRUE) -> 2741JC | I59: Waddinxveen | J59: =VLOOKUP(C59,'ICT gegevens'!$A$6:$F$186,6,TRUE) -> WDV01D3448 | K59: N207 | L59: =VLOOKUP(C59,'ICT gegevens'!$A$6:$G$186,7,TRUE) -> 2017 | M59: Nieuwbouw | N59: =VLOOKUP(C59,'ICT gegevens'!$A$6:$E$186,5,TRUE) -> Wonen | Q59: ='N207 50km'!C56 -> 7.5 | R59: =IF('N207'!D56="--",6,'N207'!D56) -> 57.9 | S59: =IF(MOD(R59,1)=0.5,INT(R59)+MOD(INT(R59),2),ROUND(R59,0)) -> 58 | T59: =S59-U59 -> 5 | U59: ='overzicht alle wegen'!L57 -> 53 | AA59: 1 | AF59: =C59 -> Zuidkade 71 | AG59: 0
B60: ='N207 50km'!A57 -> Z71_B | C60: ='N207 50km'!B57 -> Zuidkade 71 | D60: {=_xlfn.TEXTSPLIT(C60," ")} -> Zuidkade | E60: 71 | H60: =VLOOKUP(C60,'ICT gegevens'!$A$6:$B$186,2,TRUE) -> 2741JC | I60: Waddinxveen | J60: =VLOOKUP(C60,'ICT gegevens'!$A$6:$F$186,6,TRUE) -> WDV01D3448 | K60: N207 | L60: =VLOOKUP(C60,'ICT gegevens'!$A$6:$G$186,7,TRUE) -> 2017 | N60: =VLOOKUP(C60,'ICT gegevens'!$A$6:$E$186,5,TRUE) -> Wonen | Q60: ='N207 50km'!C57 -> 4.5 | R60: =IF('N207'!D57="--",6,'N207'!D57) -> 57.2 | S60: =IF(MOD(R60,1)=0.5,INT(R60)+MOD(INT(R60),2),ROUND(R60,0)) -> 57 | T60: =S60-U60 -> 4 | U60: ='overzicht alle wegen'!L58 -> 53
B61: ='N207 50km'!A58 -> Z71_A | C61: ='N207 50km'!B58 -> Zuidkade 71 | D61: {=_xlfn.TEXTSPLIT(C61," ")} -> Zuidkade | E61: 71 | H61: =VLOOKUP(C61,'ICT gegevens'!$A$6:$B$186,2,TRUE) -> 2741JC | I61: Waddinxveen | J61: =VLOOKUP(C61,'ICT gegevens'!$A$6:$F$186,6,TRUE) -> WDV01D3448 | K61: N207 | L61: =VLOOKUP(C61,'ICT gegevens'!$A$6:$G$186,7,TRUE) -> 2017 | N61: =VLOOKUP(C61,'ICT gegevens'!$A$6:$E$186,5,TRUE) -> Wonen | Q61: ='N207 50km'!C58 -> 1.5 | R61: =IF('N207'!D58="--",6,'N207'!D58) -> 56 | S61: =IF(MOD(R61,1)=0.5,INT(R61)+MOD(INT(R61),2),ROUND(R61,0)) -> 56 | T61: =S61-U61 -> 4 | U61: ='overzicht alle wegen'!L59 -> 52
A62: 22 | B62: ='N207 50km'!A59 -> Z67_C | C62: ='N207 50km'!B59 -> Zuidkade 67 | D62: {=_xlfn.TEXTSPLIT(C62," ")} -> Zuidkade | E62: 67 | H62: =VLOOKUP(C62,'ICT gegevens'!$A$6:$B$186,2,TRUE) -> 2741JC | I62: Waddinxveen | J62: =VLOOKUP(C62,'ICT gegevens'!$A$6:$F$186,6,TRUE) -> WDV01D3452 | K62: N207 | L62: =VLOOKUP(C62,'ICT gegevens'!$A$6:$G$186,7,TRUE) -> 2017 | M62: Nieuwbouw | N62: =VLOOKUP(C62,'ICT gegevens'!$A$6:$E$186,5,TRUE) -> Wonen | Q62: ='N207 50km'!C59 -> 7.5 | R62: =IF('N207'!D59="--",6,'N207'!D59) -> 58.1 | S62: =IF(MOD(R62,1)=0.5,INT(R62)+MOD(INT(R62),2),ROUND(R62,0)) -> 58 | T62: =S62-U62 -> 5 | U62: ='overzicht alle wegen'!L60 -> 53 | AA62: 1 | AF62: =C62 -> Zuidkade 67 | AG62: 0
B63: ='N207 50km'!A60 -> Z67_B | C63: ='N207 50km'!B60 -> Zuidkade 67 | D63: {=_xlfn.TEXTSPLIT(C63," ")} -> Zuidkade | E63: 67 | H63: =VLOOKUP(C63,'ICT gegevens'!$A$6:$B$186,2,TRUE) -> 2741JC | I63: Waddinxveen | J63: =VLOOKUP(C63,'ICT gegevens'!$A$6:$F$186,6,TRUE) -> WDV01D3452 | K63: N207 | L63: =VLOOKUP(C63,'ICT gegevens'!$A$6:$G$186,7,TRUE) -> 2017 | N63: =VLOOKUP(C63,'ICT gegevens'!$A$6:$E$186,5,TRUE) -> Wonen | Q63: ='N207 50km'!C60 -> 4.5 | R63: =IF('N207'!D60="--",6,'N207'!D60) -> 57.5 | S63: =IF(MOD(R63,1)=0.5,INT(R63)+MOD(INT(R63),2),ROUND(R63,0)) -> 58 | T63: =S63-U63 -> 6 | U63: ='overzicht alle wegen'!L61 -> 52
B64: ='N207 50km'!A61 -> Z67_A | C64: ='N207 50km'!B61 -> Zuidkade 67 | D64: {=_xlfn.TEXTSPLIT(C64," ")} -> Zuidkade | E64: 67 | H64: =VLOOKUP(C64,'ICT gegevens'!$A$6:$B$186,2,TRUE) -> 2741JC | I64: Waddinxveen | J64: =VLOOKUP(C64,'ICT gegevens'!$A$6:$F$186,6,TRUE) -> WDV01D3452 | K64: N207 | L64: =VLOOKUP(C64,'ICT gegevens'!$A$6:$G$186,7,TRUE) -> 2017 | N64: =VLOOKUP(C64,'ICT gegevens'!$A$6:$E$186,5,TRUE) -> Wonen | Q64: ='N207 50km'!C61 -> 1.5 | R64: =IF('N207'!D61="--",6,'N207'!D61) -> 56.2 | S64: =IF(MOD(R64,1)=0.5,INT(R64)+MOD(INT(R64),2),ROUND(R64,0)) -> 56 | T64: =S64-U64 -> 4 | U64: ='overzicht alle wegen'!L62 -> 52
A65: 23 | B65: ='N207 50km'!A62 -> Z64_C | C65: ='N207 50km'!B62 -> Zuidkade 64 | D65: {=_xlfn.TEXTSPLIT(C65," ")} -> Zuidkade | E65: 64 | H65: =VLOOKUP(C65,'ICT gegevens'!$A$6:$B$186,2,TRUE) -> 2741JC | I65: Waddinxveen | J65: =VLOOKUP(C65,'ICT gegevens'!$A$6:$F$186,6,TRUE) -> WDV01D3455 | K65: N207 | L65: =VLOOKUP(C65,'ICT gegevens'!$A$6:$G$186,7,TRUE) -> 2017 | M65: Nieuwbouw | N65: =VLOOKUP(C65,'ICT gegevens'!$A$6:$E$186,5,TRUE) -> Wonen | Q65: ='N207 50km'!C62 -> 7.5 | R65: =IF('N207'!D62="--",6,'N207'!D62) -> 57.9 | S65: =IF(MOD(R65,1)=0.5,INT(R65)+MOD(INT(R65),2),ROUND(R65,0)) -> 58 | T65: =S65-U65 -> 5 | U65: ='overzicht alle wegen'!L63 -> 53 | AA65: 1 | AF65: =C65 -> Zuidkade 64 | AG65: 0
B66: ='N207 50km'!A63 -> Z64_B | C66: ='N207 50km'!B63 -> Zuidkade 64 | D66: {=_xlfn.TEXTSPLIT(C66," ")} -> Zuidkade | E66: 64 | H66: =VLOOKUP(C66,'ICT gegevens'!$A$6:$B$186,2,TRUE) -> 2741JC | I66: Waddinxveen | J66: =VLOOKUP(C66,'ICT gegevens'!$A$6:$F$186,6,TRUE) -> WDV01D3455 | K66: N207 | L66: =VLOOKUP(C66,'ICT gegevens'!$A$6:$G$186,7,TRUE) -> 2017 | N66: =VLOOKUP(C66,'ICT gegevens'!$A$6:$E$186,5,TRUE) -> Wonen | Q66: ='N207 50km'!C63 -> 4.5 | R66: =IF('N207'!D63="--",6,'N207'!D63) -> 57.1 | S66: =IF(MOD(R66,1)=0.5,INT(R66)+MOD(INT(R66),2),ROUND(R66,0)) -> 57 | T66: =S66-U66 -> 5 | U66: ='overzicht alle wegen'!L64 -> 52
B67: ='N207 50km'!A64 -> Z64_A | C67: ='N207 50km'!B64 -> Zuidkade 64 | D67: {=_xlfn.TEXTSPLIT(C67," ")} -> Zuidkade | E67: 64 | H67: =VLOOKUP(C67,'ICT gegevens'!$A$6:$B$186,2,TRUE) -> 2741JC | I67: Waddinxveen | J67: =VLOOKUP(C67,'ICT gegevens'!$A$6:$F$186,6,TRUE) -> WDV01D3455 | K67: N207 | L67: =VLOOKUP(C67,'ICT gegevens'!$A$6:$G$186,7,TRUE) -> 2017 | N67: =VLOOKUP(C67,'ICT gegevens'!$A$6:$E$186,5,TRUE) -> Wonen | Q67: ='N207 50km'!C64 -> 1.5 | R67: =IF('N207'!D64="--",6,'N207'!D64) -> 55.9 | S67: =IF(MOD(R67,1)=0.5,INT(R67)+MOD(INT(R67),2),ROUND(R67,0)) -> 56 | T67: =S67-U67 -> 5 | U67: ='overzicht alle wegen'!L65 -> 51
A68: 24 | B68: ='N207 50km'!A65 -> Z63_C | C68: ='N207 50km'!B65 -> Zuidkade 63 | D68: {=_xlfn.TEXTSPLIT(C68," ")} -> Zuidkade | E68: 63 | H68: =VLOOKUP(C68,'ICT gegevens'!$A$6:$B$186,2,TRUE) -> 2741JC | I68: Waddinxveen | J68: =VLOOKUP(C68,'ICT gegevens'!$A$6:$F$186,6,TRUE) -> WDV01D3456 | K68: N207 | L68: =VLOOKUP(C68,'ICT gegevens'!$A$6:$G$186,7,TRUE) -> 2017 | M68: Nieuwbouw | N68: =VLOOKUP(C68,'ICT gegevens'!$A$6:$E$186,5,TRUE) -> Wonen | Q68: ='N207 50km'!C65 -> 7.5 | R68: =IF('N207'!D65="--",6,'N207'!D65) -> 58 | S68: =IF(MOD(R68,1)=0.5,INT(R68)+MOD(INT(R68),2),ROUND(R68,0)) -> 58 | T68: =S68-U68 -> 5 | U68: ='overzicht alle wegen'!L66 -> 53 | AA68: 1 | AF68: =C68 -> Zuidkade 63 | AG68: 0
B69: ='N207 50km'!A66 -> Z63_B | C69: ='N207 50km'!B66 -> Zuidkade 63 | D69: {=_xlfn.TEXTSPLIT(C69," ")} -> Zuidkade | E69: 63 | H69: =VLOOKUP(C69,'ICT gegevens'!$A$6:$B$186,2,TRUE) -> 2741JC | I69: Waddinxveen | J69: =VLOOKUP(C69,'ICT gegevens'!$A$6:$F$186,6,TRUE) -> WDV01D3456 | K69: N207 | L69: =VLOOKUP(C69,'ICT gegevens'!$A$6:$G$186,7,TRUE) -> 2017 | N69: =VLOOKUP(C69,'ICT gegevens'!$A$6:$E$186,5,TRUE) -> Wonen | Q69: ='N207 50km'!C66 -> 4.5 | R69: =IF('N207'!D66="--",6,'N207'!D66) -> 57.3 | S69: =IF(MOD(R69,1)=0.5,INT(R69)+MOD(INT(R69),2),ROUND(R69,0)) -> 57 | T69: =S69-U69 -> 5 | U69: ='overzicht alle wegen'!L67 -> 52
B70: ='N207 50km'!A67 -> Z63_A | C70: ='N207 50km'!B67 -> Zuidkade 63 | D70: {=_xlfn.TEXTSPLIT(C70," ")} -> Zuidkade | E70: 63 | H70: =VLOOKUP(C70,'ICT gegevens'!$A$6:$B$186,2,TRUE) -> 2741JC | I70: Waddinxveen | J70: =VLOOKUP(C70,'ICT gegevens'!$A$6:$F$186,6,TRUE) -> WDV01D3456 | K70: N207 | L70: =VLOOKUP(C70,'ICT gegevens'!$A$6:$G$186,7,TRUE) -> 2017 | N70: =VLOOKUP(C70,'ICT gegevens'!$A$6:$E$186,5,TRUE) -> Wonen | Q70: ='N207 50km'!C67 -> 1.5 | R70: =IF('N207'!D67="--",6,'N207'!D67) -> 56.2 | S70: =IF(MOD(R70,1)=0.5,INT(R70)+MOD(INT(R70),2),ROUND(R70,0)) -> 56 | T70: =S70-U70 -> 5 | U70: ='overzicht alle wegen'!L68 -> 51
A71: 25 | B71: ='N207 50km'!A68 -> Z61_C | C71: ='N207 50km'!B68 -> Zuidkade 61 | D71: {=_xlfn.TEXTSPLIT(C71," ")} -> Zuidkade | E71: 61 | H71: =VLOOKUP(C71,'ICT gegevens'!$A$6:$B$186,2,TRUE) -> 2741JC | I71: Waddinxveen | J71: =VLOOKUP(C71,'ICT gegevens'!$A$6:$F$186,6,TRUE) -> WDV01D3458 | K71: N207 | L71: =VLOOKUP(C71,'ICT gegevens'!$A$6:$G$186,7,TRUE) -> 2017 | M71: Nieuwbouw | N71: =VLOOKUP(C71,'ICT gegevens'!$A$6:$E$186,5,TRUE) -> Wonen | Q71: ='N207 50km'!C68 -> 7.5 | R71: =IF('N207'!D68="--",6,'N207'!D68) -> 58.1 | S71: =IF(MOD(R71,1)=0.5,INT(R71)+MOD(INT(R71),2),ROUND(R71,0)) -> 58 | T71: =S71-U71 -> 5 | U71: ='overzicht alle wegen'!L69 -> 53 | AA71: 1 | AF71: =C71 -> Zuidkade 61 | AG71: 0
B72: ='N207 50km'!A69 -> Z61_B | C72: ='N207 50km'!B69 -> Zuidkade 61 | D72: {=_xlfn.TEXTSPLIT(C72," ")} -> Zuidkade | E72: 61 | H72: =VLOOKUP(C72,'ICT gegevens'!$A$6:$B$186,2,TRUE) -> 2741JC | I72: Waddinxveen | J72: =VLOOKUP(C72,'ICT gegevens'!$A$6:$F$186,6,TRUE) -> WDV01D3458 | K72: N207 | L72: =VLOOKUP(C72,'ICT gegevens'!$A$6:$G$186,7,TRUE) -> 2017 | N72: =VLOOKUP(C72,'ICT gegevens'!$A$6:$E$186,5,TRUE) -> Wonen | Q72: ='N207 50km'!C69 -> 4.5 | R72: =IF('N207'!D69="--",6,'N207'!D69) -> 57.4 | S72: =IF(MOD(R72,1)=0.5,INT(R72)+MOD(INT(R72),2),ROUND(R72,0)) -> 57 | T72: =S72-U72 -> 5 | U72: ='overzicht alle wegen'!L70 -> 52
B73: ='N207 50km'!A70 -> Z61_A | C73: ='N207 50km'!B70 -> Zuidkade 61 | D73: {=_xlfn.TEXTSPLIT(C73," ")} -> Zuidkade | E73: 61 | H73: =VLOOKUP(C73,'ICT gegevens'!$A$6:$B$186,2,TRUE) -> 2741JC | I73: Waddinxveen | J73: =VLOOKUP(C73,'ICT gegevens'!$A$6:$F$186,6,TRUE) -> WDV01D3458 | K73: N207 | L73: =VLOOKUP(C73,'ICT gegevens'!$A$6:$G$186,7,TRUE) -> 2017 | N73: =VLOOKUP(C73,'ICT gegevens'!$A$6:$E$186,5,TRUE) -> Wonen | Q73: ='N207 50km'!C70 -> 1.5 | R73: =IF('N207'!D70="--",6,'N207'!D70) -> 56.2 | S73: =IF(MOD(R73,1)=0.5,INT(R73)+MOD(INT(R73),2),ROUND(R73,0)) -> 56 | T73: =S73-U73 -> 5 | U73: ='overzicht alle wegen'!L71 -> 51
A74: 26 | B74: ='N207 50km'!A71 -> Z60_C | C74: ='N207 50km'!B71 -> Zuidkade 60 | D74: {=_xlfn.TEXTSPLIT(C74," ")} -> Zuidkade | E74: 60 | H74: =VLOOKUP(C74,'ICT gegevens'!$A$6:$B$186,2,TRUE) -> 2741JC | I74: Waddinxveen | J74: =VLOOKUP(C74,'ICT gegevens'!$A$6:$F$186,6,TRUE) -> WDV01D3462 | K74: N207 | L74: =VLOOKUP(C74,'ICT gegevens'!$A$6:$G$186,7,TRUE) -> 2017 | M74: Nieuwbouw | N74: =VLOOKUP(C74,'ICT gegevens'!$A$6:$E$186,5,TRUE) -> Wonen | Q74: ='N207 50km'!C71 -> 7.5 | R74: =IF('N207'!D71="--",6,'N207'!D71) -> 58.1 | S74: =IF(MOD(R74,1)=0.5,INT(R74)+MOD(INT(R74),2),ROUND(R74,0)) -> 58 | T74: =S74-U74 -> 5 | U74: ='overzicht alle wegen'!L72 -> 53 | AA74: 1 | AF74: =C74 -> Zuidkade 60 | AG74: 0
B75: ='N207 50km'!A72 -> Z60_B | C75: ='N207 50km'!B72 -> Zuidkade 60 | D75: {=_xlfn.TEXTSPLIT(C75," ")} -> Zuidkade | E75: 60 | H75: =VLOOKUP(C75,'ICT gegevens'!$A$6:$B$186,2,TRUE) -> 2741JC | I75: Waddinxveen | J75: =VLOOKUP(C75,'ICT gegevens'!$A$6:$F$186,6,TRUE) -> WDV01D3462 | K75: N207 | L75: =VLOOKUP(C75,'ICT gegevens'!$A$6:$G$186,7,TRUE) -> 2017 | N75: =VLOOKUP(C75,'ICT gegevens'!$A$6:$E$186,5,TRUE) -> Wonen | Q75: ='N207 50km'!C72 -> 4.5 | R75: =IF('N207'!D72="--",6,'N207'!D72) -> 57.5 | S75: =IF(MOD(R75,1)=0.5,INT(R75)+MOD(INT(R75),2),ROUND(R75,0)) -> 58 | T75: =S75-U75 -> 6 | U75: ='overzicht alle wegen'!L73 -> 52
B76: ='N207 50km'!A73 -> Z60_A | C76: ='N207 50km'!B73 -> Zuidkade 60 | D76: {=_xlfn.TEXTSPLIT(C76," ")} -> Zuidkade | E76: 60 | H76: =VLOOKUP(C76,'ICT gegevens'!$A$6:$B$186,2,TRUE) -> 2741JC | I76: Waddinxveen | J76: =VLOOKUP(C76,'ICT gegevens'!$A$6:$F$186,6,TRUE) -> WDV01D3462 | K76: N207 | L76: =VLOOKUP(C76,'ICT gegevens'!$A$6:$G$186,7,TRUE) -> 2017 | N76: =VLOOKUP(C76,'ICT gegevens'!$A$6:$E$186,5,TRUE) -> Wonen | Q76: ='N207 50km'!C73 -> 1.5 | R76: =IF('N207'!D73="--",6,'N207'!D73) -> 56.3 | S76: =IF(MOD(R76,1)=0.5,INT(R76)+MOD(INT(R76),2),ROUND(R76,0)) -> 56 | T76: =S76-U76 -> 5 | U76: ='overzicht alle wegen'!L74 -> 51
A77: 27 | B77: ='N207 50km'!A74 -> Z56_B | C77: ='N207 50km'!B74 -> Zuidkade 56 | D77: {=_xlfn.TEXTSPLIT(C77," ")} -> Zuidkade | E77: 56 | H77: =VLOOKUP(C77,'ICT gegevens'!$A$6:$B$186,2,TRUE) -> 2741JC | I77: Waddinxveen | J77: =VLOOKUP(C77,'ICT gegevens'!$A$6:$F$186,6,TRUE) -> WDV01D1418 | K77: N207 | L77: =VLOOKUP(C77,'ICT gegevens'!$A$6:$G$186,7,TRUE) -> 1860 | N77: =VLOOKUP(C77,'ICT gegevens'!$A$6:$E$186,5,TRUE) -> Wonen | Q77: ='N207 50km'!C74 -> 4.5 | R77: =IF('N207'!D74="--",6,'N207'!D74) -> 58.2 | S77: =IF(MOD(R77,1)=0.5,INT(R77)+MOD(INT(R77),2),ROUND(R77,0)) -> 58 | T77: =S77-U77 -> 5 | U77: ='overzicht alle wegen'!L75 -> 53 | V77: 53 | X77: 1
B78: ='N207 50km'!A75 -> Z56_A | C78: ='N207 50km'!B75 -> Zuidkade 56 | D78: {=_xlfn.TEXTSPLIT(C78," ")} -> Zuidkade | E78: 56 | H78: =VLOOKUP(C78,'ICT gegevens'!$A$6:$B$186,2,TRUE) -> 2741JC | I78: Waddinxveen | J78: =VLOOKUP(C78,'ICT gegevens'!$A$6:$F$186,6,TRUE) -> WDV01D1418 | K78: N207 | L78: =VLOOKUP(C78,'ICT gegevens'!$A$6:$G$186,7,TRUE) -> 1860 | N78: =VLOOKUP(C78,'ICT gegevens'!$A$6:$E$186,5,TRUE) -> Wonen | Q78: ='N207 50km'!C75 -> 1.5 | R78: =IF('N207'!D75="--",6,'N207'!D75) -> 57.1 | S78: =IF(MOD(R78,1)=0.5,INT(R78)+MOD(INT(R78),2),ROUND(R78,0)) -> 57 | T78: =S78-U78 -> 5 | U78: ='overzicht alle wegen'!L76 -> 52
A79: 28 | B79: ='N207 50km'!A76 -> Z52_C | C79: ='N207 50km'!B76 -> Zuidkade 52 | D79: {=_xlfn.TEXTSPLIT(C79," ")} -> Zuidkade | E79: 52 | H79: =VLOOKUP(C79,'ICT gegevens'!$A$6:$B$186,2,TRUE) -> 2741JC | I79: Waddinxveen | J79: =VLOOKUP(C79,'ICT gegevens'!$A$6:$F$186,6,TRUE) -> WDV01D867 | K79: N207 | L79: =VLOOKUP(C79,'ICT gegevens'!$A$6:$G$186,7,TRUE) -> 2016 | M79: Nieuwbouw | N79: =VLOOKUP(C79,'ICT gegevens'!$A$6:$E$186,5,TRUE) -> Wonen | Q79: ='N207 50km'!C76 -> 7.5 | R79: =IF('N207'!D76="--",6,'N207'!D76) -> 59.5 | S79: =IF(MOD(R79,1)=0.5,INT(R79)+MOD(INT(R79),2),ROUND(R79,0)) -> 60 | T79: =S79-U79 -> 5 | U79: ='overzicht alle wegen'!L77 -> 55 | AA79: 1 | AF79: =C79 -> Zuidkade 52 | AG79: 0
B80: ='N207 50km'!A77 -> Z52_B | C80: ='N207 50km'!B77 -> Zuidkade 52 | D80: {=_xlfn.TEXTSPLIT(C80," ")} -> Zuidkade | E80: 52 | H80: =VLOOKUP(C80,'ICT gegevens'!$A$6:$B$186,2,TRUE) -> 2741JC | I80: Waddinxveen | J80: =VLOOKUP(C80,'ICT gegevens'!$A$6:$F$186,6,TRUE) -> WDV01D867 | K80: N207 | L80: =VLOOKUP(C80,'ICT gegevens'!$A$6:$G$186,7,TRUE) -> 2016 | N80: =VLOOKUP(C80,'ICT gegevens'!$A$6:$E$186,5,TRUE) -> Wonen | Q80: ='N207 50km'!C77 -> 4.5 | R80: =IF('N207'!D77="--",6,'N207'!D77) -> 58.9 | S80: =IF(MOD(R80,1)=0.5,INT(R80)+MOD(INT(R80),2),ROUND(R80,0)) -> 59 | T80: =S80-U80 -> 5 | U80: ='overzicht alle wegen'!L78 -> 54
B81: ='N207 50km'!A78 -> Z52_A | C81: ='N207 50km'!B78 -> Zuidkade 52 | D81: {=_xlfn.TEXTSPLIT(C81," ")} -> Zuidkade | E81: 52 | H81: =VLOOKUP(C81,'ICT gegevens'!$A$6:$B$186,2,TRUE) -> 2741JC | I81: Waddinxveen | J81: =VLOOKUP(C81,'ICT gegevens'!$A$6:$F$186,6,TRUE) -> WDV01D867 | K81: N207 | L81: =VLOOKUP(C81,'ICT gegevens'!$A$6:$G$186,7,TRUE) -> 2016 | N81: =VLOOKUP(C81,'ICT gegevens'!$A$6:$E$186,5,TRUE) -> Wonen | Q81: ='N207 50km'!C78 -> 1.5 | R81: =IF('N207'!D78="--",6,'N207'!D78) -> 57.7 | S81: =IF(MOD(R81,1)=0.5,INT(R81)+MOD(INT(R81),2),ROUND(R81,0)) -> 58 | T81: =S81-U81 -> 5 | U81: ='overzicht alle wegen'!L79 -> 53
A82: 29 | B82: ='N207 50km'!A79 -> Z51_C | C82: ='N207 50km'!B79 -> Zuidkade 51 | D82: {=_xlfn.TEXTSPLIT(C82," ")} -> Zuidkade | E82: 51 | H82: =VLOOKUP(C82,'ICT gegevens'!$A$6:$B$186,2,TRUE) -> 2741JC | I82: Waddinxveen | J82: =VLOOKUP(C82,'ICT gegevens'!$A$6:$F$186,6,TRUE) -> WDV01D2614 | K82: N207 | L82: =VLOOKUP(C82,'ICT gegevens'!$A$6:$G$186,7,TRUE) -> 2016 | M82: Nieuwbouw | N82: =VLOOKUP(C82,'ICT gegevens'!$A$6:$E$186,5,TRUE) -> Wonen | Q82: ='N207 50km'!C79 -> 7.5 | R82: =IF('N207'!D79="--",6,'N207'!D79) -> 59.5 | S82: =IF(MOD(R82,1)=0.5,INT(R82)+MOD(INT(R82),2),ROUND(R82,0)) -> 60 | T82: =S82-U82 -> 5 | U82: ='overzicht alle wegen'!L80 -> 55 | AA82: 1 | AF82: =C82 -> Zuidkade 51 | AG82: 0
B83: ='N207 50km'!A80 -> Z51_B | C83: ='N207 50km'!B80 -> Zuidkade 51 | D83: {=_xlfn.TEXTSPLIT(C83," ")} -> Zuidkade | E83: 51 | H83: =VLOOKUP(C83,'ICT gegevens'!$A$6:$B$186,2,TRUE) -> 2741JC | I83: Waddinxveen | J83: =VLOOKUP(C83,'ICT gegevens'!$A$6:$F$186,6,TRUE) -> WDV01D2614 | K83: N207 | L83: =VLOOKUP(C83,'ICT gegevens'!$A$6:$G$186,7,TRUE) -> 2016 | N83: =VLOOKUP(C83,'ICT gegevens'!$A$6:$E$186,5,TRUE) -> Wonen | Q83: ='N207 50km'!C80 -> 4.5 | R83: =IF('N207'!D80="--",6,'N207'!D80) -> 58.9 | S83: =IF(MOD(R83,1)=0.5,INT(R83)+MOD(INT(R83),2),ROUND(R83,0)) -> 59 | T83: =S83-U83 -> 5 | U83: ='overzicht alle wegen'!L81 -> 54
B84: ='N207 50km'!A81 -> Z51_A | C84: ='N207 50km'!B81 -> Zuidkade 51 | D84: {=_xlfn.TEXTSPLIT(C84," ")} -> Zuidkade | E84: 51 | H84: =VLOOKUP(C84,'ICT gegevens'!$A$6:$B$186,2,TRUE) -> 2741JC | I84: Waddinxveen | J84: =VLOOKUP(C84,'ICT gegevens'!$A$6:$F$186,6,TRUE) -> WDV01D2614 | K84: N207 | L84: =VLOOKUP(C84,'ICT gegevens'!$A$6:$G$186,7,TRUE) -> 2016 | N84: =VLOOKUP(C84,'ICT gegevens'!$A$6:$E$186,5,TRUE) -> Wonen | Q84: ='N207 50km'!C81 -> 1.5 | R84: =IF('N207'!D81="--",6,'N207'!D81) -> 57.6 | S84: =IF(MOD(R84,1)=0.5,INT(R84)+MOD(INT(R84),2),ROUND(R84,0)) -> 58 | T84: =S84-U84 -> 5 | U84: ='overzicht alle wegen'!L82 -> 53
A85: 30 | B85: ='N207 50km'!A82 -> Z50_B | C85: ='N207 50km'!B82 -> Zuidkade 50 | D85: {=_xlfn.TEXTSPLIT(C85," ")} -> Zuidkade | E85: 50 | H85: =VLOOKUP(C85,'ICT gegevens'!$A$6:$B$186,2,TRUE) -> 2741JC | I85: Waddinxveen | J85: =VLOOKUP(C85,'ICT gegevens'!$A$6:$F$186,6,TRUE) -> WDV01D2848 | K85: N207 | L85: =VLOOKUP(C85,'ICT gegevens'!$A$6:$G$186,7,TRUE) -> 1930 | N85: =VLOOKUP(C85,'ICT gegevens'!$A$6:$E$186,5,TRUE) -> Wonen | Q85: ='N207 50km'!C82 -> 4.5 | R85: =IF('N207'!D82="--",6,'N207'!D82) -> 59 | S85: =IF(MOD(R85,1)=0.5,INT(R85)+MOD(INT(R85),2),ROUND(R85,0)) -> 59 | T85: =S85-U85 -> 5 | U85: ='overzicht alle wegen'!L83 -> 54 | V85: 54 | X85: 1 | AG85: 0
B86: ='N207 50km'!A83 -> Z50_A | C86: ='N207 50km'!B83 -> Zuidkade 50 | D86: {=_xlfn.TEXTSPLIT(C86," ")} -> Zuidkade | E86: 50 | H86: =VLOOKUP(C86,'ICT gegevens'!$A$6:$B$186,2,TRUE) -> 2741JC | I86: Waddinxveen | J86: =VLOOKUP(C86,'ICT gegevens'!$A$6:$F$186,6,TRUE) -> WDV01D2848 | K86: N207 | L86: =VLOOKUP(C86,'ICT gegevens'!$A$6:$G$186,7,TRUE) -> 1930 | N86: =VLOOKUP(C86,'ICT gegevens'!$A$6:$E$186,5,TRUE) -> Wonen | Q86: ='N207 50km'!C83 -> 1.5 | R86: =IF('N207'!D83="--",6,'N207'!D83) -> 57.8 | S86: =IF(MOD(R86,1)=0.5,INT(R86)+MOD(INT(R86),2),ROUND(R86,0)) -> 58 | T86: =S86-U86 -> 5 | U86: ='overzicht alle wegen'!L84 -> 53
A87: 31 | B87: ='N207 50km'!A84 -> Z49_B | C87: ='N207 50km'!B84 -> Zuidkade 49 | D87: {=_xlfn.TEXTSPLIT(C87," ")} -> Zuidkade | E87: 49 | H87: =VLOOKUP(C87,'ICT gegevens'!$A$6:$B$186,2,TRUE) -> 2741JC | I87: Waddinxveen | J87: =VLOOKUP(C87,'ICT gegevens'!$A$6:$F$186,6,TRUE) -> WDV01D2847 | K87: N207 | L87: =VLOOKUP(C87,'ICT gegevens'!$A$6:$G$186,7,TRUE) -> 1930 | N87: =VLOOKUP(C87,'ICT gegevens'!$A$6:$E$186,5,TRUE) -> Wonen | Q87: ='N207 50km'!C84 -> 4.5 | R87: =IF('N207'!D84="--",6,'N207'!D84) -> 59 | S87: =IF(MOD(R87,1)=0.5,INT(R87)+MOD(INT(R87),2),ROUND(R87,0)) -> 59 | T87: =S87-U87 -> 5 | U87: ='overzicht alle wegen'!L85 -> 54 | V87: 54 | X87: 1 | AG87: 0
B88: ='N207 50km'!A85 -> Z49_A | C88: ='N207 50km'!B85 -> Zuidkade 49 | D88: {=_xlfn.TEXTSPLIT(C88," ")} -> Zuidkade | E88: 49 | H88: =VLOOKUP(C88,'ICT gegevens'!$A$6:$B$186,2,TRUE) -> 2741JC | I88: Waddinxveen | J88: =VLOOKUP(C88,'ICT gegevens'!$A$6:$F$186,6,TRUE) -> WDV01D2847 | K88: N207 | L88: =VLOOKUP(C88,'ICT gegevens'!$A$6:$G$186,7,TRUE) -> 1930 | N88: =VLOOKUP(C88,'ICT gegevens'!$A$6:$E$186,5,TRUE) -> Wonen | Q88: ='N207 50km'!C85 -> 1.5 | R88: =IF('N207'!D85="--",6,'N207'!D85) -> 57.8 | S88: =IF(MOD(R88,1)=0.5,INT(R88)+MOD(INT(R88),2),ROUND(R88,0)) -> 58 | T88: =S88-U88 -> 5 | U88: ='overzicht alle wegen'!L86 -> 53
A89: 32 | B89: ='N207 50km'!A86 -> Z48_B | C89: ='N207 50km'!B86 -> Zuidkade 48 | D89: {=_xlfn.TEXTSPLIT(C89," ")} -> Zuidkade | E89: 48 | H89: =VLOOKUP(C89,'ICT gegevens'!$A$6:$B$186,2,TRUE) -> 2741JC | I89: Waddinxveen | J89: =VLOOKUP(C89,'ICT gegevens'!$A$6:$F$186,6,TRUE) -> WDV01D2846 | K89: N207 | L89: =VLOOKUP(C89,'ICT gegevens'!$A$6:$G$186,7,TRUE) -> 1930 | N89: =VLOOKUP(C89,'ICT gegevens'!$A$6:$E$186,5,TRUE) -> Wonen | Q89: ='N207 50km'!C86 -> 4.5 | R89: =IF('N207'!D86="--",6,'N207'!D86) -> 59.1 | S89: =IF(MOD(R89,1)=0.5,INT(R89)+MOD(INT(R89),2),ROUND(R89,0)) -> 59 | T89: =S89-U89 -> 5 | U89: ='overzicht alle wegen'!L87 -> 54 | V89: 54 | X89: 1 | AG89: 0
B90: ='N207 50km'!A87 -> Z48_A | C90: ='N207 50km'!B87 -> Zuidkade 48 | D90: {=_xlfn.TEXTSPLIT(C90," ")} -> Zuidkade | E90: 48 | H90: =VLOOKUP(C90,'ICT gegevens'!$A$6:$B$186,2,TRUE) -> 2741JC | I90: Waddinxveen | J90: =VLOOKUP(C90,'ICT gegevens'!$A$6:$F$186,6,TRUE) -> WDV01D2846 | K90: N207 | L90: =VLOOKUP(C90,'ICT gegevens'!$A$6:$G$186,7,TRUE) -> 1930 | N90: =VLOOKUP(C90,'ICT gegevens'!$A$6:$E$186,5,TRUE) -> Wonen | Q90: ='N207 50km'!C87 -> 1.5 | R90: =IF('N207'!D87="--",6,'N207'!D87) -> 57.8 | S90: =IF(MOD(R90,1)=0.5,INT(R90)+MOD(INT(R90),2),ROUND(R90,0)) -> 58 | T90: =S90-U90 -> 5 | U90: ='overzicht alle wegen'!L88 -> 53
A91: 33 | B91: ='N207 50km'!A88 -> Z47_B | C91: ='N207 50km'!B88 -> Zuidkade 47 | D91: {=_xlfn.TEXTSPLIT(C91," ")} -> Zuidkade | E91: 47 | H91: =VLOOKUP(C91,'ICT gegevens'!$A$6:$B$186,2,TRUE) -> 2741JC | I91: Waddinxveen | J91: =VLOOKUP(C91,'ICT gegevens'!$A$6:$F$186,6,TRUE) -> WDV01D2845 | K91: N207 | L91: =VLOOKUP(C91,'ICT gegevens'!$A$6:$G$186,7,TRUE) -> 1905 | N91: =VLOOKUP(C91,'ICT gegevens'!$A$6:$E$186,5,TRUE) -> Wonen | Q91: ='N207 50km'!C88 -> 4.5 | R91: =IF('N207'!D88="--",6,'N207'!D88) -> 59.1 | S91: =IF(MOD(R91,1)=0.5,INT(R91)+MOD(INT(R91),2),ROUND(R91,0)) -> 59 | T91: =S91-U91 -> 5 | U91: ='overzicht alle wegen'!L89 -> 54 | V91: 54 | X91: 1 | AG91: 0
B92: ='N207 50km'!A89 -> Z47_A | C92: ='N207 50km'!B89 -> Zuidkade 47 | D92: {=_xlfn.TEXTSPLIT(C92," ")} -> Zuidkade | E92: 47 | H92: =VLOOKUP(C92,'ICT gegevens'!$A$6:$B$186,2,TRUE) -> 2741JC | I92: Waddinxveen | J92: =VLOOKUP(C92,'ICT gegevens'!$A$6:$F$186,6,TRUE) -> WDV01D2845 | K92: N207 | L92: =VLOOKUP(C92,'ICT gegevens'!$A$6:$G$186,7,TRUE) -> 1905 | N92: =VLOOKUP(C92,'ICT gegevens'!$A$6:$E$186,5,TRUE) -> Wonen | Q92: ='N207 50km'!C89 -> 1.5 | R92: =IF('N207'!D89="--",6,'N207'!D89) -> 57.8 | S92: =IF(MOD(R92,1)=0.5,INT(R92)+MOD(INT(R92),2),ROUND(R92,0)) -> 58 | T92: =S92-U92 -> 5 | U92: ='overzicht alle wegen'!L90 -> 53
A93: 34 | B93: ='N207 50km'!A90 -> Z46_B | C93: ='N207 50km'!B90 -> Zuidkade 46 | D93: {=_xlfn.TEXTSPLIT(C93," ")} -> Zuidkade | E93: 46 | H93: =VLOOKUP(C93,'ICT gegevens'!$A$6:$B$186,2,TRUE) -> 2741JC | I93: Waddinxveen | J93: =VLOOKUP(C93,'ICT gegevens'!$A$6:$F$186,6,TRUE) -> WDV01D2844 | K93: N207 | L93: =VLOOKUP(C93,'ICT gegevens'!$A$6:$G$186,7,TRUE) -> 1953 | N93: =VLOOKUP(C93,'ICT gegevens'!$A$6:$E$186,5,TRUE) -> Wonen | Q93: ='N207 50km'!C90 -> 4.5 | R93: =IF('N207'!D90="--",6,'N207'!D90) -> 58.1 | S93: =IF(MOD(R93,1)=0.5,INT(R93)+MOD(INT(R93),2),ROUND(R93,0)) -> 58 | T93: =S93-U93 -> 5 | U93: ='overzicht alle wegen'!L91 -> 53 | V93: 53 | X93: 1 | AG93: 0
B94: ='N207 50km'!A91 -> Z46_A | C94: ='N207 50km'!B91 -> Zuidkade 46 | D94: {=_xlfn.TEXTSPLIT(C94," ")} -> Zuidkade | E94: 46 | H94: =VLOOKUP(C94,'ICT gegevens'!$A$6:$B$186,2,TRUE) -> 2741JC | I94: Waddinxveen | J94: =VLOOKUP(C94,'ICT gegevens'!$A$6:$F$186,6,TRUE) -> WDV01D2844 | K94: N207 | L94: =VLOOKUP(C94,'ICT gegevens'!$A$6:$G$186,7,TRUE) -> 1953 | N94: =VLOOKUP(C94,'ICT gegevens'!$A$6:$E$186,5,TRUE) -> Wonen | Q94: ='N207 50km'!C91 -> 1.5 | R94: =IF('N207'!D91="--",6,'N207'!D91) -> 56.9 | S94: =IF(MOD(R94,1)=0.5,INT(R94)+MOD(INT(R94),2),ROUND(R94,0)) -> 57 | T94: =S94-U94 -> 5 | U94: ='overzicht alle wegen'!L92 -> 52
A95: 35 | B95: ='N207 50km'!A92 -> Z45_B | C95: ='N207 50km'!B92 -> Zuidkade 45 | D95: {=_xlfn.TEXTSPLIT(C95," ")} -> Zuidkade | E95: 45 | H95: =VLOOKUP(C95,'ICT gegevens'!$A$6:$B$186,2,TRUE) -> 2741JC | I95: Waddinxveen | J95: =VLOOKUP(C95,'ICT gegevens'!$A$6:$F$186,6,TRUE) -> WDV01D2843 | K95: N207 | L95: =VLOOKUP(C95,'ICT gegevens'!$A$6:$G$186,7,TRUE) -> 1953 | N95: =VLOOKUP(C95,'ICT gegevens'!$A$6:$E$186,5,TRUE) -> Wonen | Q95: ='N207 50km'!C92 -> 4.5 | R95: =IF('N207'!D92="--",6,'N207'!D92) -> 58.2 | S95: =IF(MOD(R95,1)=0.5,INT(R95)+MOD(INT(R95),2),ROUND(R95,0)) -> 58 | T95: =S95-U95 -> 5 | U95: ='overzicht alle wegen'!L93 -> 53 | V95: 53 | X95: 1 | AG95: 0
B96: ='N207 50km'!A93 -> Z45_A | C96: ='N207 50km'!B93 -> Zuidkade 45 | D96: {=_xlfn.TEXTSPLIT(C96," ")} -> Zuidkade | E96: 45 | H96: =VLOOKUP(C96,'ICT gegevens'!$A$6:$B$186,2,TRUE) -> 2741JC | I96: Waddinxveen | J96: =VLOOKUP(C96,'ICT gegevens'!$A$6:$F$186,6,TRUE) -> WDV01D2843 | K96: N207 | L96: =VLOOKUP(C96,'ICT gegevens'!$A$6:$G$186,7,TRUE) -> 1953 | N96: =VLOOKUP(C96,'ICT gegevens'!$A$6:$E$186,5,TRUE) -> Wonen | Q96: ='N207 50km'!C93 -> 1.5 | R96: =IF('N207'!D93="--",6,'N207'!D93) -> 57 | S96: =IF(MOD(R96,1)=0.5,INT(R96)+MOD(INT(R96),2),ROUND(R96,0)) -> 57 | T96: =S96-U96 -> 5 | U96: ='overzicht alle wegen'!L94 -> 52
A97: 36 | B97: ='N207 50km'!A94 -> Z44_C | C97: ='N207 50km'!B94 -> Zuidkade 44 | D97: {=_xlfn.TEXTSPLIT(C97," ")} -> Zuidkade | E97: 44 | H97: =VLOOKUP(C97,'ICT gegevens'!$A$6:$B$186,2,TRUE) -> 2741JB | I97: Waddinxveen | J97: =VLOOKUP(C97,'ICT gegevens'!$A$6:$F$186,6,TRUE) -> WDV01D2170 | K97: N207 | L97: =VLOOKUP(C97,'ICT gegevens'!$A$6:$G$186,7,TRUE) -> 1975 | N97: =VLOOKUP(C97,'ICT gegevens'!$A$6:$E$186,5,TRUE) -> Wonen | Q97: ='N207 50km'!C94 -> 7.5 | R97: =IF('N207'!D94="--",6,'N207'!D94) -> 58.8 | S97: =IF(MOD(R97,1)=0.5,INT(R97)+MOD(INT(R97),2),ROUND(R97,0)) -> 59 | T97: =S97-U97 -> 5 | U97: ='overzicht alle wegen'!L95 -> 54 | V97: 54 | X97: 1 | AG97: 0
B98: ='N207 50km'!A95 -> Z44_B | C98: ='N207 50km'!B95 -> Zuidkade 44 | D98: {=_xlfn.TEXTSPLIT(C98," ")} -> Zuidkade | E98: 44 | H98: =VLOOKUP(C98,'ICT gegevens'!$A$6:$B$186,2,TRUE) -> 2741JB | I98: Waddinxveen | J98: =VLOOKUP(C98,'ICT gegevens'!$A$6:$F$186,6,TRUE) -> WDV01D2170 | K98: N207 | L98: =VLOOKUP(C98,'ICT gegevens'!$A$6:$G$186,7,TRUE) -> 1975 | N98: =VLOOKUP(C98,'ICT gegevens'!$A$6:$E$186,5,TRUE) -> Wonen | Q98: ='N207 50km'!C95 -> 4.5 | R98: =IF('N207'!D95="--",6,'N207'!D95) -> 58 | S98: =IF(MOD(R98,1)=0.5,INT(R98)+MOD(INT(R98),2),ROUND(R98,0)) -> 58 | T98: =S98-U98 -> 5 | U98: ='overzicht alle wegen'!L96 -> 53
B99: ='N207 50km'!A96 -> Z44_A | C99: ='N207 50km'!B96 -> Zuidkade 44 | D99: {=_xlfn.TEXTSPLIT(C99," ")} -> Zuidkade | E99: 44 | H99: =VLOOKUP(C99,'ICT gegevens'!$A$6:$B$186,2,TRUE) -> 2741JB | I99: Waddinxveen | J99: =VLOOKUP(C99,'ICT gegevens'!$A$6:$F$186,6,TRUE) -> WDV01D2170 | K99: N207 | L99: =VLOOKUP(C99,'ICT gegevens'!$A$6:$G$186,7,TRUE) -> 1975 | N99: =VLOOKUP(C99,'ICT gegevens'!$A$6:$E$186,5,TRUE) -> Wonen | Q99: ='N207 50km'!C96 -> 1.5 | R99: =IF('N207'!D96="--",6,'N207'!D96) -> 56.9 | S99: =IF(MOD(R99,1)=0.5,INT(R99)+MOD(INT(R99),2),ROUND(R99,0)) -> 57 | T99: =S99-U99 -> 5 | U99: ='overzicht alle wegen'!L97 -> 52
A100: 37 | B100: ='N207 50km'!A97 -> Z43_C | C100: ='N207 50km'!B97 -> Zuidkade 43 | D100: {=_xlfn.TEXTSPLIT(C100," ")} -> Zuidkade | E100: 43 | H100: =VLOOKUP(C100,'ICT gegevens'!$A$6:$B$186,2,TRUE) -> 2741JB | I100: Waddinxveen | J100: =VLOOKUP(C100,'ICT gegevens'!$A$6:$F$186,6,TRUE) -> WDV01D2169 | K100: N207 | L100: =VLOOKUP(C100,'ICT gegevens'!$A$6:$G$186,7,TRUE) -> 1975 | N100: =VLOOKUP(C100,'ICT gegevens'!$A$6:$E$186,5,TRUE) -> Wonen | Q100: ='N207 50km'!C97 -> 7.5 | R100: =IF('N207'!D97="--",6,'N207'!D97) -> 58.7 | S100: =IF(MOD(R100,1)=0.5,INT(R100)+MOD(INT(R100),2),ROUND(R100,0)) -> 59 | T100: =S100-U100 -> 5 | U100: ='overzicht alle wegen'!L98 -> 54 | V100: 54 | X100: 1 | AG100: 0
B101: ='N207 50km'!A98 -> Z43_B | C101: ='N207 50km'!B98 -> Zuidkade 43 | D101: {=_xlfn.TEXTSPLIT(C101," ")} -> Zuidkade | E101: 43 | H101: =VLOOKUP(C101,'ICT gegevens'!$A$6:$B$186,2,TRUE) -> 2741JB | I101: Waddinxveen | J101: =VLOOKUP(C101,'ICT gegevens'!$A$6:$F$186,6,TRUE) -> WDV01D2169 | K101: N207 | L101: =VLOOKUP(C101,'ICT gegevens'!$A$6:$G$186,7,TRUE) -> 1975 | N101: =VLOOKUP(C101,'ICT gegevens'!$A$6:$E$186,5,TRUE) -> Wonen | Q101: ='N207 50km'!C98 -> 4.5 | R101: =IF('N207'!D98="--",6,'N207'!D98) -> 57.9 | S101: =IF(MOD(R101,1)=0.5,INT(R101)+MOD(INT(R101),2),ROUND(R101,0)) -> 58 | T101: =S101-U101 -> 5 | U101: ='overzicht alle wegen'!L99 -> 53
...

Sheet ICT gegevens
A1: Lijst met saneringsobjecten
A2: aanvrager: | C2: ODMH namens gemeente Zuidplas
A3: project: | C3: Aanvraag saneringsprogramma (combinatie projecten bij BSV: 577.218.05/576.239.00)
A5: adres | B5: postcode | C5: woonplaats | D5: bouwjaar | E5: aardcultuurbebouwd | F5: perceelsaanduiding | G5: bouwjaar
A6: Brugweg 3 | B6: 2741KT | C6: Waddinxveen | E6: Wonen | F6: WDV01G3126 | G6: 1897
A7: Brugweg 5 | B7: 2741KT | C7: Waddinxveen | E7: Wonen | F7: WDV01G2579 | G7: 1897
A8: Henegouwerweg 10 | B8: 2741KR | C8: Waddinxveen | E8: Wonen | F8: WDV01G3241 | G8: 1933
A9: Henegouwerweg 104 | B9: 2741JZ | C9: Waddinxveen | E9: Wonen | F9: WDV01G3075 | G9: 1928
A10: Henegouwerweg 105A | B10: 2741JZ | C10: Waddinxveen | E10: Wonen | F10: WDV01G3044 | G10: 1968
A11: Henegouwerweg 108 | B11: 2741JZ | C11: Waddinxveen | E11: kantoorfunctie | F11: WDV01G2334 | G11: 1999
A12: Henegouwerweg 110 | B12: 2741JZ | C12: Waddinxveen | E12: Wonen | F12: WDV01G2335 | G12: 1906
A13: Henegouwerweg 12 | B13: 2741KR | C13: Waddinxveen | E13: Wonen | F13: WDV01G2451 | G13: 1955
A14: Henegouwerweg 13 | B14: 2741KR | C14: Waddinxveen | E14: Wonen | F14: WDV01G2415 | G14: 1955
A15: Henegouwerweg 14 | B15: 2741KR | C15: Waddinxveen | E15: Wonen | F15: WDV01G2416 | G15: 1955
A16: Henegouwerweg 15 | B16: 2741KR | C16: Waddinxveen | E16: Wonen | F16: WDV01G2417 | G16: 1955
A17: Henegouwerweg 16 | B17: 2741KS | C17: Waddinxveen | E17: Wonen | F17: WDV01G2183 | G17: 1930
A18: Henegouwerweg 17 | B18: 2741KS | C18: Waddinxveen | E18: wonen | F18: WDV01G3376 | G18: 1950
A20: Henegouwerweg 18 | B20: 2741KS | C20: Waddinxveen | E20: Wonen | F20: WDV01G2333 | G20: 1950 | I20: Henegouwerweg 18 | J20: 2741KS | K20: Waddinxveen | M20: Wonen | N20: WDV01G2333 | O20: 1950
A21: Henegouwerweg 19 | B21: 2741KS | C21: Waddinxveen | E21: Wonen | F21: WDV01G3258 | G21: 1950
A22: Henegouwerweg 23 | B22: 2741KS | C22: Waddinxveen | E22: Wonen | F22: WDV01G2496 | G22: 1930
A23: Henegouwerweg 33 | B23: 2741KG | C23: Waddinxveen | E23: wonen | F23: WDV01G2344 | G23: 1939
A24: Henegouwerweg 38 | B24: 2741KG | C24: Waddinxveen | E24: Wonen | F24: WDV01G2900 | G24: 1974
A25: Henegouwerweg 4 | B25: 2741KR | C25: Waddinxveen | E25: Wonen | F25: WDV01G2379 | G25: 1980
A26: Henegouwerweg 43 | B26: 2741KG | C26: Waddinxveen | E26: Wonen | F26: WDV01G3016 | G26: 1940
A27: Henegouwerweg 8 | B27: 2741KR | C27: Waddinxveen | E27: Wonen | F27: WDV01G2931 | G27: 1955
A28: Henegouwerweg 85 | B28: 2741KB | C28: Waddinxveen | E28: Wonen | F28: WDV01G2511 | G28: 1994
A29: Henegouwerweg 86 | B29: 2741KB | C29: Waddinxveen | E29: Wonen | F29: WDV01G2511 | G29: 1994
A30: Henegouwerweg 87 | B30: 2741KB | C30: Waddinxveen | E30: Wonen | F30: WDV01G2511 | G30: 1994
A31: Henegouwerweg 88 | B31: 2741KB | C31: Waddinxveen | E31: Wonen | F31: WDV01G2511 | G31: 1994
A32: Henegouwerweg 89 | B32: 2741KB | C32: Waddinxveen | E32: Wonen | F32: WDV01G1892 | G32: 1920
... A38: Henegouwerweg 95 | B38: 2741KA | C38: Waddinxveen | E38: Wonen | F38: WDV01G2754 | G38: 1937
A39: Henegouwerweg 96 | B39: 2741KA | C39: Waddinxveen | E39: Wonen | F39: WDV01G2944 | G39: 1978 | I39: Henegouwerweg 96 | J39: 2741KA | K39: Waddinxveen | M39: Wonen | N39: WDV01G2944 | O39: 1978
A41: Henegouwerweg 98 | B41: 2741KA | C41: Waddinxveen | E41: Wonen | F41: WDV01G2798 | G41: 1880
A42: Henegouwerweg 99 | B42: 2741KA | C42: Waddinxveen | E42: Wonen | F42: WDV01G2799 | G42: 1880
A43: Noordkade 103 | B43: 2741EW | C43: Waddinxveen | E43: Wonen | F43: WDV01B6716 | G43: 1977
A44: Noordkade 105 | B44: 2741EW | C44: Waddinxveen | E44: Wonen | F44: WDV01B6641 | G44: 1977
A45: Noordkade 107 | B45: 2741EW | C45: Waddinxveen | E45: Wonen | F45: WDV01B6640 | G45: 1977
A46: Noordkade 109 | B46: 2741EW | C46: Waddinxveen | E46: Wonen | F46: WDV01B4193 | G46: 1930
A47: Noordkade 111 | B47: 2741EW | C47: Waddinxveen | E47: Wonen | F47: WDV01B3179 | G47: 1900
A48: Noordkade 113 | B48: 2741EW | C48: Waddinxveen | E48: Wonen | F48: WDV01B3155 | G48: 1999
A49: Noordkade 115 | B49: 2741EW | C49: Waddinxveen | E49: Wonen | F49: WDV01B6855 | G49: 1979
A50: Noordkade 153 | B50: 2741EZ | C50: Waddinxveen | E50: Wonen | F50: WDV01B6174 | G50: 1950
A51: Noordkade 155 | B51: 2741EZ | C51: Waddinxveen | E51: Wonen | F51: WDV01B6173 | G51: 1956
A52: Noordkade 189 | B52: 2741GA | C52: Waddinxveen | E52: Wonen | F52: WDV01B3995 | G52: 1910
... A67: Noordkade 265 | B67: 2741GB | C67: Waddinxveen | E67: Wonen | F67: WDV01B6658 | G67: 1928
A69: Noordkade 31 | B69: 2741EV | C69: Waddinxveen | E69: Wonen | F69: WDV01B7206 | G69: 1974 | I69: Noordkade 31 | J69: 2741EV | K69: Waddinxveen | M69: Wonen | N69: WDV01B7206 | O69: 1974
A70: Noordkade 39 | B70: 2741EV | C70: Waddinxveen | E70: Wonen | F70: WDV01B6194 | G70: 1920
A71: Noordkade 41 | B71: 2741EV | C71: Waddinxveen | E71: Wonen | F71: WDV01B4500 | G71: 1950
A72: Noordkade 45 | B72: 2741EV | C72: Waddinxveen | E72: Wonen | F72: WDV01B6691 | G72: 1910
A73: Noordkade 51 | B73: 2741EV | C73: Waddinxveen | E73: Wonen | F73: WDV01B4496 | G73: 2013
A74: Noordkade 53 | B74: 2741EV | C74: Waddinxveen | E74: Wonen | F74: WDV01B7360 | G74: 1920
A75: Noordkade 55 | B75: 2741EV | C75: Waddinxveen | E75: Wonen | F75: WDV01B7359 | G75: 1998
A76: Noordkade 57 | B76: 2741EV | C76: Waddinxveen | E76: Wonen | F76: WDV01B6224 | G76: 1975
A77: Noordkade 69 | B77: 2741EV | C77: Waddinxveen | E77: Wonen | F77: WDV01B6319 | G77: 1978
A78: Noordkade 71 | B78: 2741EV | C78: Waddinxveen | E78: Wonen | F78: WDV01B6318 | G78: 1978
A79: Noordkade 83 | B79: 2741EV | C79: Waddinxveen | E79: Wonen | F79: WDV01B7848 | G79: 1988
A80: Noordkade 95 | B80: 2741EW | C80: Waddinxveen | E80: Wonen | F80: WDV01B6715 | G80: 1899
A81: Zuidkade 10 | B81: 2741JA | C81: Waddinxveen | E81: Wonen | F81: WDV01D3738 | G81: 1960
... A88: Zuidkade 143 | B88: 2741JH | C88: Waddinxveen | E88: Wonen | F88: WDV01F2321 | G88: 1986
A90: Zuidkade 144 | B90: 2741JH | C90: Waddinxveen | E90: Wonen | F90: WDV01F2322 | G90: 1986 | I90: Zuidkade 144 | J90: 2741JH | K90: Waddinxveen | M90: Wonen | N90: WDV01F2322 | O90: 1986
A91: Zuidkade 155 | B91: 2741JJ | C91: Waddinxveen | E91: Wonen | F91: WDV01F2044 | G91: 1899
A92: Zuidkade 158 | B92: 2741JJ | C92: Waddinxveen | E92: Wonen met bedrijvigheid | F92: WDV01F1349 | G92: 1994
A93: Zuidkade 163 | B93: 2741JJ | C93: Waddinxveen | E93: Wonen | F93: WDV01F2526 | G93: 1909
A94: Zuidkade 166 | B94: 2741JJ | C94: Waddinxveen | E94: Wonen en Bedrijvigheid (horeca) | F94: WDV01F2527 | G94: 1911
A95: Zuidkade 168 | B95: 2741JJ | C95: Waddinxveen | E95: Wonen | F95: WDV01F2548 | G95: 1928
A96: Zuidkade 169 | B96: 2741JJ | C96: Waddinxveen | E96: Wonen | F96: WDV01F2657 | G96: 1932
A97: Zuidkade 172 | B97: 2741JJ | C97: Waddinxveen | E97: Wonen | F97: WDV01F2387 | G97: 1914
A98: Zuidkade 173 | B98: 2741JJ | C98: Waddinxveen | E98: Wonen met bedrijvigheid | F98: WDV01F1186 | G98: 1835
A99: Zuidkade 174 | B99: 2741JJ | C99: Waddinxveen | E99: Wonen | F99: WDV01F24 | G99: 1951
A100: Zuidkade 18 | B100: 2741JA | C100: Waddinxveen | E100: Wonen | F100: WDV01D2967 | G100: 1920
A101: Zuidkade 183 | B101: 2741JS | C101: Waddinxveen | E101: Wonen en industriefunctie | F101: WDV01F2389 | G101: 1852
A102: Zuidkade 184 | B102: 2741JS | C102: Waddinxveen | E102: Wonen | F102: WDV01F2078 | G102: 1918
... A124: Zuidkade 227 | B124: 2741JT | C124: Waddinxveen | E124: Wonen | F124: WDV01F2290 | G124: 1976
A125: Zuidkade 229 | B125: 2741JT | C125: Waddinxveen | E125: Wonen | F125: WDV01F1993 | G125: 1930 | I125: Zuidkade 229 | J125: 2741JT | K125: Waddinxveen | M125: Wonen | N125: WDV01F1993 | O125: 1930
A128: Zuidkade 231 | B128: 2741JT | C128: Waddinxveen | E128: Wonen | F128: WDV01F2897 | G128: 1992
A129: Zuidkade 28 | B129: 2741JB | C129: Waddinxveen | E129: Wonen | F129: WDV01D3600 | G129: 2020
A130: Zuidkade 29 | B130: 2741JB | C130: Waddinxveen | E130: Wonen | F130: WDV01D3597 | G130: 2020
A131: Zuidkade 3 | B131: 2741JA | C131: Waddinxveen | E131: Bedrijvigheid (horeca) | F131: WDV01D2754 | G131: 1930
A132: Zuidkade 30 | B132: 2741JB | C132: Waddinxveen | E132: Wonen | F132: WDV01D3594 | G132: 2020
A133: Zuidkade 31 | B133: 2741JB | C133: Waddinxveen | E133: Wonen | F133: WDV01D3595 | G133: 2020
A134: Zuidkade 32 | B134: 2741JB | C134: Waddinxveen | E134: Wonen met bedrijvigheid | F134: WDV01D1934 | G134: 1968
A135: Zuidkade 33 | B135: 2741JB | C135: Waddinxveen | E135: Wonen | F135: WDV01D1875 | G135: 1910
A136: Zuidkade 34 | B136: 2741JB | C136: Waddinxveen | E136: Wonen | F136: WDV01D2180 | G136: 1910
A137: Zuidkade 35 | B137: 2741JB | C137: Waddinxveen | E137: Wonen | F137: WDV01D2181 | G137: 1975 | I137: Zuidkade 35 | J137: 2741JB | K137: Waddinxveen | M137: Wonen | N137: WDV01D2181 | O137: 1975
A139: Zuidkade 36 | B139: 2741JB | C139: Waddinxveen | E139: Wonen | F139: WDV01D2182 | G139: 1975
A140: Zuidkade 37 | B140: 2741JB | C140: Waddinxveen | E140: Wonen | F140: WDV01D2163 | G140: 1975
A141: Zuidkade 38 | B141: 2741JB | C141: Waddinxveen | E141: Wonen | F141: WDV01D2164 | G141: 1975
A142: Zuidkade 39 | B142: 2741JB | C142: Waddinxveen | E142: Wonen | F142: WDV01D2165 | G142: 1975
A143: Zuidkade 40 | B143: 2741JB | C143: Waddinxveen | E143: Wonen | F143: WDV01D2166 | G143: 1975
A144: Zuidkade 41 | B144: 2741JB | C144: Waddinxveen | E144: Wonen | F144: WDV01D2167 | G144: 1975
A145: Zuidkade 42 | B145: 2741JB | C145: Waddinxveen | E145: Wonen | F145: WDV01D2168 | G145: 1975
A147: Zuidkade 43 | B147: 2741JB | C147: Waddinxveen | E147: Wonen | F147: WDV01D2169 | G147: 1975 | I147: Zuidkade 43 | J147: 2741JB | K147: Waddinxveen | M147: Wonen | N147: WDV01D2169 | O147: 1975
A148: Zuidkade 44 | B148: 2741JB | C148: Waddinxveen | E148: Wonen | F148: WDV01D2170 | G148: 1975
A149: Zuidkade 45 | B149: 2741JC | C149: Waddinxveen | E149: Wonen | F149: WDV01D2843 | G149: 1953
A150: Zuidkade 46 | B150: 2741JC | C150: Waddinxveen | E150: Wonen | F150: WDV01D2844 | G150: 1953 | I150: Zuidkade 46 | J150: 2741JC | K150: Waddinxveen | M150: Wonen | N150: WDV01D2844 | O150: 1953
A152: Zuidkade 47 | B152: 2741JC | C152: Waddinxveen | E152: Wonen | F152: WDV01D2845 | G152: 1905
A153: Zuidkade 48 | B153: 2741JC | C153: Waddinxveen | E153: Wonen | F153: WDV01D2846 | G153: 1930
A154: Zuidkade 49 | B154: 2741JC | C154: Waddinxveen | E154: Wonen | F154: WDV01D2847 | G154: 1930
A155: Zuidkade 50 | B155: 2741JC | C155: Waddinxveen | E155: Wonen | F155: WDV01D2848 | G155: 1930
A156: Zuidkade 51 | B156: 2741JC | C156: Waddinxveen | E156: Wonen | F156: WDV01D2614 | G156: 2016
...

Sheet overzicht alle wegen
A1: Bijlage 7: Resultatenoverzicht en cumulatie
A3: WNP | B3: Omschrijving WNP | C3: Hoogte (m) | D3: N207 | E3: N207 50 km/uur | H3: N207 80 km/uur | K3: N207 | L3: N207 | M3: Brugweg (30 km/uur) | P3: Hefbrug (50 km/uur) | S3: Kerkweg Oost (50 km/uur) vervalt | V3: N454 Kanaaldijk (50 km/uur) vervalt | Y3: N454 Kanaaldijk (80 km/uur) vervalt | AD3: N451 (80 km/uur) vervalt te laag | AI3: A12 (100 km/uur) | AN3: A20 (100 km/uur) vervalt | AS3: Lden cum | AT3: Lden cum
D4: Lden (dB) excl aftrek | E4: Lden (dB) excl aftrek | F4: afronden | G4: Lden (dB) incl aftrek | H4: Lden (dB) excl aftrek | I4: afronden | J4: Lden (dB)>70 incl aftrek | K4: Lden (dB) incl aftrek | L4: Lden (dB) incl aftrek | M4: Lden (dB) excl aftrek | N4: afronden | O4: Lden (dB) incl aftrek | P4: Lden (dB) excl aftrek | Q4: afronden | R4: Lden (dB) incl aftrek | S4: Lden (dB) excl aftrek | T4: afronden | U4: Lden (dB) incl aftrek | V4: Lden (dB) excl aftrek | W4: afronden | X4: Lden (dB) incl aftrek | Y4: Lden (dB) excl aftrek | Z4: afronden | AA4: 55,50-56,50 | AB4: 56,51-57,49 | AC4: Lden (dB)>70 incl aftrek | AD4: Lden (dB) excl aftrek | AE4: afronden | AF4: 55,50-56,50 | AG4: 56,51-57,49 | AH4: Lden (dB)>70 incl aftrek | AI4: Lden (dB) excl aftrek | AJ4: afronden | AK4: 55,50-56,50 | AL4: 56,51-57,49 | AM4: Lden (dB)>70 incl aftrek | AN4: Lden (dB) excl aftrek | AO4: afronden | AP4: 55,50-56,50 | AQ4: 56,51-57,49 | AR4: Lden (dB)>70 incl aftrek | AT4: afgerond
A5: ='N207 50km'!A4 -> Z9_C | B5: ='N207 50km'!B4 -> Zuidkade 9 | C5: ='N207 50km'!C4 -> 7.5 | D5: ='N207'!D4 -> 60.5 | E5: =IF('N207 50km'!D4="--",6,'N207 50km'!D4) -> 60.4 | F5: =IF(MOD(E5,1)=0.5,INT(E5)+MOD(INT(E5),2),ROUND(E5,0)) -> 60 | G5: =F5-5 -> 55 | H5: =IF('N207 80km'!D4="--",6,'N207 80km'!D4) -> 42 | I5: =IF(MOD(H5,1)=0.5,INT(H5)+MOD(INT(H5),2),ROUND(H5,0)) -> 42 | J5: {=_xlfn.IFS(I5=56,53,I5=57,53,OR(I5>57,I5<56),I5-2)} -> 40 | K5: =10*LOG(10^(G5/10)+(10^(J5/10))) -> 55.135209 | L5: =IF(MOD(K5,1)=0.5,INT(K5)+MOD(INT(K5),2),ROUND(K5,0)) -> 55 | M5: =IF('Brugweg 30km'!D4="--",6,'Brugweg 30km'!D4) -> 36.4 | N5: =IF(MOD(M5,1)=0.5,INT(M5)+MOD(INT(M5),2),ROUND(M5,0)) -> 36 | O5: =N5-5 -> 31 | P5: =IF('Hefbrug (50 km uur)'!D4="--",6,'Hefbrug (50 km uur)'!D4) -> 48.4 | Q5: =IF(MOD(P5,1)=0.5,INT(P5)+MOD(INT(P5),2),ROUND(P5,0)) -> 48 | R5: =Q5-5 -> 43 | S5: ='Kerkweg oost 50 km'!D4 -> 24.9 | T5: =IF(MOD(S5,1)=0.5,INT(S5)+MOD(INT(S5),2),ROUND(S5,0)) -> 25 | U5: =T5-5 -> 20 | V5: ='N454 Kanaaldijk 50 km'!D4 -> 5.8 | W5: =IF(MOD(V5,1)=0.5,INT(V5)+MOD(INT(V5),2),ROUND(V5,0)) -> 6 | X5: =W5-5 -> 1 | Y5: ='N454 Kanaaldijk 80 km'!D4 -> 17 | Z5: =IF(MOD(Y5,1)=0.5,INT(Y5)+MOD(INT(Y5),2),ROUND(Y5,0)) -> 17 | AA5: =IF(AND(Z5>55.49,Z5<56.51),Z5,) -> 0 | AB5: =IF(AND(Z5>56.5,Z5<57.5),Z5,) -> 0 | AC5: =IF(AA5>0,AA5-3,IF(AB5>0,AB5-4,Z5-2)) -> 15 | AD5: ='N451 80 km'!D4 -> 20.6 | AE5: =IF(MOD(AD5,1)=0.5,INT(AD5)+MOD(INT(AD5),2),ROUND(AD5,0)) -> 21 | AF5: =IF(AND(AE5>55.49,AE5<56.51),AE5,) -> 0 | AG5: =IF(AND(AE5>56.5,AE5<57.5),AE5,) -> 0 | AH5: =IF(AF5>0,AF5-3,IF(AG5>0,AG5-4,AE5-2)) -> 19 | AI5: =IF('A12'!D4="--",6,'A12'!D4) -> 38.3 | AJ5: =IF(MOD(AI5,1)=0.5,INT(AI5)+MOD(INT(AI5),2),ROUND(AI5,0)) -> 38 | AK5: =IF(AND(AJ5>55.49,AJ5<56.51),AJ5,) -> 0 | AL5: =IF(AND(AJ5>56.5,AJ5<57.5),AJ5,) -> 0 | AM5: =IF(AK5>0,AK5-3,IF(AL5>0,AL5-4,AJ5-2)) -> 36 | AN5: ='A20'!D4 -> 33.4 | AO5: =IF(MOD(AN5,1)=0.5,INT(AN5)+MOD(INT(AN5),2),ROUND(AN5,0)) -> 33 | AP5: =IF(AND(AO5>55.49,AO5<56.51),AO5,) -> 0 | AQ5: =IF(AND(AO5>56.5,AO5<57.5),AO5,) -> 0 | AR5: =IF(AP5>0,AP5-3,IF(AQ5>0,AQ5-4,AO5-2)) -> 31 | AU5: {=_xlfn.IFS(I5=56,53,I5=57,53,OR(I5>57,I5<56),I5-2)} -> 40
A6: ='N207 50km'!A5 -> Z9_B | B6: ='N207 50km'!B5 -> Zuidkade 9 | C6: ='N207 50km'!C5 -> 4.5 | D6: ='N207'!D5 -> 60.1 | E6: =IF('N207 50km'!D5="--",6,'N207 50km'!D5) -> 60.1 | F6: =IF(MOD(E6,1)=0.5,INT(E6)+MOD(INT(E6),2),ROUND(E6,0)) -> 60 | G6: =F6-5 -> 55 | H6: =IF('N207 80km'!D5="--",6,'N207 80km'!D5) -> 42.1 | I6: =IF(MOD(H6,1)=0.5,INT(H6)+MOD(INT(H6),2),ROUND(H6,0)) -> 42 | J6: {=_xlfn.IFS(I6=56,53,I6=57,53,OR(I6>57,I6<56),I6-2)} -> 40 | K6: =10*LOG(10^(G6/10)+(10^(J6/10))) -> 55.135209 | L6: =IF(MOD(K6,1)=0.5,INT(K6)+MOD(INT(K6),2),ROUND(K6,0)) -> 55 | M6: =IF('Brugweg 30km'!D5="--",6,'Brugweg 30km'!D5) -> 35.5 | N6: =IF(MOD(M6,1)=0.5,INT(M6)+MOD(INT(M6),2),ROUND(M6,0)) -> 36 | O6: =N6-5 -> 31 | P6: =IF('Hefbrug (50 km uur)'!D5="--",6,'Hefbrug (50 km uur)'!D5) -> 47.4 | Q6: =IF(MOD(P6,1)=0.5,INT(P6)+MOD(INT(P6),2),ROUND(P6,0)) -> 47 | R6: =Q6-5 -> 42 | S6: ='Kerkweg oost 50 km'!D5 -> 22.3 | T6: =IF(MOD(S6,1)=0.5,INT(S6)+MOD(INT(S6),2),ROUND(S6,0)) -> 22 | U6: =T6-5 -> 17 | V6: ='N454 Kanaaldijk 50 km'!D5 -> 7.9 | W6: =IF(MOD(V6,1)=0.5,INT(V6)+MOD(INT(V6),2),ROUND(V6,0)) -> 8 | X6: =W6-5 -> 3 | Y6: ='N454 Kanaaldijk 80 km'!D5 -> 17.1 | Z6: =IF(MOD(Y6,1)=0.5,INT(Y6)+MOD(INT(Y6),2),ROUND(Y6,0)) -> 17 | AA6: =IF(AND(Z6>55.49,Z6<56.51),Z6,) -> 0 | AB6: =IF(AND(Z6>56.5,Z6<57.5),Z6,) -> 0 | AC6: =IF(AA6>0,AA6-3,IF(AB6>0,AB6-4,Z6-2)) -> 15 | AD6: ='N451 80 km'!D5 -> 19.7 | AE6: =IF(MOD(AD6,1)=0.5,INT(AD6)+MOD(INT(AD6),2),ROUND(AD6,0)) -> 20 | AF6: =IF(AND(AE6>55.49,AE6<56.51),AE6,) -> 0 | AG6: =IF(AND(AE6>56.5,AE6<57.5),AE6,) -> 0 | AH6: =IF(AF6>0,AF6-3,IF(AG6>0,AG6-4,AE6-2)) -> 18 | AI6: =IF('A12'!D5="--",6,'A12'!D5) -> 36.8 | AJ6: =IF(MOD(AI6,1)=0.5,INT(AI6)+MOD(INT(AI6),2),ROUND(AI6,0)) -> 37 | AK6: =IF(AND(AJ6>55.49,AJ6<56.51),AJ6,) -> 0 | AL6: =IF(AND(AJ6>56.5,AJ6<57.5),AJ6,) -> 0 | AM6: =IF(AK6>0,AK6-3,IF(AL6>0,AL6-4,AJ6-2)) -> 35 | AN6: ='A20'!D5 -> 31.9 | AO6: =IF(MOD(AN6,1)=0.5,INT(AN6)+MOD(INT(AN6),2),ROUND(AN6,0)) -> 32 | AP6: =IF(AND(AO6>55.49,AO6<56.51),AO6,) -> 0 | AQ6: =IF(AND(AO6>56.5,AO6<57.5),AO6,) -> 0 | AR6: =IF(AP6>0,AP6-3,IF(AQ6>0,AQ6-4,AO6-2)) -> 30 | AU6: {=_xlfn.IFS(I6=56,53,I6=57,53,OR(I6>57,I6<56),I6-2)} -> 40
A7: ='N207 50km'!A6 -> Z9_A | B7: ='N207 50km'!B6 -> Zuidkade 9 | C7: ='N207 50km'!C6 -> 1.5 | D7: ='N207'!D6 -> 58.7 | E7: =IF('N207 50km'!D6="--",6,'N207 50km'!D6) -> 58.6 | F7: =IF(MOD(E7,1)=0.5,INT(E7)+MOD(INT(E7),2),ROUND(E7,0)) -> 59 | G7: =F7-5 -> 54 | H7: =IF('N207 80km'!D6="--",6,'N207 80km'!D6) -> 42.2 | I7: =IF(MOD(H7,1)=0.5,INT(H7)+MOD(INT(H7),2),ROUND(H7,0)) -> 42 | J7: {=_xlfn.IFS(I7=56,53,I7=57,53,OR(I7>57,I7<56),I7-2)} -> 40 | K7: =10*LOG(10^(G7/10)+(10^(J7/10))) -> 54.169543 | L7: =IF(MOD(K7,1)=0.5,INT(K7)+MOD(INT(K7),2),ROUND(K7,0)) -> 54 | M7: =IF('Brugweg 30km'!D6="--",6,'Brugweg 30km'!D6) -> 34.6 | N7: =IF(MOD(M7,1)=0.5,INT(M7)+MOD(INT(M7),2),ROUND(M7,0)) -> 35 | O7: =N7-5 -> 30 | P7: =IF('Hefbrug (50 km uur)'!D6="--",6,'Hefbrug (50 km uur)'!D6) -> 46.7 | Q7: =IF(MOD(P7,1)=0.5,INT(P7)+MOD(INT(P7),2),ROUND(P7,0)) -> 47 | R7: =Q7-5 -> 42 | S7: ='Kerkweg oost 50 km'!D6 -> 18.8 | T7: =IF(MOD(S7,1)=0.5,INT(S7)+MOD(INT(S7),2),ROUND(S7,0)) -> 19 | U7: =T7-5 -> 14 | V7: ='N454 Kanaaldijk 50 km'!D6 -> 7.3 | W7: =IF(MOD(V7,1)=0.5,INT(V7)+MOD(INT(V7),2),ROUND(V7,0)) -> 7 | X7: =W7-5 -> 2 | Y7: ='N454 Kanaaldijk 80 km'!D6 -> 16.3 | Z7: =IF(MOD(Y7,1)=0.5,INT(Y7)+MOD(INT(Y7),2),ROUND(Y7,0)) -> 16 | AA7: =IF(AND(Z7>55.49,Z7<56.51),Z7,) -> 0 | AB7: =IF(AND(Z7>56.5,Z7<57.5),Z7,) -> 0 | AC7: =IF(AA7>0,AA7-3,IF(AB7>0,AB7-4,Z7-2)) -> 14 | AD7: ='N451 80 km'!D6 -> 17.9 | AE7: =IF(MOD(AD7,1)=0.5,INT(AD7)+MOD(INT(AD7),2),ROUND(AD7,0)) -> 18 | AF7: =IF(AND(AE7>55.49,AE7<56.51),AE7,) -> 0 | AG7: =IF(AND(AE7>56.5,AE7<57.5),AE7,) -> 0 | AH7: =IF(AF7>0,AF7-3,IF(AG7>0,AG7-4,AE7-2)) -> 16 | AI7: =IF('A12'!D6="--",6,'A12'!D6) -> 33.6 | AJ7: =IF(MOD(AI7,1)=0.5,INT(AI7)+MOD(INT(AI7),2),ROUND(AI7,0)) -> 34 | AK7: =IF(AND(AJ7>55.49,AJ7<56.51),AJ7,) -> 0 | AL7: =IF(AND(AJ7>56.5,AJ7<57.5),AJ7,) -> 0 | AM7: =IF(AK7>0,AK7-3,IF(AL7>0,AL7-4,AJ7-2)) -> 32 | AN7: ='A20'!D6 -> 29.6 | AO7: =IF(MOD(AN7,1)=0.5,INT(AN7)+MOD(INT(AN7),2),ROUND(AN7,0)) -> 30 | AP7: =IF(AND(AO7>55.49,AO7<56.51),AO7,) -> 0 | AQ7: =IF(AND(AO7>56.5,AO7<57.5),AO7,) -> 0 | AR7: =IF(AP7>0,AP7-3,IF(AQ7>0,AQ7-4,AO7-2)) -> 28 | AU7: {=_xlfn.IFS(I7=56,53,I7=57,53,OR(I7>57,I7<56),I7-2)} -> 40
A8: ='N207 50km'!A7 -> Z95_B | B8: ='N207 50km'!B7 -> Zuidkade 95 | C8: ='N207 50km'!C7 -> 4.5 | D8: ='N207'!D7 -> 57.1 | E8: =IF('N207 50km'!D7="--",6,'N207 50km'!D7) -> 50.2 | F8: =IF(MOD(E8,1)=0.5,INT(E8)+MOD(INT(E8),2),ROUND(E8,0)) -> 50 | G8: =F8-5 -> 45 | H8: =IF('N207 80km'!D7="--",6,'N207 80km'!D7) -> 56.1 | I8: =IF(MOD(H8,1)=0.5,INT(H8)+MOD(INT(H8),2),ROUND(H8,0)) -> 56 | J8: {=_xlfn.IFS(I8=56,53,I8=57,53,OR(I8>57,I8<56),I8-2)} -> 53 | K8: =10*LOG(10^(G8/10)+(10^(J8/10))) -> 53.63892 | L8: =IF(MOD(K8,1)=0.5,INT(K8)+MOD(INT(K8),2),ROUND(K8,0)) -> 54 | M8: =IF('Brugweg 30km'!D7="--",6,'Brugweg 30km'!D7) -> 18.3 | N8: =IF(MOD(M8,1)=0.5,INT(M8)+MOD(INT(M8),2),ROUND(M8,0)) -> 18 | O8: =N8-5 -> 13 | P8: =IF('Hefbrug (50 km uur)'!D7="--",6,'Hefbrug (50 km uur)'!D7) -> 20.1 | Q8: =IF(MOD(P8,1)=0.5,INT(P8)+MOD(INT(P8),2),ROUND(P8,0)) -> 20 | R8: =Q8-5 -> 15 | S8: ='Kerkweg oost 50 km'!D7 -> 18.1 | T8: =IF(MOD(S8,1)=0.5,INT(S8)+MOD(INT(S8),2),ROUND(S8,0)) -> 18 | U8: =T8-5 -> 13 | V8: ='N454 Kanaaldijk 50 km'!D7 -> 25.3 | W8: =IF(MOD(V8,1)=0.5,INT(V8)+MOD(INT(V8),2),ROUND(V8,0)) -> 25 | X8: =W8-5 -> 20 | Y8: ='N454 Kanaaldijk 80 km'!D7 -> 24.6 | Z8: =IF(MOD(Y8,1)=0.5,INT(Y8)+MOD(INT(Y8),2),ROUND(Y8,0)) -> 25 | AA8: =IF(AND(Z8>55.49,Z8<56.51),Z8,) -> 0 | AB8: =IF(AND(Z8>56.5,Z8<57.5),Z8,) -> 0 | AC8: =IF(AA8>0,AA8-3,IF(AB8>0,AB8-4,Z8-2)) -> 23 | AD8: ='N451 80 km'!D7 -> 27.4 | AE8: =IF(MOD(AD8,1)=0.5,INT(AD8)+MOD(INT(AD8),2),ROUND(AD8,0)) -> 27 | AF8: =IF(AND(AE8>55.49,AE8<56.51),AE8,) -> 0 | AG8: =IF(AND(AE8>56.5,AE8<57.5),AE8,) -> 0 | AH8: =IF(AF8>0,AF8-3,IF(AG8>0,AG8-4,AE8-2)) -> 25 | AI8: =IF('A12'!D7="--",6,'A12'!D7) -> 45 | AJ8: =IF(MOD(AI8,1)=0.5,INT(AI8)+MOD(INT(AI8),2),ROUND(AI8,0)) -> 45 | AK8: =IF(AND(AJ8>55.49,AJ8<56.51),AJ8,) -> 0 | AL8: =IF(AND(AJ8>56.5,AJ8<57.5),AJ8,) -> 0 | AM8: =IF(AK8>0,AK8-3,IF(AL8>0,AL8-4,AJ8-2)) -> 43 | AN8: ='A20'!D7 -> 40.1 | AO8: =IF(MOD(AN8,1)=0.5,INT(AN8)+MOD(INT(AN8),2),ROUND(AN8,0)) -> 40 | AP8: =IF(AND(AO8>55.49,AO8<56.51),AO8,) -> 0 | AQ8: =IF(AND(AO8>56.5,AO8<57.5),AO8,) -> 0 | AR8: =IF(AP8>0,AP8-3,IF(AQ8>0,AQ8-4,AO8-2)) -> 38 | AU8: {=_xlfn.IFS(I8=56,53,I8=57,53,OR(I8>57,I8<56),I8-2)} -> 53
A9: ='N207 50km'!A8 -> Z95_A | B9: ='N207 50km'!B8 -> Zuidkade 95 | C9: ='N207 50km'!C8 -> 1.5 | D9: ='N207'!D8 -> 56.1 | E9: =IF('N207 50km'!D8="--",6,'N207 50km'!D8) -> 49.8 | F9: =IF(MOD(E9,1)=0.5,INT(E9)+MOD(INT(E9),2),ROUND(E9,0)) -> 50 | G9: =F9-5 -> 45 | H9: =IF('N207 80km'!D8="--",6,'N207 80km'!D8) -> 54.9 | I9: =IF(MOD(H9,1)=0.5,INT(H9)+MOD(INT(H9),2),ROUND(H9,0)) -> 55 | J9: {=_xlfn.IFS(I9=56,53,I9=57,53,OR(I9>57,I9<56),I9-2)} -> 53 | K9: =10*LOG(10^(G9/10)+(10^(J9/10))) -> 53.63892 | L9: =IF(MOD(K9,1)=0.5,INT(K9)+MOD(INT(K9),2),ROUND(K9,0)) -> 54 | M9: =IF('Brugweg 30km'!D8="--",6,'Brugweg 30km'!D8) -> 17.6 | N9: =IF(MOD(M9,1)=0.5,INT(M9)+MOD(INT(M9),2),ROUND(M9,0)) -> 18 | O9: =N9-5 -> 13 | P9: =IF('Hefbrug (50 km uur)'!D8="--",6,'Hefbrug (50 km uur)'!D8) -> 20 | Q9: =IF(MOD(P9,1)=0.5,INT(P9)+MOD(INT(P9),2),ROUND(P9,0)) -> 20 | R9: =Q9-5 -> 15 | S9: ='Kerkweg oost 50 km'!D8 -> 16.1 | T9: =IF(MOD(S9,1)=0.5,INT(S9)+MOD(INT(S9),2),ROUND(S9,0)) -> 16 | U9: =T9-5 -> 11 | V9: ='N454 Kanaaldijk 50 km'!D8 -> 25.8 | W9: =IF(MOD(V9,1)=0.5,INT(V9)+MOD(INT(V9),2),ROUND(V9,0)) -> 26 | X9: =W9-5 -> 21 | Y9: ='N454 Kanaaldijk 80 km'!D8 -> 24 | Z9: =IF(MOD(Y9,1)=0.5,INT(Y9)+MOD(INT(Y9),2),ROUND(Y9,0)) -> 24 | AA9: =IF(AND(Z9>55.49,Z9<56.51),Z9,) -> 0 | AB9: =IF(AND(Z9>56.5,Z9<57.5),Z9,) -> 0 | AC9: =IF(AA9>0,AA9-3,IF(AB9>0,AB9-4,Z9-2)) -> 22 | AD9: ='N451 80 km'!D8 -> 27.1 | AE9: =IF(MOD(AD9,1)=0.5,INT(AD9)+MOD(INT(AD9),2),ROUND(AD9,0)) -> 27 | AF9: =IF(AND(AE9>55.49,AE9<56.51),AE9,) -> 0 | AG9: =IF(AND(AE9>56.5,AE9<57.5),AE9,) -> 0 | AH9: =IF(AF9>0,AF9-3,IF(AG9>0,AG9-4,AE9-2)) -> 25 | AI9: =IF('A12'!D8="--",6,'A12'!D8) -> 44.7 | AJ9: =IF(MOD(AI9,1)=0.5,INT(AI9)+MOD(INT(AI9),2),ROUND(AI9,0)) -> 45 | AK9: =IF(AND(AJ9>55.49,AJ9<56.51),AJ9,) -> 0 | AL9: =IF(AND(AJ9>56.5,AJ9<57.5),AJ9,) -> 0 | AM9: =IF(AK9>0,AK9-3,IF(AL9>0,AL9-4,AJ9-2)) -> 43 | AN9: ='A20'!D8 -> 39.8 | AO9: =IF(MOD(AN9,1)=0.5,INT(AN9)+MOD(INT(AN9),2),ROUND(AN9,0)) -> 40 | AP9: =IF(AND(AO9>55.49,AO9<56.51),AO9,) -> 0 | AQ9: =IF(AND(AO9>56.5,AO9<57.5),AO9,) -> 0 | AR9: =IF(AP9>0,AP9-3,IF(AQ9>0,AQ9-4,AO9-2)) -> 38 | AU9: {=_xlfn.IFS(I9=56,53,I9=57,53,OR(I9>57,I9<56),I9-2)} -> 53
A10: ='N207 50km'!A9 -> Z93_B | B10: ='N207 50km'!B9 -> Zuidkade 93 | C10: ='N207 50km'!C9 -> 4.5 | D10: ='N207'!D9 -> 57.1 | E10: =IF('N207 50km'!D9="--",6,'N207 50km'!D9) -> 52.1 | F10: =IF(MOD(E10,1)=0.5,INT(E10)+MOD(INT(E10),2),ROUND(E10,0)) -> 52 | G10: =F10-5 -> 47 | H10: =IF('N207 80km'!D9="--",6,'N207 80km'!D9) -> 55.4 | I10: =IF(MOD(H10,1)=0.5,INT(H10)+MOD(INT(H10),2),ROUND(H10,0)) -> 55 | J10: {=_xlfn.IFS(I10=56,53,I10=57,53,OR(I10>57,I10<56),I10-2)} -> 53 | K10: =10*LOG(10^(G10/10)+(10^(J10/10))) -> 53.973228 | L10: =IF(MOD(K10,1)=0.5,INT(K10)+MOD(INT(K10),2),ROUND(K10,0)) -> 54 | M10: =IF('Brugweg 30km'!D9="--",6,'Brugweg 30km'!D9) -> 18 | N10: =IF(MOD(M10,1)=0.5,INT(M10)+MOD(INT(M10),2),ROUND(M10,0)) -> 18 | O10: =N10-5 -> 13 | P10: =IF('Hefbrug (50 km uur)'!D9="--",6,'Hefbrug (50 km uur)'!D9) -> 13.4 | Q10: =IF(MOD(P10,1)=0.5,INT(P10)+MOD(INT(P10),2),ROUND(P10,0)) -> 13 | R10: =Q10-5 -> 8 | S10: ='Kerkweg oost 50 km'!D9 -> 16.8 | T10: =IF(MOD(S10,1)=0.5,INT(S10)+MOD(INT(S10),2),ROUND(S10,0)) -> 17 | U10: =T10-5 -> 12 | V10: ='N454 Kanaaldijk 50 km'!D9 -> 26.9 | W10: =IF(MOD(V10,1)=0.5,INT(V10)+MOD(INT(V10),2),ROUND(V10,0)) -> 27 | X10: =W10-5 -> 22 | Y10: ='N454 Kanaaldijk 80 km'!D9 -> 25.7 | Z10: =IF(MOD(Y10,1)=0.5,INT(Y10)+MOD(INT(Y10),2),ROUND(Y10,0)) -> 26 | AA10: =IF(AND(Z10>55.49,Z10<56.51),Z10,) -> 0 | AB10: =IF(AND(Z10>56.5,Z10<57.5),Z10,) -> 0 | AC10: =IF(AA10>0,AA10-3,IF(AB10>0,AB10-4,Z10-2)) -> 24 | AD10: ='N451 80 km'!D9 -> 27.7 | AE10: =IF(MOD(AD10,1)=0.5,INT(AD10)+MOD(INT(AD10),2),ROUND(AD10,0)) -> 28 | AF10: =IF(AND(AE10>55.49,AE10<56.51),AE10,) -> 0 | AG10: =IF(AND(AE10>56.5,AE10<57.5),AE10,) -> 0 | AH10: =IF(AF10>0,AF10-3,IF(AG10>0,AG10-4,AE10-2)) -> 26 | AI10: =IF('A12'!D9="--",6,'A12'!D9) -> 45.5 | AJ10: =IF(MOD(AI10,1)=0.5,INT(AI10)+MOD(INT(AI10),2),ROUND(AI10,0)) -> 46 | AK10: =IF(AND(AJ10>55.49,AJ10<56.51),AJ10,) -> 0 | AL10: =IF(AND(AJ10>56.5,AJ10<57.5),AJ10,) -> 0 | AM10: =IF(AK10>0,AK10-3,IF(AL10>0,AL10-4,AJ10-2)) -> 44 | AN10: ='A20'!D9 -> 41.2 | AO10: =IF(MOD(AN10,1)=0.5,INT(AN10)+MOD(INT(AN10),2),ROUND(AN10,0)) -> 41 | AP10: =IF(AND(AO10>55.49,AO10<56.51),AO10,) -> 0 | AQ10: =IF(AND(AO10>56.5,AO10<57.5),AO10,) -> 0 | AR10: =IF(AP10>0,AP10-3,IF(AQ10>0,AQ10-4,AO10-2)) -> 39
A11: ='N207 50km'!A10 -> Z93_A | B11: ='N207 50km'!B10 -> Zuidkade 93 | C11: ='N207 50km'!C10 -> 1.5 | D11: ='N207'!D10 -> 56 | E11: =IF('N207 50km'!D10="--",6,'N207 50km'!D10) -> 51.2 | F11: =IF(MOD(E11,1)=0.5,INT(E11)+MOD(INT(E11),2),ROUND(E11,0)) -> 51 | G11: =F11-5 -> 46 | H11: =IF('N207 80km'!D10="--",6,'N207 80km'!D10) -> 54.2 | I11: =IF(MOD(H11,1)=0.5,INT(H11)+MOD(INT(H11),2),ROUND(H11,0)) -> 54 | J11: {=_xlfn.IFS(I11=56,53,I11=57,53,OR(I11>57,I11<56),I11-2)} -> 52 | K11: =10*LOG(10^(G11/10)+(10^(J11/10))) -> 52.973228 | L11: =IF(MOD(K11,1)=0.5,INT(K11)+MOD(INT(K11),2),ROUND(K11,0)) -> 53 | M11: =IF('Brugweg 30km'!D10="--",6,'Brugweg 30km'!D10) -> 17.7 | N11: =IF(MOD(M11,1)=0.5,INT(M11)+MOD(INT(M11),2),ROUND(M11,0)) -> 18 | O11: =N11-5 -> 13 | P11: =IF('Hefbrug (50 km uur)'!D10="--",6,'Hefbrug (50 km uur)'!D10) -> 9 | Q11: =IF(MOD(P11,1)=0.5,INT(P11)+MOD(INT(P11),2),ROUND(P11,0)) -> 9 | R11: =Q11-5 -> 4 | S11: ='Kerkweg oost 50 km'!D10 -> 13.8 | T11: =IF(MOD(S11,1)=0.5,INT(S11)+MOD(INT(S11),2),ROUND(S11,0)) -> 14 | U11: =T11-5 -> 9 | V11: ='N454 Kanaaldijk 50 km'!D10 -> 26.9 | W11: =IF(MOD(V11,1)=0.5,INT(V11)+MOD(INT(V11),2),ROUND(V11,0)) -> 27 | X11: =W11-5 -> 22 | Y11: ='N454 Kanaaldijk 80 km'!D10 -> 24.8 | Z11: =IF(MOD(Y11,1)=0.5,INT(Y11)+MOD(INT(Y11),2),ROUND(Y11,0)) -> 25 | AA11: =IF(AND(Z11>55.49,Z11<56.51),Z11,) -> 0 | AB11: =IF(AND(Z11>56.5,Z11<57.5),Z11,) -> 0 | AC11: =IF(AA11>0,AA11-3,IF(AB11>0,AB11-4,Z11-2)) -> 23 | AD11: ='N451 80 km'!D10 -> 27 | AE11: =IF(MOD(AD11,1)=0.5,INT(AD11)+MOD(INT(AD11),2),ROUND(AD11,0)) -> 27 | AF11: =IF(AND(AE11>55.49,AE11<56.51),AE11,) -> 0 | AG11: =IF(AND(AE11>56.5,AE11<57.5),AE11,) -> 0 | AH11: =IF(AF11>0,AF11-3,IF(AG11>0,AG11-4,AE11-2)) -> 25 | AI11: =IF('A12'!D10="--",6,'A12'!D10) -> 45.1 | AJ11: =IF(MOD(AI11,1)=0.5,INT(AI11)+MOD(INT(AI11),2),ROUND(AI11,0)) -> 45 | AK11: =IF(AND(AJ11>55.49,AJ11<56.51),AJ11,) -> 0 | AL11: =IF(AND(AJ11>56.5,AJ11<57.5),AJ11,) -> 0 | AM11: =IF(AK11>0,AK11-3,IF(AL11>0,AL11-4,AJ11-2)) -> 43 | AN11: ='A20'!D10 -> 40.7 | AO11: =IF(MOD(AN11,1)=0.5,INT(AN11)+MOD(INT(AN11),2),ROUND(AN11,0)) -> 41 | AP11: =IF(AND(AO11>55.49,AO11<56.51),AO11,) -> 0 | AQ11: =IF(AND(AO11>56.5,AO11<57.5),AO11,) -> 0 | AR11: =IF(AP11>0,AP11-3,IF(AQ11>0,AQ11-4,AO11-2)) -> 39
A12: ='N207 50km'!A11 -> Z92_B | B12: ='N207 50km'!B11 -> Zuidkade 92 | C12: ='N207 50km'!C11 -> 4.5 | D12: ='N207'!D11 -> 57.5 | E12: =IF('N207 50km'!D11="--",6,'N207 50km'!D11) -> 53.7 | F12: =IF(MOD(E12,1)=0.5,INT(E12)+MOD(INT(E12),2),ROUND(E12,0)) -> 54 | G12: =F12-5 -> 49 | H12: =IF('N207 80km'!D11="--",6,'N207 80km'!D11) -> 55.1 | I12: =IF(MOD(H12,1)=0.5,INT(H12)+MOD(INT(H12),2),ROUND(H12,0)) -> 55 | J12: {=_xlfn.IFS(I12=56,53,I12=57,53,OR(I12>57,I12<56),I12-2)} -> 53 | K12: =10*LOG(10^(G12/10)+(10^(J12/10))) -> 54.455405 | L12: =IF(MOD(K12,1)=0.5,INT(K12)+MOD(INT(K12),2),ROUND(K12,0)) -> 54 | M12: =IF('Brugweg 30km'!D11="--",6,'Brugweg 30km'!D11) -> 18.7 | N12: =IF(MOD(M12,1)=0.5,INT(M12)+MOD(INT(M12),2),ROUND(M12,0)) -> 19 | O12: =N12-5 -> 14 | P12: =IF('Hefbrug (50 km uur)'!D11="--",6,'Hefbrug (50 km uur)'!D11) -> 24.3 | Q12: =IF(MOD(P12,1)=0.5,INT(P12)+MOD(INT(P12),2),ROUND(P12,0)) -> 24 | R12: =Q12-5 -> 19 | S12: ='Kerkweg oost 50 km'!D11 -> 16.4 | T12: =IF(MOD(S12,1)=0.5,INT(S12)+MOD(INT(S12),2),ROUND(S12,0)) -> 16 | U12: =T12-5 -> 11 | V12: ='N454 Kanaaldijk 50 km'!D11 -> 26.2 | W12: =IF(MOD(V12,1)=0.5,INT(V12)+MOD(INT(V12),2),ROUND(V12,0)) -> 26 | X12: =W12-5 -> 21 | Y12: ='N454 Kanaaldijk 80 km'!D11 -> 24.7 | Z12: =IF(MOD(Y12,1)=0.5,INT(Y12)+MOD(INT(Y12),2),ROUND(Y12,0)) -> 25 | AA12: =IF(AND(Z12>55.49,Z12<56.51),Z12,) -> 0 | AB12: =IF(AND(Z12>56.5,Z12<57.5),Z12,) -> 0 | AC12: =IF(AA12>0,AA12-3,IF(AB12>0,AB12-4,Z12-2)) -> 23 | AD12: ='N451 80 km'!D11 -> 27.6 | AE12: =IF(MOD(AD12,1)=0.5,INT(AD12)+MOD(INT(AD12),2),ROUND(AD12,0)) -> 28 | AF12: =IF(AND(AE12>55.49,AE12<56.51),AE12,) -> 0 | AG12: =IF(AND(AE12>56.5,AE12<57.5),AE12,) -> 0 | AH12: =IF(AF12>0,AF12-3,IF(AG12>0,AG12-4,AE12-2)) -> 26 | AI12: =IF('A12'!D11="--",6,'A12'!D11) -> 44.7 | AJ12: =IF(MOD(AI12,1)=0.5,INT(AI12)+MOD(INT(AI12),2),ROUND(AI12,0)) -> 45 | AK12: =IF(AND(AJ12>55.49,AJ12<56.51),AJ12,) -> 0 | AL12: =IF(AND(AJ12>56.5,AJ12<57.5),AJ12,) -> 0 | AM12: =IF(AK12>0,AK12-3,IF(AL12>0,AL12-4,AJ12-2)) -> 43 | AN12: ='A20'!D11 -> 40.1 | AO12: =IF(MOD(AN12,1)=0.5,INT(AN12)+MOD(INT(AN12),2),ROUND(AN12,0)) -> 40 | AP12: =IF(AND(AO12>55.49,AO12<56.51),AO12,) -> 0 | AQ12: =IF(AND(AO12>56.5,AO12<57.5),AO12,) -> 0 | AR12: =IF(AP12>0,AP12-3,IF(AQ12>0,AQ12-4,AO12-2)) -> 38
A13: ='N207 50km'!A12 -> Z92_A | B13: ='N207 50km'!B12 -> Zuidkade 92 | C13: ='N207 50km'!C12 -> 1.5 | D13: ='N207'!D12 -> 56.3 | E13: =IF('N207 50km'!D12="--",6,'N207 50km'!D12) -> 52.6 | F13: =IF(MOD(E13,1)=0.5,INT(E13)+MOD(INT(E13),2),ROUND(E13,0)) -> 53 | G13: =F13-5 -> 48 | H13: =IF('N207 80km'!D12="--",6,'N207 80km'!D12) -> 54 | I13: =IF(MOD(H13,1)=0.5,INT(H13)+MOD(INT(H13),2),ROUND(H13,0)) -> 54 | J13: {=_xlfn.IFS(I13=56,53,I13=57,53,OR(I13>57,I13<56),I13-2)} -> 52 | K13: =10*LOG(10^(G13/10)+(10^(J13/10))) -> 53.455405 | L13: =IF(MOD(K13,1)=0.5,INT(K13)+MOD(INT(K13),2),ROUND(K13,0)) -> 53 | M13: =IF('Brugweg 30km'!D12="--",6,'Brugweg 30km'!D12) -> 18.5 | N13: =IF(MOD(M13,1)=0.5,INT(M13)+MOD(INT(M13),2),ROUND(M13,0)) -> 18 | O13: =N13-5 -> 13 | P13: =IF('Hefbrug (50 km uur)'!D12="--",6,'Hefbrug (50 km uur)'!D12) -> 24.1 | Q13: =IF(MOD(P13,1)=0.5,INT(P13)+MOD(INT(P13),2),ROUND(P13,0)) -> 24 | R13: =Q13-5 -> 19 | S13: ='Kerkweg oost 50 km'!D12 -> 14.4 | T13: =IF(MOD(S13,1)=0.5,INT(S13)+MOD(INT(S13),2),ROUND(S13,0)) -> 14 | U13: =T13-5 -> 9 | V13: ='N454 Kanaaldijk 50 km'!D12 -> 27.2 | W13: =IF(MOD(V13,1)=0.5,INT(V13)+MOD(INT(V13),2),ROUND(V13,0)) -> 27 | X13: =W13-5 -> 22 | Y13: ='N454 Kanaaldijk 80 km'!D12 -> 23.6 | Z13: =IF(MOD(Y13,1)=0.5,INT(Y13)+MOD(INT(Y13),2),ROUND(Y13,0)) -> 24 | AA13: =IF(AND(Z13>55.49,Z13<56.51),Z13,) -> 0 | AB13: =IF(AND(Z13>56.5,Z13<57.5),Z13,) -> 0 | AC13: =IF(AA13>0,AA13-3,IF(AB13>0,AB13-4,Z13-2)) -> 22 | AD13: ='N451 80 km'!D12 -> 27.3 | AE13: =IF(MOD(AD13,1)=0.5,INT(AD13)+MOD(INT(AD13),2),ROUND(AD13,0)) -> 27 | AF13: =IF(AND(AE13>55.49,AE13<56.51),AE13,) -> 0 | AG13: =IF(AND(AE13>56.5,AE13<57.5),AE13,) -> 0 | AH13: =IF(AF13>0,AF13-3,IF(AG13>0,AG13-4,AE13-2)) -> 25 | AI13: =IF('A12'!D12="--",6,'A12'!D12) -> 44.4 | AJ13: =IF(MOD(AI13,1)=0.5,INT(AI13)+MOD(INT(AI13),2),ROUND(AI13,0)) -> 44 | AK13: =IF(AND(AJ13>55.49,AJ13<56.51),AJ13,) -> 0 | AL13: =IF(AND(AJ13>56.5,AJ13<57.5),AJ13,) -> 0 | AM13: =IF(AK13>0,AK13-3,IF(AL13>0,AL13-4,AJ13-2)) -> 42 | AN13: ='A20'!D12 -> 39.7 | AO13: =IF(MOD(AN13,1)=0.5,INT(AN13)+MOD(INT(AN13),2),ROUND(AN13,0)) -> 40 | AP13: =IF(AND(AO13>55.49,AO13<56.51),AO13,) -> 0 | AQ13: =IF(AND(AO13>56.5,AO13<57.5),AO13,) -> 0 | AR13: =IF(AP13>0,AP13-3,IF(AQ13>0,AQ13-4,AO13-2)) -> 38
A14: ='N207 50km'!A13 -> Z90g_C | B14: ='N207 50km'!B13 -> Zuidkade 90g | C14: ='N207 50km'!C13 -> 7.5 | D14: ='N207'!D13 -> 58 | E14: =IF('N207 50km'!D13="--",6,'N207 50km'!D13) -> 55 | F14: =IF(MOD(E14,1)=0.5,INT(E14)+MOD(INT(E14),2),ROUND(E14,0)) -> 55 | G14: =F14-5 -> 50 | H14: =IF('N207 80km'!D13="--",6,'N207 80km'!D13) -> 55.1 | I14: =IF(MOD(H14,1)=0.5,INT(H14)+MOD(INT(H14),2),ROUND(H14,0)) -> 55 | J14: {=_xlfn.IFS(I14=56,53,I14=57,53,OR(I14>57,I14<56),I14-2)} -> 53 | K14: =10*LOG(10^(G14/10)+(10^(J14/10))) -> 54.764349 | L14: =IF(MOD(K14,1)=0.5,INT(K14)+MOD(INT(K14),2),ROUND(K14,0)) -> 55 | M14: =IF('Brugweg 30km'!D13="--",6,'Brugweg 30km'!D13) -> 16.9 | N14: =IF(MOD(M14,1)=0.5,INT(M14)+MOD(INT(M14),2),ROUND(M14,0)) -> 17 | O14: =N14-5 -> 12 | P14: =IF('Hefbrug (50 km uur)'!D13="--",6,'Hefbrug (50 km uur)'!D13) -> 24.6 | Q14: =IF(MOD(P14,1)=0.5,INT(P14)+MOD(INT(P14),2),ROUND(P14,0)) -> 25 | R14: =Q14-5 -> 20 | S14: ='Kerkweg oost 50 km'!D13 -> 12.7 | T14: =IF(MOD(S14,1)=0.5,INT(S14)+MOD(INT(S14),2),ROUND(S14,0)) -> 13 | U14: =T14-5 -> 8 | V14: ='N454 Kanaaldijk 50 km'!D13 -> 27.3 | W14: =IF(MOD(V14,1)=0.5,INT(V14)+MOD(INT(V14),2),ROUND(V14,0)) -> 27 | X14: =W14-5 -> 22 | Y14: ='N454 Kanaaldijk 80 km'!D13 -> 27.4 | Z14: =IF(MOD(Y14,1)=0.5,INT(Y14)+MOD(INT(Y14),2),ROUND(Y14,0)) -> 27 | AA14: =IF(AND(Z14>55.49,Z14<56.51),Z14,) -> 0 | AB14: =IF(AND(Z14>56.5,Z14<57.5),Z14,) -> 0 | AC14: =IF(AA14>0,AA14-3,IF(AB14>0,AB14-4,Z14-2)) -> 25 | AD14: ='N451 80 km'!D13 -> 27.3 | AE14: =IF(MOD(AD14,1)=0.5,INT(AD14)+MOD(INT(AD14),2),ROUND(AD14,0)) -> 27 | AF14: =IF(AND(AE14>55.49,AE14<56.51),AE14,) -> 0 | AG14: =IF(AND(AE14>56.5,AE14<57.5),AE14,) -> 0 | AH14: =IF(AF14>0,AF14-3,IF(AG14>0,AG14-4,AE14-2)) -> 25 | AI14: =IF('A12'!D13="--",6,'A12'!D13) -> 44.4 | AJ14: =IF(MOD(AI14,1)=0.5,INT(AI14)+MOD(INT(AI14),2),ROUND(AI14,0)) -> 44 | AK14: =IF(AND(AJ14>55.49,AJ14<56.51),AJ14,) -> 0 | AL14: =IF(AND(AJ14>56.5,AJ14<57.5),AJ14,) -> 0 | AM14: =IF(AK14>0,AK14-3,IF(AL14>0,AL14-4,AJ14-2)) -> 42 | AN14: ='A20'!D13 -> 40 | AO14: =IF(MOD(AN14,1)=0.5,INT(AN14)+MOD(INT(AN14),2),ROUND(AN14,0)) -> 40 | AP14: =IF(AND(AO14>55.49,AO14<56.51),AO14,) -> 0 | AQ14: =IF(AND(AO14>56.5,AO14<57.5),AO14,) -> 0 | AR14: =IF(AP14>0,AP14-3,IF(AQ14>0,AQ14-4,AO14-2)) -> 38
A15: ='N207 50km'!A14 -> Z90g_B | B15: ='N207 50km'!B14 -> Zuidkade 90g | C15: ='N207 50km'!C14 -> 4.5 | D15: ='N207'!D14 -> 57.4 | E15: =IF('N207 50km'!D14="--",6,'N207 50km'!D14) -> 54.4 | F15: =IF(MOD(E15,1)=0.5,INT(E15)+MOD(INT(E15),2),ROUND(E15,0)) -> 54 | G15: =F15-5 -> 49 | H15: =IF('N207 80km'!D14="--",6,'N207 80km'!D14) -> 54.4 | I15: =IF(MOD(H15,1)=0.5,INT(H15)+MOD(INT(H15),2),ROUND(H15,0)) -> 54 | J15: {=_xlfn.IFS(I15=56,53,I15=57,53,OR(I15>57,I15<56),I15-2)} -> 52 | K15: =10*LOG(10^(G15/10)+(10^(J15/10))) -> 53.764349 | L15: =IF(MOD(K15,1)=0.5,INT(K15)+MOD(INT(K15),2),ROUND(K15,0)) -> 54 | M15: =IF('Brugweg 30km'!D14="--",6,'Brugweg 30km'!D14) -> 18.9 | N15: =IF(MOD(M15,1)=0.5,INT(M15)+MOD(INT(M15),2),ROUND(M15,0)) -> 19 | O15: =N15-5 -> 14 | P15: =IF('Hefbrug (50 km uur)'!D14="--",6,'Hefbrug (50 km uur)'!D14) -> 26 | Q15: =IF(MOD(P15,1)=0.5,INT(P15)+MOD(INT(P15),2),ROUND(P15,0)) -> 26 | R15: =Q15-5 -> 21 | S15: ='Kerkweg oost 50 km'!D14 -> 13.5 | T15: =IF(MOD(S15,1)=0.5,INT(S15)+MOD(INT(S15),2),ROUND(S15,0)) -> 14 | U15: =T15-5 -> 9 | V15: ='N454 Kanaaldijk 50 km'!D14 -> 26.3 | W15: =IF(MOD(V15,1)=0.5,INT(V15)+MOD(INT(V15),2),ROUND(V15,0)) -> 26 | X15: =W15-5 -> 21 | Y15: ='N454 Kanaaldijk 80 km'!D14 -> 23.3 | Z15: =IF(MOD(Y15,1)=0.5,INT(Y15)+MOD(INT(Y15),2),ROUND(Y15,0)) -> 23 | AA15: =IF(AND(Z15>55.49,Z15<56.51),Z15,) -> 0 | AB15: =IF(AND(Z15>56.5,Z15<57.5),Z15,) -> 0 | AC15: =IF(AA15>0,AA15-3,IF(AB15>0,AB15-4,Z15-2)) -> 21 | AD15: ='N451 80 km'!D14 -> 27.2 | AE15: =IF(MOD(AD15,1)=0.5,INT(AD15)+MOD(INT(AD15),2),ROUND(AD15,0)) -> 27 | AF15: =IF(AND(AE15>55.49,AE15<56.51),AE15,) -> 0 | AG15: =IF(AND(AE15>56.5,AE15<57.5),AE15,) -> 0 | AH15: =IF(AF15>0,AF15-3,IF(AG15>0,AG15-4,AE15-2)) -> 25 | AI15: =IF('A12'!D14="--",6,'A12'!D14) -> 43.7 | AJ15: =IF(MOD(AI15,1)=0.5,INT(AI15)+MOD(INT(AI15),2),ROUND(AI15,0)) -> 44 | AK15: =IF(AND(AJ15>55.49,AJ15<56.51),AJ15,) -> 0 | AL15: =IF(AND(AJ15>56.5,AJ15<57.5),AJ15,) -> 0 | AM15: =IF(AK15>0,AK15-3,IF(AL15>0,AL15-4,AJ15-2)) -> 42 | AN15: ='A20'!D14 -> 37.8 | AO15: =IF(MOD(AN15,1)=0.5,INT(AN15)+MOD(INT(AN15),2),ROUND(AN15,0)) -> 38 | AP15: =IF(AND(AO15>55.49,AO15<56.51),AO15,) -> 0 | AQ15: =IF(AND(AO15>56.5,AO15<57.5),AO15,) -> 0 | AR15: =IF(AP15>0,AP15-3,IF(AQ15>0,AQ15-4,AO15-2)) -> 36
A16: ='N207 50km'!A15 -> Z90g_A | B16: ='N207 50km'!B15 -> Zuidkade 90g | C16: ='N207 50km'!C15 -> 1.5 | D16: ='N207'!D15 -> 56.4 | E16: =IF('N207 50km'!D15="--",6,'N207 50km'!D15) -> 53.3 | F16: =IF(MOD(E16,1)=0.5,INT(E16)+MOD(INT(E16),2),ROUND(E16,0)) -> 53 | G16: =F16-5 -> 48 | H16: =IF('N207 80km'!D15="--",6,'N207 80km'!D15) -> 53.4 | I16: =IF(MOD(H16,1)=0.5,INT(H16)+MOD(INT(H16),2),ROUND(H16,0)) -> 53 | J16: {=_xlfn.IFS(I16=56,53,I16=57,53,OR(I16>57,I16<56),I16-2)} -> 51 | K16: =10*LOG(10^(G16/10)+(10^(J16/10))) -> 52.764349 | L16: =IF(MOD(K16,1)=0.5,INT(K16)+MOD(INT(K16),2),ROUND(K16,0)) -> 53 | M16: =IF('Brugweg 30km'!D15="--",6,'Brugweg 30km'!D15) -> 18.8 | N16: =IF(MOD(M16,1)=0.5,INT(M16)+MOD(INT(M16),2),ROUND(M16,0)) -> 19 | O16: =N16-5 -> 14 | P16: =IF('Hefbrug (50 km uur)'!D15="--",6,'Hefbrug (50 km uur)'!D15) -> 25.9 | Q16: =IF(MOD(P16,1)=0.5,INT(P16)+MOD(INT(P16),2),ROUND(P16,0)) -> 26 | R16: =Q16-5 -> 21 | S16: ='Kerkweg oost 50 km'!D15 -> 9.6 | T16: =IF(MOD(S16,1)=0.5,INT(S16)+MOD(INT(S16),2),ROUND(S16,0)) -> 10 | U16: =T16-5 -> 5 | V16: ='N454 Kanaaldijk 50 km'!D15 -> 24 | W16: =IF(MOD(V16,1)=0.5,INT(V16)+MOD(INT(V16),2),ROUND(V16,0)) -> 24 | X16: =W16-5 -> 19 | Y16: ='N454 Kanaaldijk 80 km'!D15 -> 21.5 | Z16: =IF(MOD(Y16,1)=0.5,INT(Y16)+MOD(INT(Y16),2),ROUND(Y16,0)) -> 22 | AA16: =IF(AND(Z16>55.49,Z16<56.51),Z16,) -> 0 | AB16: =IF(AND(Z16>56.5,Z16<57.5),Z16,) -> 0 | AC16: =IF(AA16>0,AA16-3,IF(AB16>0,AB16-4,Z16-2)) -> 20 | AD16: ='N451 80 km'!D15 -> 27.1 | AE16: =IF(MOD(AD16,1)=0.5,INT(AD16)+MOD(INT(AD16),2),ROUND(AD16,0)) -> 27 | AF16: =IF(AND(AE16>55.49,AE16<56.51),AE16,) -> 0 | AG16: =IF(AND(AE16>56.5,AE16<57.5),AE16,) -> 0 | AH16: =IF(AF16>0,AF16-3,IF(AG16>0,AG16-4,AE16-2)) -> 25 | AI16: =IF('A12'!D15="--",6,'A12'!D15) -> 43.5 | AJ16: =IF(MOD(AI16,1)=0.5,INT(AI16)+MOD(INT(AI16),2),ROUND(AI16,0)) -> 44 | AK16: =IF(AND(AJ16>55.49,AJ16<56.51),AJ16,) -> 0 | AL16: =IF(AND(AJ16>56.5,AJ16<57.5),AJ16,) -> 0 | AM16: =IF(AK16>0,AK16-3,IF(AL16>0,AL16-4,AJ16-2)) -> 42 | AN16: ='A20'!D15 -> 37.6 | AO16: =IF(MOD(AN16,1)=0.5,INT(AN16)+MOD(INT(AN16),2),ROUND(AN16,0)) -> 38 | AP16: =IF(AND(AO16>55.49,AO16<56.51),AO16,) -> 0 | AQ16: =IF(AND(AO16>56.5,AO16<57.5),AO16,) -> 0 | AR16: =IF(AP16>0,AP16-3,IF(AQ16>0,AQ16-4,AO16-2)) -> 36
A17: ='N207 50km'!A16 -> Z90f_C | B17: ='N207 50km'!B16 -> Zuidkade 90f | C17: ='N207 50km'!C16 -> 7.5 | D17: ='N207'!D16 -> 58 | E17: =IF('N207 50km'!D16="--",6,'N207 50km'!D16) -> 55.2 | F17: =IF(MOD(E17,1)=0.5,INT(E17)+MOD(INT(E17),2),ROUND(E17,0)) -> 55 | G17: =F17-5 -> 50 | H17: =IF('N207 80km'!D16="--",6,'N207 80km'!D16) -> 54.8 | I17: =IF(MOD(H17,1)=0.5,INT(H17)+MOD(INT(H17),2),ROUND(H17,0)) -> 55 | J17: {=_xlfn.IFS(I17=56,53,I17=57,53,OR(I17>57,I17<56),I17-2)} -> 53 | K17: =10*LOG(10^(G17/10)+(10^(J17/10))) -> 54.764349 | L17: =IF(MOD(K17,1)=0.5,INT(K17)+MOD(INT(K17),2),ROUND(K17,0)) -> 55 | M17: =IF('Brugweg 30km'!D16="--",6,'Brugweg 30km'!D16) -> 16.9 | N17: =IF(MOD(M17,1)=0.5,INT(M17)+MOD(INT(M17),2),ROUND(M17,0)) -> 17 | O17: =N17-5 -> 12 | P17: =IF('Hefbrug (50 km uur)'!D16="--",6,'Hefbrug (50 km uur)'!D16) -> 24.9 | Q17: =IF(MOD(P17,1)=0.5,INT(P17)+MOD(INT(P17),2),ROUND(P17,0)) -> 25 | R17: =Q17-5 -> 20 | S17: ='Kerkweg oost 50 km'!D16 -> 12.5 | T17: =IF(MOD(S17,1)=0.5,INT(S17)+MOD(INT(S17),2),ROUND(S17,0)) -> 12 | U17: =T17-5 -> 7 | V17: ='N454 Kanaaldijk 50 km'!D16 -> 26.2 | W17: =IF(MOD(V17,1)=0.5,INT(V17)+MOD(INT(V17),2),ROUND(V17,0)) -> 26 | X17: =W17-5 -> 21 | Y17: ='N454 Kanaaldijk 80 km'!D16 -> 27.2 | Z17: =IF(MOD(Y17,1)=0.5,INT(Y17)+MOD(INT(Y17),2),ROUND(Y17,0)) -> 27 | AA17: =IF(AND(Z17>55.49,Z17<56.51),Z17,) -> 0 | AB17: =IF(AND(Z17>56.5,Z17<57.5),Z17,) -> 0 | AC17: =IF(AA17>0,AA17-3,IF(AB17>0,AB17-4,Z17-2)) -> 25 | AD17: ='N451 80 km'!D16 -> 27 | AE17: =IF(MOD(AD17,1)=0.5,INT(AD17)+MOD(INT(AD17),2),ROUND(AD17,0)) -> 27 | AF17: =IF(AND(AE17>55.49,AE17<56.51),AE17,) -> 0 | AG17: =IF(AND(AE17>56.5,AE17<57.5),AE17,) -> 0 | AH17: =IF(AF17>0,AF17-3,IF(AG17>0,AG17-4,AE17-2)) -> 25 | AI17: =IF('A12'!D16="--",6,'A12'!D16) -> 44.3 | AJ17: =IF(MOD(AI17,1)=0.5,INT(AI17)+MOD(INT(AI17),2),ROUND(AI17,0)) -> 44 | AK17: =IF(AND(AJ17>55.49,AJ17<56.51),AJ17,) -> 0 | AL17: =IF(AND(AJ17>56.5,AJ17<57.5),AJ17,) -> 0 | AM17: =IF(AK17>0,AK17-3,IF(AL17>0,AL17-4,AJ17-2)) -> 42 | AN17: ='A20'!D16 -> 40 | AO17: =IF(MOD(AN17,1)=0.5,INT(AN17)+MOD(INT(AN17),2),ROUND(AN17,0)) -> 40 | AP17: =IF(AND(AO17>55.49,AO17<56.51),AO17,) -> 0 | AQ17: =IF(AND(AO17>56.5,AO17<57.5),AO17,) -> 0 | AR17: =IF(AP17>0,AP17-3,IF(AQ17>0,AQ17-4,AO17-2)) -> 38
A18: ='N207 50km'!A17 -> Z90f_B | B18: ='N207 50km'!B17 -> Zuidkade 90f | C18: ='N207 50km'!C17 -> 4.5 | D18: ='N207'!D17 -> 57.4 | E18: =IF('N207 50km'!D17="--",6,'N207 50km'!D17) -> 54.6 | F18: =IF(MOD(E18,1)=0.5,INT(E18)+MOD(INT(E18),2),ROUND(E18,0)) -> 55 | G18: =F18-5 -> 50 | H18: =IF('N207 80km'!D17="--",6,'N207 80km'!D17) -> 54.1 | I18: =IF(MOD(H18,1)=0.5,INT(H18)+MOD(INT(H18),2),ROUND(H18,0)) -> 54 | J18: {=_xlfn.IFS(I18=56,53,I18=57,53,OR(I18>57,I18<56),I18-2)} -> 52 | K18: =10*LOG(10^(G18/10)+(10^(J18/10))) -> 54.124426 | L18: =IF(MOD(K18,1)=0.5,INT(K18)+MOD(INT(K18),2),ROUND(K18,0)) -> 54 | M18: =IF('Brugweg 30km'!D17="--",6,'Brugweg 30km'!D17) -> 18.8 | N18: =IF(MOD(M18,1)=0.5,INT(M18)+MOD(INT(M18),2),ROUND(M18,0)) -> 19 | O18: =N18-5 -> 14 | P18: =IF('Hefbrug (50 km uur)'!D17="--",6,'Hefbrug (50 km uur)'!D17) -> 25.1 | Q18: =IF(MOD(P18,1)=0.5,INT(P18)+MOD(INT(P18),2),ROUND(P18,0)) -> 25 | R18: =Q18-5 -> 20 | S18: ='Kerkweg oost 50 km'!D17 -> 14.2 | T18: =IF(MOD(S18,1)=0.5,INT(S18)+MOD(INT(S18),2),ROUND(S18,0)) -> 14 | U18: =T18-5 -> 9 | V18: ='N454 Kanaaldijk 50 km'!D17 -> 26 | W18: =IF(MOD(V18,1)=0.5,INT(V18)+MOD(INT(V18),2),ROUND(V18,0)) -> 26 | X18: =W18-5 -> 21 | Y18: ='N454 Kanaaldijk 80 km'!D17 -> 24.2 | Z18: =IF(MOD(Y18,1)=0.5,INT(Y18)+MOD(INT(Y18),2),ROUND(Y18,0)) -> 24 | AA18: =IF(AND(Z18>55.49,Z18<56.51),Z18,) -> 0 | AB18: =IF(AND(Z18>56.5,Z18<57.5),Z18,) -> 0 | AC18: =IF(AA18>0,AA18-3,IF(AB18>0,AB18-4,Z18-2)) -> 22 | AD18: ='N451 80 km'!D17 -> 27.2 | AE18: =IF(MOD(AD18,1)=0.5,INT(AD18)+MOD(INT(AD18),2),ROUND(AD18,0)) -> 27 | AF18: =IF(AND(AE18>55.49,AE18<56.51),AE18,) -> 0 | AG18: =IF(AND(AE18>56.5,AE18<57.5),AE18,) -> 0 | AH18: =IF(AF18>0,AF18-3,IF(AG18>0,AG18-4,AE18-2)) -> 25 | AI18: =IF('A12'!D17="--",6,'A12'!D17) -> 44 | AJ18: =IF(MOD(AI18,1)=0.5,INT(AI18)+MOD(INT(AI18),2),ROUND(AI18,0)) -> 44 | AK18: =IF(AND(AJ18>55.49,AJ18<56.51),AJ18,) -> 0 | AL18: =IF(AND(AJ18>56.5,AJ18<57.5),AJ18,) -> 0 | AM18: =IF(AK18>0,AK18-3,IF(AL18>0,AL18-4,AJ18-2)) -> 42 | AN18: ='A20'!D17 -> 39.1 | AO18: =IF(MOD(AN18,1)=0.5,INT(AN18)+MOD(INT(AN18),2),ROUND(AN18,0)) -> 39 | AP18: =IF(AND(AO18>55.49,AO18<56.51),AO18,) -> 0 | AQ18: =IF(AND(AO18>56.5,AO18<57.5),AO18,) -> 0 | AR18: =IF(AP18>0,AP18-3,IF(AQ18>0,AQ18-4,AO18-2)) -> 37
A19: ='N207 50km'!A18 -> Z90f_A | B19: ='N207 50km'!B18 -> Zuidkade 90f | C19: ='N207 50km'!C18 -> 1.5 | D19: ='N207'!D18 -> 56.3 | E19: =IF('N207 50km'!D18="--",6,'N207 50km'!D18) -> 53.4 | F19: =IF(MOD(E19,1)=0.5,INT(E19)+MOD(INT(E19),2),ROUND(E19,0)) -> 53 | G19: =F19-5 -> 48 | H19: =IF('N207 80km'!D18="--",6,'N207 80km'!D18) -> 53.1 | I19: =IF(MOD(H19,1)=0.5,INT(H19)+MOD(INT(H19),2),ROUND(H19,0)) -> 53 | J19: {=_xlfn.IFS(I19=56,53,I19=57,53,OR(I19>57,I19<56),I19-2)} -> 51 | K19: =10*LOG(10^(G19/10)+(10^(J19/10))) -> 52.764349 | L19: =IF(MOD(K19,1)=0.5,INT(K19)+MOD(INT(K19),2),ROUND(K19,0)) -> 53 | M19: =IF('Brugweg 30km'!D18="--",6,'Brugweg 30km'!D18) -> 18.6 | N19: =IF(MOD(M19,1)=0.5,INT(M19)+MOD(INT(M19),2),ROUND(M19,0)) -> 19 | O19: =N19-5 -> 14 | P19: =IF('Hefbrug (50 km uur)'!D18="--",6,'Hefbrug (50 km uur)'!D18) -> 25.1 | Q19: =IF(MOD(P19,1)=0.5,INT(P19)+MOD(INT(P19),2),ROUND(P19,0)) -> 25 | R19: =Q19-5 -> 20 | S19: ='Kerkweg oost 50 km'!D18 -> 10.4 | T19: =IF(MOD(S19,1)=0.5,INT(S19)+MOD(INT(S19),2),ROUND(S19,0)) -> 10 | U19: =T19-5 -> 5 | V19: ='N454 Kanaaldijk 50 km'!D18 -> 26.3 | W19: =IF(MOD(V19,1)=0.5,INT(V19)+MOD(INT(V19),2),ROUND(V19,0)) -> 26 | X19: =W19-5 -> 21 | Y19: ='N454 Kanaaldijk 80 km'!D18 -> 23.3 | Z19: =IF(MOD(Y19,1)=0.5,INT(Y19)+MOD(INT(Y19),2),ROUND(Y19,0)) -> 23 | AA19: =IF(AND(Z19>55.49,Z19<56.51),Z19,) -> 0 | AB19: =IF(AND(Z19>56.5,Z19<57.5),Z19,) -> 0 | AC19: =IF(AA19>0,AA19-3,IF(AB19>0,AB19-4,Z19-2)) -> 21 | AD19: ='N451 80 km'!D18 -> 27 | AE19: =IF(MOD(AD19,1)=0.5,INT(AD19)+MOD(INT(AD19),2),ROUND(AD19,0)) -> 27 | AF19: =IF(AND(AE19>55.49,AE19<56.51),AE19,) -> 0 | AG19: =IF(AND(AE19>56.5,AE19<57.5),AE19,) -> 0 | AH19: =IF(AF19>0,AF19-3,IF(AG19>0,AG19-4,AE19-2)) -> 25 | AI19: =IF('A12'!D18="--",6,'A12'!D18) -> 43.7 | AJ19: =IF(MOD(AI19,1)=0.5,INT(AI19)+MOD(INT(AI19),2),ROUND(AI19,0)) -> 44 | AK19: =IF(AND(AJ19>55.49,AJ19<56.51),AJ19,) -> 0 | AL19: =IF(AND(AJ19>56.5,AJ19<57.5),AJ19,) -> 0 | AM19: =IF(AK19>0,AK19-3,IF(AL19>0,AL19-4,AJ19-2)) -> 42 | AN19: ='A20'!D18 -> 38.7 | AO19: =IF(MOD(AN19,1)=0.5,INT(AN19)+MOD(INT(AN19),2),ROUND(AN19,0)) -> 39 | AP19: =IF(AND(AO19>55.49,AO19<56.51),AO19,) -> 0 | AQ19: =IF(AND(AO19>56.5,AO19<57.5),AO19,) -> 0 | AR19: =IF(AP19>0,AP19-3,IF(AQ19>0,AQ19-4,AO19-2)) -> 37
A20: ='N207 50km'!A19 -> Z90e_C | B20: ='N207 50km'!B19 -> Zuidkade 90e | C20: ='N207 50km'!C19 -> 7.5 | D20: ='N207'!D19 -> 58.1 | E20: =IF('N207 50km'!D19="--",6,'N207 50km'!D19) -> 55.5 | F20: =IF(MOD(E20,1)=0.5,INT(E20)+MOD(INT(E20),2),ROUND(E20,0)) -> 56 | G20: =F20-5 -> 51 | H20: =IF('N207 80km'!D19="--",6,'N207 80km'!D19) -> 54.5 | I20: =IF(MOD(H20,1)=0.5,INT(H20)+MOD(INT(H20),2),ROUND(H20,0)) -> 54 | J20: {=_xlfn.IFS(I20=56,53,I20=57,53,OR(I20>57,I20<56),I20-2)} -> 52 | K20: =10*LOG(10^(G20/10)+(10^(J20/10))) -> 54.539019 | L20: =IF(MOD(K20,1)=0.5,INT(K20)+MOD(INT(K20),2),ROUND(K20,0)) -> 55 | M20: =IF('Brugweg 30km'!D19="--",6,'Brugweg 30km'!D19) -> 17 | N20: =IF(MOD(M20,1)=0.5,INT(M20)+MOD(INT(M20),2),ROUND(M20,0)) -> 17 | O20: =N20-5 -> 12 | P20: =IF('Hefbrug (50 km uur)'!D19="--",6,'Hefbrug (50 km uur)'!D19) -> 26.5 | Q20: =IF(MOD(P20,1)=0.5,INT(P20)+MOD(INT(P20),2),ROUND(P20,0)) -> 26 | R20: =Q20-5 -> 21 | S20: ='Kerkweg oost 50 km'!D19 -> 13.3 | T20: =IF(MOD(S20,1)=0.5,INT(S20)+MOD(INT(S20),2),ROUND(S20,0)) -> 13 | U20: =T20-5 -> 8 | V20: ='N454 Kanaaldijk 50 km'!D19 -> 25.9 | W20: =IF(MOD(V20,1)=0.5,INT(V20)+MOD(INT(V20),2),ROUND(V20,0)) -> 26 | X20: =W20-5 -> 21 | Y20: ='N454 Kanaaldijk 80 km'!D19 -> 27.2 | Z20: =IF(MOD(Y20,1)=0.5,INT(Y20)+MOD(INT(Y20),2),ROUND(Y20,0)) -> 27 | AA20: =IF(AND(Z20>55.49,Z20<56.51),Z20,) -> 0 | AB20: =IF(AND(Z20>56.5,Z20<57.5),Z20,) -> 0 | AC20: =IF(AA20>0,AA20-3,IF(AB20>0,AB20-4,Z20-2)) -> 25 | AD20: ='N451 80 km'!D19 -> 27 | AE20: =IF(MOD(AD20,1)=0.5,INT(AD20)+MOD(INT(AD20),2),ROUND(AD20,0)) -> 27 | AF20: =IF(AND(AE20>55.49,AE20<56.51),AE20,) -> 0 | AG20: =IF(AND(AE20>56.5,AE20<57.5),AE20,) -> 0 | AH20: =IF(AF20>0,AF20-3,IF(AG20>0,AG20-4,AE20-2)) -> 25 | AI20: =IF('A12'!D19="--",6,'A12'!D19) -> 44.1 | AJ20: =IF(MOD(AI20,1)=0.5,INT(AI20)+MOD(INT(AI20),2),ROUND(AI20,0)) -> 44 | AK20: =IF(AND(AJ20>55.49,AJ20<56.51),AJ20,) -> 0 | AL20: =IF(AND(AJ20>56.5,AJ20<57.5),AJ20,) -> 0 | AM20: =IF(AK20>0,AK20-3,IF(AL20>0,AL20-4,AJ20-2)) -> 42 | AN20: ='A20'!D19 -> 39.9 | AO20: =IF(MOD(AN20,1)=0.5,INT(AN20)+MOD(INT(AN20),2),ROUND(AN20,0)) -> 40 | AP20: =IF(AND(AO20>55.49,AO20<56.51),AO20,) -> 0 | AQ20: =IF(AND(AO20>56.5,AO20<57.5),AO20,) -> 0 | AR20: =IF(AP20>0,AP20-3,IF(AQ20>0,AQ20-4,AO20-2)) -> 38
A21: ='N207 50km'!A20 -> Z90e_B | B21: ='N207 50km'!B20 -> Zuidkade 90e | C21: ='N207 50km'!C20 -> 4.5 | D21: ='N207'!D20 -> 57.4 | E21: =IF('N207 50km'!D20="--",6,'N207 50km'!D20) -> 54.9 | F21: =IF(MOD(E21,1)=0.5,INT(E21)+MOD(INT(E21),2),ROUND(E21,0)) -> 55 | G21: =F21-5 -> 50 | H21: =IF('N207 80km'!D20="--",6,'N207 80km'!D20) -> 53.8 | I21: =IF(MOD(H21,1)=0.5,INT(H21)+MOD(INT(H21),2),ROUND(H21,0)) -> 54 | J21: {=_xlfn.IFS(I21=56,53,I21=57,53,OR(I21>57,I21<56),I21-2)} -> 52 | K21: =10*LOG(10^(G21/10)+(10^(J21/10))) -> 54.124426 | L21: =IF(MOD(K21,1)=0.5,INT(K21)+MOD(INT(K21),2),ROUND(K21,0)) -> 54 | M21: =IF('Brugweg 30km'!D20="--",6,'Brugweg 30km'!D20) -> 19.1 | N21: =IF(MOD(M21,1)=0.5,INT(M21)+MOD(INT(M21),2),ROUND(M21,0)) -> 19 | O21: =N21-5 -> 14 | P21: =IF('Hefbrug (50 km uur)'!D20="--",6,'Hefbrug (50 km uur)'!D20) -> 26.7 | Q21: =IF(MOD(P21,1)=0.5,INT(P21)+MOD(INT(P21),2),ROUND(P21,0)) -> 27 | R21: =Q21-5 -> 22 | S21: ='Kerkweg oost 50 km'!D20 -> 15.2 | T21: =IF(MOD(S21,1)=0.5,INT(S21)+MOD(INT(S21),2),ROUND(S21,0)) -> 15 | U21: =T21-5 -> 10 | V21: ='N454 Kanaaldijk 50 km'!D20 -> 26.5 | W21: =IF(MOD(V21,1)=0.5,INT(V21)+MOD(INT(V21),2),ROUND(V21,0)) -> 26 | X21: =W21-5 -> 21 | Y21: ='N454 Kanaaldijk 80 km'!D20 -> 24.2 | Z21: =IF(MOD(Y21,1)=0.5,INT(Y21)+MOD(INT(Y21),2),ROUND(Y21,0)) -> 24 | AA21: =IF(AND(Z21>55.49,Z21<56.51),Z21,) -> 0 | AB21: =IF(AND(Z21>56.5,Z21<57.5),Z21,) -> 0 | AC21: =IF(AA21>0,AA21-3,IF(AB21>0,AB21-4,Z21-2)) -> 22 | AD21: ='N451 80 km'!D20 -> 27.2 | AE21: =IF(MOD(AD21,1)=0.5,INT(AD21)+MOD(INT(AD21),2),ROUND(AD21,0)) -> 27 | AF21: =IF(AND(AE21>55.49,AE21<56.51),AE21,) -> 0 | AG21: =IF(AND(AE21>56.5,AE21<57.5),AE21,) -> 0 | AH21: =IF(AF21>0,AF21-3,IF(AG21>0,AG21-4,AE21-2)) -> 25 | AI21: =IF('A12'!D20="--",6,'A12'!D20) -> 44.1 | AJ21: =IF(MOD(AI21,1)=0.5,INT(AI21)+MOD(INT(AI21),2),ROUND(AI21,0)) -> 44 | AK21: =IF(AND(AJ21>55.49,AJ21<56.51),AJ21,) -> 0 | AL21: =IF(AND(AJ21>56.5,AJ21<57.5),AJ21,) -> 0 | AM21: =IF(AK21>0,AK21-3,IF(AL21>0,AL21-4,AJ21-2)) -> 42 | AN21: ='A20'!D20 -> 39.6 | AO21: =IF(MOD(AN21,1)=0.5,INT(AN21)+MOD(INT(AN21),2),ROUND(AN21,0)) -> 40 | AP21: =IF(AND(AO21>55.49,AO21<56.51),AO21,) -> 0 | AQ21: =IF(AND(AO21>56.5,AO21<57.5),AO21,) -> 0 | AR21: =IF(AP21>0,AP21-3,IF(AQ21>0,AQ21-4,AO21-2)) -> 38
... A109: ='N207 50km'!A108 -> Z40_A | B109: ='N207 50km'!B108 -> Zuidkade 40 | C109: ='N207 50km'!C108 -> 1.5 | D109: ='N207'!D108 -> 56.7 | E109: =IF('N207 50km'!D108="--",6,'N207 50km'!D108) -> 56.7 | F109: =IF(MOD(E109,1)=0.5,INT(E109)+MOD(INT(E109),2),ROUND(E109,0)) -> 57 | G109: =F109-5 -> 52 | H109: =IF('N207 80km'!D108="--",6,'N207 80km'!D108) -> 37.7 | I109: =IF(MOD(H109,1)=0.5,INT(H109)+MOD(INT(H109),2),ROUND(H109,0)) -> 38 | J109: {=_xlfn.IFS(I109=56,53,I109=57,53,OR(I109>57,I109<56),I109-2)} -> 36 | K109: =10*LOG(10^(G109/10)+(10^(J109/10))) -> 52.107742 | L109: =IF(MOD(K109,1)=0.5,INT(K109)+MOD(INT(K109),2),ROUND(K109,0)) -> 52 | M109: =IF('Brugweg 30km'!D108="--",6,'Brugweg 30km'!D108) -> 25.7 | N109: =IF(MOD(M109,1)=0.5,INT(M109)+MOD(INT(M109),2),ROUND(M109,0)) -> 26 | O109: =N109-5 -> 21 | P109: =IF('Hefbrug (50 km uur)'!D108="--",6,'Hefbrug (50 km uur)'!D108) -> 33 | Q109: =IF(MOD(P109,1)=0.5,INT(P109)+MOD(INT(P109),2),ROUND(P109,0)) -> 33 | R109: =Q109-5 -> 28 | S109: ='Kerkweg oost 50 km'!D108 -> 18 | T109: =IF(MOD(S109,1)=0.5,INT(S109)+MOD(INT(S109),2),ROUND(S109,0)) -> 18 | U109: =T109-5 -> 13 | V109: ='N454 Kanaaldijk 50 km'!D108 -> 19.5 | W109: =IF(MOD(V109,1)=0.5,INT(V109)+MOD(INT(V109),2),ROUND(V109,0)) -> 20 | X109: =W109-5 -> 15 | Y109: ='N454 Kanaaldijk 80 km'!D108 -> 18 | Z109: =IF(MOD(Y109,1)=0.5,INT(Y109)+MOD(INT(Y109),2),ROUND(Y109,0)) -> 18 | AA109: =IF(AND(Z109>55.49,Z109<56.51),Z109,) -> 0 | AB109: =IF(AND(Z109>56.5,Z109<57.5),Z109,) -> 0 | AC109: =IF(AA109>0,AA109-3,IF(AB109>0,AB109-4,Z109-2)) -> 16 | AD109: ='N451 80 km'!D108 -> 21.3 | AE109: =IF(MOD(AD109,1)=0.5,INT(AD109)+MOD(INT(AD109),2),ROUND(AD109,0)) -> 21 | AF109: =IF(AND(AE109>55.49,AE109<56.51),AE109,) -> 0 | AG109: =IF(AND(AE109>56.5,AE109<57.5),AE109,) -> 0 | AH109: =IF(AF109>0,AF109-3,IF(AG109>0,AG109-4,AE109-2)) -> 19 | AI109: =IF('A12'!D108="--",6,'A12'!D108) -> 39.5 | AJ109: =IF(MOD(AI109,1)=0.5,INT(AI109)+MOD(INT(AI109),2),ROUND(AI109,0)) -> 40 | AK109: =IF(AND(AJ109>55.49,AJ109<56.51),AJ109,) -> 0 | AL109: =IF(AND(AJ109>56.5,AJ109<57.5),AJ109,) -> 0 | AM109: =IF(AK109>0,AK109-3,IF(AL109>0,AL109-4,AJ109-2)) -> 38 | AN109: ='A20'!D108 -> 35.1 | AO109: =IF(MOD(AN109,1)=0.5,INT(AN109)+MOD(INT(AN109),2),ROUND(AN109,0)) -> 35 | AP109: =IF(AND(AO109>55.49,AO109<56.51),AO109,) -> 0 | AQ109: =IF(AND(AO109>56.5,AO109<57.5),AO109,) -> 0 | AR109: =IF(AP109>0,AP109-3,IF(AQ109>0,AQ109-4,AO109-2)) -> 33
A110: ='N207 50km'!A109 -> Z3_C | B110: ='N207 50km'!B109 -> Zuidkade 3 | C110: ='N207 50km'!C109 -> 7.5 | D110: ='N207'!D109 -> 59 | E110: =IF('N207 50km'!D109="--",6,'N207 50km'!D109) -> 58.9 | F110: =IF(MOD(E110,1)=0.5,INT(E110)+MOD(INT(E110),2),ROUND(E110,0)) -> 59 | G110: =F110-5 -> 54 | H110: =IF('N207 80km'!D109="--",6,'N207 80km'!D109) -> 42.7 | I110: =IF(MOD(H110,1)=0.5,INT(H110)+MOD(INT(H110),2),ROUND(H110,0)) -> 43 | J110: {=_xlfn.IFS(I110=56,53,I110=57,53,OR(I110>57,I110<56),I110-2)} -> 41 | K110: =10*LOG(10^(G110/10)+(10^(J110/10))) -> 54.212384 | L110: =IF(MOD(K110,1)=0.5,INT(K110)+MOD(INT(K110),2),ROUND(K110,0)) -> 54 | M110: =IF('Brugweg 30km'!D109="--",6,'Brugweg 30km'!D109) -> 42.2 | N110: =IF(MOD(M110,1)=0.5,INT(M110)+MOD(INT(M110),2),ROUND(M110,0)) -> 42 | O110: =N110-5 -> 37 | P110: =IF('Hefbrug (50 km uur)'!D109="--",6,'Hefbrug (50 km uur)'!D109) -> 56 | Q110: =IF(MOD(P110,1)=0.5,INT(P110)+MOD(INT(P110),2),ROUND(P110,0)) -> 56 | R110: =Q110-5 -> 51 | S110: ='Kerkweg oost 50 km'!D109 -> 29.6 | T110: =IF(MOD(S110,1)=0.5,INT(S110)+MOD(INT(S110),2),ROUND(S110,0)) -> 30 | U110: =T110-5 -> 25 | V110: ='N454 Kanaaldijk 50 km'!D109 -> 8.5 | W110: =IF(MOD(V110,1)=0.5,INT(V110)+MOD(INT(V110),2),ROUND(V110,0)) -> 8 | X110: =W110-5 -> 3 | Y110: ='N454 Kanaaldijk 80 km'!D109 -> 15.2 | Z110: =IF(MOD(Y110,1)=0.5,INT(Y110)+MOD(INT(Y110),2),ROUND(Y110,0)) -> 15 | AA110: =IF(AND(Z110>55.49,Z110<56.51),Z110,) -> 0 | AB110: =IF(AND(Z110>56.5,Z110<57.5),Z110,) -> 0 | AC110: =IF(AA110>0,AA110-3,IF(AB110>0,AB110-4,Z110-2)) -> 13 | AD110: ='N451 80 km'!D109 -> 20 | AE110: =IF(MOD(AD110,1)=0.5,INT(AD110)+MOD(INT(AD110),2),ROUND(AD110,0)) -> 20 | AF110: =IF(AND(AE110>55.49,AE110<56.51),AE110,) -> 0 | AG110: =IF(AND(AE110>56.5,AE110<57.5),AE110,) -> 0 | AH110: =IF(AF110>0,AF110-3,IF(AG110>0,AG110-4,AE110-2)) -> 18 | AI110: =IF('A12'!D109="--",6,'A12'!D109) -> 37.3 | AJ110: =IF(MOD(AI110,1)=0.5,INT(AI110)+MOD(INT(AI110),2),ROUND(AI110,0)) -> 37 | AK110: =IF(AND(AJ110>55.49,AJ110<56.51),AJ110,) -> 0 | AL110: =IF(AND(AJ110>56.5,AJ110<57.5),AJ110,) -> 0 | AM110: =IF(AK110>0,AK110-3,IF(AL110>0,AL110-4,AJ110-2)) -> 35 | AN110: ='A20'!D109 -> 32 | AO110: =IF(MOD(AN110,1)=0.5,INT(AN110)+MOD(INT(AN110),2),ROUND(AN110,0)) -> 32 | AP110: =IF(AND(AO110>55.49,AO110<56.51),AO110,) -> 0 | AQ110: =IF(AND(AO110>56.5,AO110<57.5),AO110,) -> 0 | AR110: =IF(AP110>0,AP110-3,IF(AQ110>0,AQ110-4,AO110-2)) -> 30 | AS110: =10*LOG(10^(E110/10)+(10^(P110/10))) -> 60.697991 | AT110: =IF(MOD(AS110,1)=0.5,INT(AS110)+MOD(INT(AS110),2),ROUND(AS110,0)) -> 61 | AU110: 1 | AV110: =AT110-L110 -> 7
A111: ='N207 50km'!A110 -> Z3_B | B111: ='N207 50km'!B110 -> Zuidkade 3 | C111: ='N207 50km'!C110 -> 4.5 | D111: ='N207'!D110 -> 58.4 | E111: =IF('N207 50km'!D110="--",6,'N207 50km'!D110) -> 58.2 | F111: =IF(MOD(E111,1)=0.5,INT(E111)+MOD(INT(E111),2),ROUND(E111,0)) -> 58 | G111: =F111-5 -> 53 | H111: =IF('N207 80km'!D110="--",6,'N207 80km'!D110) -> 42.6 | I111: =IF(MOD(H111,1)=0.5,INT(H111)+MOD(INT(H111),2),ROUND(H111,0)) -> 43 | J111: {=_xlfn.IFS(I111=56,53,I111=57,53,OR(I111>57,I111<56),I111-2)} -> 41 | K111: =10*LOG(10^(G111/10)+(10^(J111/10))) -> 53.265724 | L111: =IF(MOD(K111,1)=0.5,INT(K111)+MOD(INT(K111),2),ROUND(K111,0)) -> 53 | M111: =IF('Brugweg 30km'!D110="--",6,'Brugweg 30km'!D110) -> 40 | N111: =IF(MOD(M111,1)=0.5,INT(M111)+MOD(INT(M111),2),ROUND(M111,0)) -> 40 | O111: =N111-5 -> 35 | P111: =IF('Hefbrug (50 km uur)'!D110="--",6,'Hefbrug (50 km uur)'!D110) -> 55.8 | Q111: =IF(MOD(P111,1)=0.5,INT(P111)+MOD(INT(P111),2),ROUND(P111,0)) -> 56 | R111: =Q111-5 -> 51 | S111: ='Kerkweg oost 50 km'!D110 -> 28.8 | T111: =IF(MOD(S111,1)=0.5,INT(S111)+MOD(INT(S111),2),ROUND(S111,0)) -> 29 | U111: =T111-5 -> 24 | V111: ='N454 Kanaaldijk 50 km'!D110 -> 11.6 | W111: =IF(MOD(V111,1)=0.5,INT(V111)+MOD(INT(V111),2),ROUND(V111,0)) -> 12 | X111: =W111-5 -> 7 | Y111: ='N454 Kanaaldijk 80 km'!D110 -> 18.4 | Z111: =IF(MOD(Y111,1)=0.5,INT(Y111)+MOD(INT(Y111),2),ROUND(Y111,0)) -> 18 | AA111: =IF(AND(Z111>55.49,Z111<56.51),Z111,) -> 0 | AB111: =IF(AND(Z111>56.5,Z111<57.5),Z111,) -> 0 | AC111: =IF(AA111>0,AA111-3,IF(AB111>0,AB111-4,Z111-2)) -> 16 | AD111: ='N451 80 km'!D110 -> 21.2 | AE111: =IF(MOD(AD111,1)=0.5,INT(AD111)+MOD(INT(AD111),2),ROUND(AD111,0)) -> 21 | AF111: =IF(AND(AE111>55.49,AE111<56.51),AE111,) -> 0 | AG111: =IF(AND(AE111>56.5,AE111<57.5),AE111,) -> 0 | AH111: =IF(AF111>0,AF111-3,IF(AG111>0,AG111-4,AE111-2)) -> 19 | AI111: =IF('A12'!D110="--",6,'A12'!D110) -> 37.6 | AJ111: =IF(MOD(AI111,1)=0.5,INT(AI111)+MOD(INT(AI111),2),ROUND(AI111,0)) -> 38 | AK111: =IF(AND(AJ111>55.49,AJ111<56.51),AJ111,) -> 0 | AL111: =IF(AND(AJ111>56.5,AJ111<57.5),AJ111,) -> 0 | AM111: =IF(AK111>0,AK111-3,IF(AL111>0,AL111-4,AJ111-2)) -> 36 | AN111: ='A20'!D110 -> 32.8 | AO111: =IF(MOD(AN111,1)=0.5,INT(AN111)+MOD(INT(AN111),2),ROUND(AN111,0)) -> 33 | AP111: =IF(AND(AO111>55.49,AO111<56.51),AO111,) -> 0 | AQ111: =IF(AND(AO111>56.5,AO111<57.5),AO111,) -> 0 | AR111: =IF(AP111>0,AP111-3,IF(AQ111>0,AQ111-4,AO111-2)) -> 31 | AS111: =10*LOG(10^(E111/10)+(10^(P111/10))) -> 60.174019 | AT111: =IF(MOD(AS111,1)=0.5,INT(AS111)+MOD(INT(AS111),2),ROUND(AS111,0)) -> 60
A112: ='N207 50km'!A111 -> Z3_A | B112: ='N207 50km'!B111 -> Zuidkade 3 | C112: ='N207 50km'!C111 -> 1.5 | D112: ='N207'!D111 -> 57.1 | E112: =IF('N207 50km'!D111="--",6,'N207 50km'!D111) -> 57 | F112: =IF(MOD(E112,1)=0.5,INT(E112)+MOD(INT(E112),2),ROUND(E112,0)) -> 57 | G112: =F112-5 -> 52 | H112: =IF('N207 80km'!D111="--",6,'N207 80km'!D111) -> 42 | I112: =IF(MOD(H112,1)=0.5,INT(H112)+MOD(INT(H112),2),ROUND(H112,0)) -> 42 | J112: {=_xlfn.IFS(I112=56,53,I112=57,53,OR(I112>57,I112<56),I112-2)} -> 40 | K112: =10*LOG(10^(G112/10)+(10^(J112/10))) -> 52.265724 | L112: =IF(MOD(K112,1)=0.5,INT(K112)+MOD(INT(K112),2),ROUND(K112,0)) -> 52 | M112: =IF('Brugweg 30km'!D111="--",6,'Brugweg 30km'!D111) -> 38.2 | N112: =IF(MOD(M112,1)=0.5,INT(M112)+MOD(INT(M112),2),ROUND(M112,0)) -> 38 | O112: =N112-5 -> 33 | P112: =IF('Hefbrug (50 km uur)'!D111="--",6,'Hefbrug (50 km uur)'!D111) -> 54.1 | Q112: =IF(MOD(P112,1)=0.5,INT(P112)+MOD(INT(P112),2),ROUND(P112,0)) -> 54 | R112: =Q112-5 -> 49 | S112: ='Kerkweg oost 50 km'!D111 -> 27.4 | T112: =IF(MOD(S112,1)=0.5,INT(S112)+MOD(INT(S112),2),ROUND(S112,0)) -> 27 | U112: =T112-5 -> 22 | V112: ='N454 Kanaaldijk 50 km'!D111 -> 9.6 | W112: =IF(MOD(V112,1)=0.5,INT(V112)+MOD(INT(V112),2),ROUND(V112,0)) -> 10 | X112: =W112-5 -> 5 | Y112: ='N454 Kanaaldijk 80 km'!D111 -> 17.4 | Z112: =IF(MOD(Y112,1)=0.5,INT(Y112)+MOD(INT(Y112),2),ROUND(Y112,0)) -> 17 | AA112: =IF(AND(Z112>55.49,Z112<56.51),Z112,) -> 0 | AB112: =IF(AND(Z112>56.5,Z112<57.5),Z112,) -> 0 | AC112: =IF(AA112>0,AA112-3,IF(AB112>0,AB112-4,Z112-2)) -> 15 | AD112: ='N451 80 km'!D111 -> 19.4 | AE112: =IF(MOD(AD112,1)=0.5,INT(AD112)+MOD(INT(AD112),2),ROUND(AD112,0)) -> 19 | AF112: =IF(AND(AE112>55.49,AE112<56.51),AE112,) -> 0 | AG112: =IF(AND(AE112>56.5,AE112<57.5),AE112,) -> 0 | AH112: =IF(AF112>0,AF112-3,IF(AG112>0,AG112-4,AE112-2)) -> 17 | AI112: =IF('A12'!D111="--",6,'A12'!D111) -> 33.8 | AJ112: =IF(MOD(AI112,1)=0.5,INT(AI112)+MOD(INT(AI112),2),ROUND(AI112,0)) -> 34 | AK112: =IF(AND(AJ112>55.49,AJ112<56.51),AJ112,) -> 0 | AL112: =IF(AND(AJ112>56.5,AJ112<57.5),AJ112,) -> 0 | AM112: =IF(AK112>0,AK112-3,IF(AL112>0,AL112-4,AJ112-2)) -> 32 | AN112: ='A20'!D111 -> 29.2 | AO112: =IF(MOD(AN112,1)=0.5,INT(AN112)+MOD(INT(AN112),2),ROUND(AN112,0)) -> 29 | AP112: =IF(AND(AO112>55.49,AO112<56.51),AO112,) -> 0 | AQ112: =IF(AND(AO112>56.5,AO112<57.5),AO112,) -> 0 | AR112: =IF(AP112>0,AP112-3,IF(AQ112>0,AQ112-4,AO112-2)) -> 27 | AS112: =10*LOG(10^(E112/10)+(10^(P112/10))) -> 58.797991 | AT112: =IF(MOD(AS112,1)=0.5,INT(AS112)+MOD(INT(AS112),2),ROUND(AS112,0)) -> 59
A113: ='N207 50km'!A112 -> Z39_C | B113: ='N207 50km'!B112 -> Zuidkade 39 | C113: ='N207 50km'!C112 -> 7.5 | D113: ='N207'!D112 -> 58.7 | E113: =IF('N207 50km'!D112="--",6,'N207 50km'!D112) -> 58.6 | F113: =IF(MOD(E113,1)=0.5,INT(E113)+MOD(INT(E113),2),ROUND(E113,0)) -> 59 | G113: =F113-5 -> 54 | H113: =IF('N207 80km'!D112="--",6,'N207 80km'!D112) -> 39.2 | I113: =IF(MOD(H113,1)=0.5,INT(H113)+MOD(INT(H113),2),ROUND(H113,0)) -> 39 | J113: {=_xlfn.IFS(I113=56,53,I113=57,53,OR(I113>57,I113<56),I113-2)} -> 37 | K113: =10*LOG(10^(G113/10)+(10^(J113/10))) -> 54.0858 | L113: =IF(MOD(K113,1)=0.5,INT(K113)+MOD(INT(K113),2),ROUND(K113,0)) -> 54 | M113: =IF('Brugweg 30km'!D112="--",6,'Brugweg 30km'!D112) -> 24.6 | N113: =IF(MOD(M113,1)=0.5,INT(M113)+MOD(INT(M113),2),ROUND(M113,0)) -> 25 | O113: =N113-5 -> 20 | P113: =IF('Hefbrug (50 km uur)'!D112="--",6,'Hefbrug (50 km uur)'!D112) -> 32.8 | Q113: =IF(MOD(P113,1)=0.5,INT(P113)+MOD(INT(P113),2),ROUND(P113,0)) -> 33 | R113: =Q113-5 -> 28 | S113: ='Kerkweg oost 50 km'!D112 -> 19 | T113: =IF(MOD(S113,1)=0.5,INT(S113)+MOD(INT(S113),2),ROUND(S113,0)) -> 19 | U113: =T113-5 -> 14 | V113: ='N454 Kanaaldijk 50 km'!D112 -> 22.8 | W113: =IF(MOD(V113,1)=0.5,INT(V113)+MOD(INT(V113),2),ROUND(V113,0)) -> 23 | X113: =W113-5 -> 18 | Y113: ='N454 Kanaaldijk 80 km'!D112 -> 20 | Z113: =IF(MOD(Y113,1)=0.5,INT(Y113)+MOD(INT(Y113),2),ROUND(Y113,0)) -> 20 | AA113: =IF(AND(Z113>55.49,Z113<56.51),Z113,) -> 0 | AB113: =IF(AND(Z113>56.5,Z113<57.5),Z113,) -> 0 | AC113: =IF(AA113>0,AA113-3,IF(AB113>0,AB113-4,Z113-2)) -> 18 | AD113: ='N451 80 km'!D112 -> 23.3 | AE113: =IF(MOD(AD113,1)=0.5,INT(AD113)+MOD(INT(AD113),2),ROUND(AD113,0)) -> 23 | AF113: =IF(AND(AE113>55.49,AE113<56.51),AE113,) -> 0 | AG113: =IF(AND(AE113>56.5,AE113<57.5),AE113,) -> 0 | AH113: =IF(AF113>0,AF113-3,IF(AG113>0,AG113-4,AE113-2)) -> 21 | AI113: =IF('A12'!D112="--",6,'A12'!D112) -> 41.8 | AJ113: =IF(MOD(AI113,1)=0.5,INT(AI113)+MOD(INT(AI113),2),ROUND(AI113,0)) -> 42 | AK113: =IF(AND(AJ113>55.49,AJ113<56.51),AJ113,) -> 0 | AL113: =IF(AND(AJ113>56.5,AJ113<57.5),AJ113,) -> 0 | AM113: =IF(AK113>0,AK113-3,IF(AL113>0,AL113-4,AJ113-2)) -> 40 | AN113: ='A20'!D112 -> 37.1 | AO113: =IF(MOD(AN113,1)=0.5,INT(AN113)+MOD(INT(AN113),2),ROUND(AN113,0)) -> 37 | AP113: =IF(AND(AO113>55.49,AO113<56.51),AO113,) -> 0 | AQ113: =IF(AND(AO113>56.5,AO113<57.5),AO113,) -> 0 | AR113: =IF(AP113>0,AP113-3,IF(AQ113>0,AQ113-4,AO113-2)) -> 35
A114: ='N207 50km'!A113 -> Z39_B | B114: ='N207 50km'!B113 -> Zuidkade 39 | C114: ='N207 50km'!C113 -> 4.5 | D114: ='N207'!D113 -> 57.9 | E114: =IF('N207 50km'!D113="--",6,'N207 50km'!D113) -> 57.8 | F114: =IF(MOD(E114,1)=0.5,INT(E114)+MOD(INT(E114),2),ROUND(E114,0)) -> 58 | G114: =F114-5 -> 53 | H114: =IF('N207 80km'!D113="--",6,'N207 80km'!D113) -> 38.6 | I114: =IF(MOD(H114,1)=0.5,INT(H114)+MOD(INT(H114),2),ROUND(H114,0)) -> 39 | J114: {=_xlfn.IFS(I114=56,53,I114=57,53,OR(I114>57,I114<56),I114-2)} -> 37 | K114: =10*LOG(10^(G114/10)+(10^(J114/10))) -> 53.107742 | L114: =IF(MOD(K114,1)=0.5,INT(K114)+MOD(INT(K114),2),ROUND(K114,0)) -> 53 | M114: =IF('Brugweg 30km'!D113="--",6,'Brugweg 30km'!D113) -> 25.1 | N114: =IF(MOD(M114,1)=0.5,INT(M114)+MOD(INT(M114),2),ROUND(M114,0)) -> 25 | O114: =N114-5 -> 20 | P114: =IF('Hefbrug (50 km uur)'!D113="--",6,'Hefbrug (50 km uur)'!D113) -> 34.2 | Q114: =IF(MOD(P114,1)=0.5,INT(P114)+MOD(INT(P114),2),ROUND(P114,0)) -> 34 | R114: =Q114-5 -> 29 | S114: ='Kerkweg oost 50 km'!D113 -> 19.6 | T114: =IF(MOD(S114,1)=0.5,INT(S114)+MOD(INT(S114),2),ROUND(S114,0)) -> 20 | U114: =T114-5 -> 15 | V114: ='N454 Kanaaldijk 50 km'!D113 -> 21.3 | W114: =IF(MOD(V114,1)=0.5,INT(V114)+MOD(INT(V114),2),ROUND(V114,0)) -> 21 | X114: =W114-5 -> 16 | Y114: ='N454 Kanaaldijk 80 km'!D113 -> 18.8 | Z114: =IF(MOD(Y114,1)=0.5,INT(Y114)+MOD(INT(Y114),2),ROUND(Y114,0)) -> 19 | AA114: =IF(AND(Z114>55.49,Z114<56.51),Z114,) -> 0 | AB114: =IF(AND(Z114>56.5,Z114<57.5),Z114,) -> 0 | AC114: =IF(AA114>0,AA114-3,IF(AB114>0,AB114-4,Z114-2)) -> 17 | AD114: ='N451 80 km'!D113 -> 22.9 | AE114: =IF(MOD(AD114,1)=0.5,INT(AD114)+MOD(INT(AD114),2),ROUND(AD114,0)) -> 23 | AF114: =IF(AND(AE114>55.49,AE114<56.51),AE114,) -> 0 | AG114: =IF(AND(AE114>56.5,AE114<57.5),AE114,) -> 0 | AH114: =IF(AF114>0,AF114-3,IF(AG114>0,AG114-4,AE114-2)) -> 21 | AI114: =IF('A12'!D113="--",6,'A12'!D113) -> 41.5 | AJ114: =IF(MOD(AI114,1)=0.5,INT(AI114)+MOD(INT(AI114),2),ROUND(AI114,0)) -> 42 | AK114: =IF(AND(AJ114>55.49,AJ114<56.51),AJ114,) -> 0 | AL114: =IF(AND(AJ114>56.5,AJ114<57.5),AJ114,) -> 0 | AM114: =IF(AK114>0,AK114-3,IF(AL114>0,AL114-4,AJ114-2)) -> 40 | AN114: ='A20'!D113 -> 37.1 | AO114: =IF(MOD(AN114,1)=0.5,INT(AN114)+MOD(INT(AN114),2),ROUND(AN114,0)) -> 37 | AP114: =IF(AND(AO114>55.49,AO114<56.51),AO114,) -> 0 | AQ114: =IF(AND(AO114>56.5,AO114<57.5),AO114,) -> 0 | AR114: =IF(AP114>0,AP114-3,IF(AQ114>0,AQ114-4,AO114-2)) -> 35
A115: ='N207 50km'!A114 -> Z39_A | B115: ='N207 50km'!B114 -> Zuidkade 39 | C115: ='N207 50km'!C114 -> 1.5 | D115: ='N207'!D114 -> 56.7 | E115: =IF('N207 50km'!D114="--",6,'N207 50km'!D114) -> 56.7 | F115: =IF(MOD(E115,1)=0.5,INT(E115)+MOD(INT(E115),2),ROUND(E115,0)) -> 57 | G115: =F115-5 -> 52 | H115: =IF('N207 80km'!D114="--",6,'N207 80km'!D114) -> 37.6 | I115: =IF(MOD(H115,1)=0.5,INT(H115)+MOD(INT(H115),2),ROUND(H115,0)) -> 38 | J115: {=_xlfn.IFS(I115=56,53,I115=57,53,OR(I115>57,I115<56),I115-2)} -> 36 | K115: =10*LOG(10^(G115/10)+(10^(J115/10))) -> 52.107742 | L115: =IF(MOD(K115,1)=0.5,INT(K115)+MOD(INT(K115),2),ROUND(K115,0)) -> 52 | M115: =IF('Brugweg 30km'!D114="--",6,'Brugweg 30km'!D114) -> 24.5 | N115: =IF(MOD(M115,1)=0.5,INT(M115)+MOD(INT(M115),2),ROUND(M115,0)) -> 24 | O115: =N115-5 -> 19 | P115: =IF('Hefbrug (50 km uur)'!D114="--",6,'Hefbrug (50 km uur)'!D114) -> 33.8 | Q115: =IF(MOD(P115,1)=0.5,INT(P115)+MOD(INT(P115),2),ROUND(P115,0)) -> 34 | R115: =Q115-5 -> 29 | S115: ='Kerkweg oost 50 km'!D114 -> 18.9 | T115: =IF(MOD(S115,1)=0.5,INT(S115)+MOD(INT(S115),2),ROUND(S115,0)) -> 19 | U115: =T115-5 -> 14 | V115: ='N454 Kanaaldijk 50 km'!D114 -> 19.6 | W115: =IF(MOD(V115,1)=0.5,INT(V115)+MOD(INT(V115),2),ROUND(V115,0)) -> 20 | X115: =W115-5 -> 15 | Y115: ='N454 Kanaaldijk 80 km'!D114 -> 17.9 | Z115: =IF(MOD(Y115,1)=0.5,INT(Y115)+MOD(INT(Y115),2),ROUND(Y115,0)) -> 18 | AA115: =IF(AND(Z115>55.49,Z115<56.51),Z115,) -> 0 | AB115: =IF(AND(Z115>56.5,Z115<57.5),Z115,) -> 0 | AC115: =IF(AA115>0,AA115-3,IF(AB115>0,AB115-4,Z115-2)) -> 16 | AD115: ='N451 80 km'!D114 -> 21.1 | AE115: =IF(MOD(AD115,1)=0.5,INT(AD115)+MOD(INT(AD115),2),ROUND(AD115,0)) -> 21 | AF115: =IF(AND(AE115>55.49,AE115<56.51),AE115,) -> 0 | AG115: =IF(AND(AE115>56.5,AE115<57.5),AE115,) -> 0 | AH115: =IF(AF115>0,AF115-3,IF(AG115>0,AG115-4,AE115-2)) -> 19 | AI115: =IF('A12'!D114="--",6,'A12'!D114) -> 39.3 | AJ115: =IF(MOD(AI115,1)=0.5,INT(AI115)+MOD(INT(AI115),2),ROUND(AI115,0)) -> 39 | AK115: =IF(AND(AJ115>55.49,AJ115<56.51),AJ115,) -> 0 | AL115: =IF(AND(AJ115>56.5,AJ115<57.5),AJ115,) -> 0 | AM115: =IF(AK115>0,AK115-3,IF(AL115>0,AL115-4,AJ115-2)) -> 37 | AN115: ='A20'!D114 -> 35.4 | AO115: =IF(MOD(AN115,1)=0.5,INT(AN115)+MOD(INT(AN115),2),ROUND(AN115,0)) -> 35 | AP115: =IF(AND(AO115>55.49,AO115<56.51),AO115,) -> 0 | AQ115: =IF(AND(AO115>56.5,AO115<57.5),AO115,) -> 0 | AR115: =IF(AP115>0,AP115-3,IF(AQ115>0,AQ115-4,AO115-2)) -> 33
A116: ='N207 50km'!A115 -> Z38_C | B116: ='N207 50km'!B115 -> Zuidkade 38 | C116: ='N207 50km'!C115 -> 7.5 | D116: ='N207'!D115 -> 58.6 | E116: =IF('N207 50km'!D115="--",6,'N207 50km'!D115) -> 58.5 | F116: =IF(MOD(E116,1)=0.5,INT(E116)+MOD(INT(E116),2),ROUND(E116,0)) -> 58 | G116: =F116-5 -> 53 | H116: =IF('N207 80km'!D115="--",6,'N207 80km'!D115) -> 40 | I116: =IF(MOD(H116,1)=0.5,INT(H116)+MOD(INT(H116),2),ROUND(H116,0)) -> 40 | J116: {=_xlfn.IFS(I116=56,53,I116=57,53,OR(I116>57,I116<56),I116-2)} -> 38 | K116: =10*LOG(10^(G116/10)+(10^(J116/10))) -> 53.135209 | L116: =IF(MOD(K116,1)=0.5,INT(K116)+MOD(INT(K116),2),ROUND(K116,0)) -> 53 | M116: =IF('Brugweg 30km'!D115="--",6,'Brugweg 30km'!D115) -> 24.2 | N116: =IF(MOD(M116,1)=0.5,INT(M116)+MOD(INT(M116),2),ROUND(M116,0)) -> 24 | O116: =N116-5 -> 19 | P116: =IF('Hefbrug (50 km uur)'!D115="--",6,'Hefbrug (50 km uur)'!D115) -> 28.4 | Q116: =IF(MOD(P116,1)=0.5,INT(P116)+MOD(INT(P116),2),ROUND(P116,0)) -> 28 | R116: =Q116-5 -> 23 | S116: ='Kerkweg oost 50 km'!D115 -> 25.5 | T116: =IF(MOD(S116,1)=0.5,INT(S116)+MOD(INT(S116),2),ROUND(S116,0)) -> 26 | U116: =T116-5 -> 21 | V116: ='N454 Kanaaldijk 50 km'!D115 -> 23 | W116: =IF(MOD(V116,1)=0.5,INT(V116)+MOD(INT(V116),2),ROUND(V116,0)) -> 23 | X116: =W116-5 -> 18 | Y116: ='N454 Kanaaldijk 80 km'!D115 -> 18.1 | Z116: =IF(MOD(Y116,1)=0.5,INT(Y116)+MOD(INT(Y116),2),ROUND(Y116,0)) -> 18 | AA116: =IF(AND(Z116>55.49,Z116<56.51),Z116,) -> 0 | AB116: =IF(AND(Z116>56.5,Z116<57.5),Z116,) -> 0 | AC116: =IF(AA116>0,AA116-3,IF(AB116>0,AB116-4,Z116-2)) -> 16 | AD116: ='N451 80 km'!D115 -> 23.1 | AE116: =IF(MOD(AD116,1)=0.5,INT(AD116)+MOD(INT(AD116),2),ROUND(AD116,0)) -> 23 | AF116: =IF(AND(AE116>55.49,AE116<56.51),AE116,) -> 0 | AG116: =IF(AND(AE116>56.5,AE116<57.5),AE116,) -> 0 | AH116: =IF(AF116>0,AF116-3,IF(AG116>0,AG116-4,AE116-2)) -> 21 | AI116: =IF('A12'!D115="--",6,'A12'!D115) -> 41.6 | AJ116: =IF(MOD(AI116,1)=0.5,INT(AI116)+MOD(INT(AI116),2),ROUND(AI116,0)) -> 42 | AK116: =IF(AND(AJ116>55.49,AJ116<56.51),AJ116,) -> 0 | AL116: =IF(AND(AJ116>56.5,AJ116<57.5),AJ116,) -> 0 | AM116: =IF(AK116>0,AK116-3,IF(AL116>0,AL116-4,AJ116-2)) -> 40 | AN116: ='A20'!D115 -> 36.9 | AO116: =IF(MOD(AN116,1)=0.5,INT(AN116)+MOD(INT(AN116),2),ROUND(AN116,0)) -> 37 | AP116: =IF(AND(AO116>55.49,AO116<56.51),AO116,) -> 0 | AQ116: =IF(AND(AO116>56.5,AO116<57.5),AO116,) -> 0 | AR116: =IF(AP116>0,AP116-3,IF(AQ116>0,AQ116-4,AO116-2)) -> 35
A117: ='N207 50km'!A116 -> Z38_B | B117: ='N207 50km'!B116 -> Zuidkade 38 | C117: ='N207 50km'!C116 -> 4.5 | D117: ='N207'!D116 -> 57.7 | E117: =IF('N207 50km'!D116="--",6,'N207 50km'!D116) -> 57.7 | F117: =IF(MOD(E117,1)=0.5,INT(E117)+MOD(INT(E117),2),ROUND(E117,0)) -> 58 | G117: =F117-5 -> 53 | H117: =IF('N207 80km'!D116="--",6,'N207 80km'!D116) -> 39.5 | I117: =IF(MOD(H117,1)=0.5,INT(H117)+MOD(INT(H117),2),ROUND(H117,0)) -> 40 | J117: {=_xlfn.IFS(I117=56,53,I117=57,53,OR(I117>57,I117<56),I117-2)} -> 38 | K117: =10*LOG(10^(G117/10)+(10^(J117/10))) -> 53.135209 | L117: =IF(MOD(K117,1)=0.5,INT(K117)+MOD(INT(K117),2),ROUND(K117,0)) -> 53 | M117: =IF('Brugweg 30km'!D116="--",6,'Brugweg 30km'!D116) -> 23.8 | N117: =IF(MOD(M117,1)=0.5,INT(M117)+MOD(INT(M117),2),ROUND(M117,0)) -> 24 | O117: =N117-5 -> 19 | P117: =IF('Hefbrug (50 km uur)'!D116="--",6,'Hefbrug (50 km uur)'!D116) -> 30.5 | Q117: =IF(MOD(P117,1)=0.5,INT(P117)+MOD(INT(P117),2),ROUND(P117,0)) -> 30 | R117: =Q117-5 -> 25 | S117: ='Kerkweg oost 50 km'!D116 -> 24.7 | T117: =IF(MOD(S117,1)=0.5,INT(S117)+MOD(INT(S117),2),ROUND(S117,0)) -> 25 | U117: =T117-5 -> 20 | V117: ='N454 Kanaaldijk 50 km'!D116 -> 21.4 | W117: =IF(MOD(V117,1)=0.5,INT(V117)+MOD(INT(V117),2),ROUND(V117,0)) -> 21 | X117: =W117-5 -> 16 | Y117: ='N454 Kanaaldijk 80 km'!D116 -> 17.7 | Z117: =IF(MOD(Y117,1)=0.5,INT(Y117)+MOD(INT(Y117),2),ROUND(Y117,0)) -> 18 | AA117: =IF(AND(Z117>55.49,Z117<56.51),Z117,) -> 0 | AB117: =IF(AND(Z117>56.5,Z117<57.5),Z117,) -> 0 | AC117: =IF(AA117>0,AA117-3,IF(AB117>0,AB117-4,Z117-2)) -> 16 | AD117: ='N451 80 km'!D116 -> 22.6 | AE117: =IF(MOD(AD117,1)=0.5,INT(AD117)+MOD(INT(AD117),2),ROUND(AD117,0)) -> 23 | AF117: =IF(AND(AE117>55.49,AE117<56.51),AE117,) -> 0 | AG117: =IF(AND(AE117>56.5,AE117<57.5),AE117,) -> 0 | AH117: =IF(AF117>0,AF117-3,IF(AG117>0,AG117-4,AE117-2)) -> 21 | AI117: =IF('A12'!D116="--",6,'A12'!D116) -> 41.1 | AJ117: =IF(MOD(AI117,1)=0.5,INT(AI117)+MOD(INT(AI117),2),ROUND(AI117,0)) -> 41 | AK117: =IF(AND(AJ117>55.49,AJ117<56.51),AJ117,) -> 0 | AL117: =IF(AND(AJ117>56.5,AJ117<57.5),AJ117,) -> 0 | AM117: =IF(AK117>0,AK117-3,IF(AL117>0,AL117-4,AJ117-2)) -> 39 | AN117: ='A20'!D116 -> 36.5 | AO117: =IF(MOD(AN117,1)=0.5,INT(AN117)+MOD(INT(AN117),2),ROUND(AN117,0)) -> 36 | AP117: =IF(AND(AO117>55.49,AO117<56.51),AO117,) -> 0 | AQ117: =IF(AND(AO117>56.5,AO117<57.5),AO117,) -> 0 | AR117: =IF(AP117>0,AP117-3,IF(AQ117>0,AQ117-4,AO117-2)) -> 34
A118: ='N207 50km'!A117 -> Z38_A | B118: ='N207 50km'!B117 -> Zuidkade 38 | C118: ='N207 50km'!C117 -> 1.5 | D118: ='N207'!D117 -> 56.6 | E118: =IF('N207 50km'!D117="--",6,'N207 50km'!D117) -> 56.5 | F118: =IF(MOD(E118,1)=0.5,INT(E118)+MOD(INT(E118),2),ROUND(E118,0)) -> 56 | G118: =F118-5 -> 51 | H118: =IF('N207 80km'!D117="--",6,'N207 80km'!D117) -> 38.6 | I118: =IF(MOD(H118,1)=0.5,INT(H118)+MOD(INT(H118),2),ROUND(H118,0)) -> 39 | J118: {=_xlfn.IFS(I118=56,53,I118=57,53,OR(I118>57,I118<56),I118-2)} -> 37 | K118: =10*LOG(10^(G118/10)+(10^(J118/10))) -> 51.169543 | L118: =IF(MOD(K118,1)=0.5,INT(K118)+MOD(INT(K118),2),ROUND(K118,0)) -> 51 | M118: =IF('Brugweg 30km'!D117="--",6,'Brugweg 30km'!D117) -> 22.9 | N118: =IF(MOD(M118,1)=0.5,INT(M118)+MOD(INT(M118),2),ROUND(M118,0)) -> 23 | O118: =N118-5 -> 18 | P118: =IF('Hefbrug (50 km uur)'!D117="--",6,'Hefbrug (50 km uur)'!D117) -> 29.3 | Q118: =IF(MOD(P118,1)=0.5,INT(P118)+MOD(INT(P118),2),ROUND(P118,0)) -> 29 | R118: =Q118-5 -> 24 | S118: ='Kerkweg oost 50 km'!D117 -> 21.5 | T118: =IF(MOD(S118,1)=0.5,INT(S118)+MOD(INT(S118),2),ROUND(S118,0)) -> 22 | U118: =T118-5 -> 17 | V118: ='N454 Kanaaldijk 50 km'!D117 -> 20 | W118: =IF(MOD(V118,1)=0.5,INT(V118)+MOD(INT(V118),2),ROUND(V118,0)) -> 20 | X118: =W118-5 -> 15 | Y118: ='N454 Kanaaldijk 80 km'!D117 -> 17 | Z118: =IF(MOD(Y118,1)=0.5,INT(Y118)+MOD(INT(Y118),2),ROUND(Y118,0)) -> 17 | AA118: =IF(AND(Z118>55.49,Z118<56.51),Z118,) -> 0 | AB118: =IF(AND(Z118>56.5,Z118<57.5),Z118,) -> 0 | AC118: =IF(AA118>0,AA118-3,IF(AB118>0,AB118-4,Z118-2)) -> 15 | AD118: ='N451 80 km'!D117 -> 21 | AE118: =IF(MOD(AD118,1)=0.5,INT(AD118)+MOD(INT(AD118),2),ROUND(AD118,0)) -> 21 | AF118: =IF(AND(AE118>55.49,AE118<56.51),AE118,) -> 0 | AG118: =IF(AND(AE118>56.5,AE118<57.5),AE118,) -> 0 | AH118: =IF(AF118>0,AF118-3,IF(AG118>0,AG118-4,AE118-2)) -> 19 | AI118: =IF('A12'!D117="--",6,'A12'!D117) -> 39.2 | AJ118: =IF(MOD(AI118,1)=0.5,INT(AI118)+MOD(INT(AI118),2),ROUND(AI118,0)) -> 39 | AK118: =IF(AND(AJ118>55.49,AJ118<56.51),AJ118,) -> 0 | AL118: =IF(AND(AJ118>56.5,AJ118<57.5),AJ118,) -> 0 | AM118: =IF(AK118>0,AK118-3,IF(AL118>0,AL118-4,AJ118-2)) -> 37 | AN118: ='A20'!D117 -> 35.2 | AO118: =IF(MOD(AN118,1)=0.5,INT(AN118)+MOD(INT(AN118),2),ROUND(AN118,0)) -> 35 | AP118: =IF(AND(AO118>55.49,AO118<56.51),AO118,) -> 0 | AQ118: =IF(AND(AO118>56.5,AO118<57.5),AO118,) -> 0 | AR118: =IF(AP118>0,AP118-3,IF(AQ118>0,AQ118-4,AO118-2)) -> 33
A119: ='N207 50km'!A118 -> Z37_C | B119: ='N207 50km'!B118 -> Zuidkade 37 | C119: ='N207 50km'!C118 -> 7.5 | D119: ='N207'!D118 -> 58.6 | E119: =IF('N207 50km'!D118="--",6,'N207 50km'!D118) -> 58.5 | F119: =IF(MOD(E119,1)=0.5,INT(E119)+MOD(INT(E119),2),ROUND(E119,0)) -> 58 | G119: =F119-5 -> 53 | H119: =IF('N207 80km'!D118="--",6,'N207 80km'!D118) -> 40.7 | I119: =IF(MOD(H119,1)=0.5,INT(H119)+MOD(INT(H119),2),ROUND(H119,0)) -> 41 | J119: {=_xlfn.IFS(I119=56,53,I119=57,53,OR(I119>57,I119<56),I119-2)} -> 39 | K119: =10*LOG(10^(G119/10)+(10^(J119/10))) -> 53.169543 | L119: =IF(MOD(K119,1)=0.5,INT(K119)+MOD(INT(K119),2),ROUND(K119,0)) -> 53 | M119: =IF('Brugweg 30km'!D118="--",6,'Brugweg 30km'!D118) -> 22.6 | N119: =IF(MOD(M119,1)=0.5,INT(M119)+MOD(INT(M119),2),ROUND(M119,0)) -> 23 | O119: =N119-5 -> 18 | P119: =IF('Hefbrug (50 km uur)'!D118="--",6,'Hefbrug (50 km uur)'!D118) -> 28.2 | Q119: =IF(MOD(P119,1)=0.5,INT(P119)+MOD(INT(P119),2),ROUND(P119,0)) -> 28 | R119: =Q119-5 -> 23 | S119: ='Kerkweg oost 50 km'!D118 -> 25.7 | T119: =IF(MOD(S119,1)=0.5,INT(S119)+MOD(INT(S119),2),ROUND(S119,0)) -> 26 | U119: =T119-5 -> 21 | V119: ='N454 Kanaaldijk 50 km'!D118 -> 23.5 | W119: =IF(MOD(V119,1)=0.5,INT(V119)+MOD(INT(V119),2),ROUND(V119,0)) -> 24 | X119: =W119-5 -> 19 | Y119: ='N454 Kanaaldijk 80 km'!D118 -> 19 | Z119: =IF(MOD(Y119,1)=0.5,INT(Y119)+MOD(INT(Y119),2),ROUND(Y119,0)) -> 19 | AA119: =IF(AND(Z119>55.49,Z119<56.51),Z119,) -> 0 | AB119: =IF(AND(Z119>56.5,Z119<57.5),Z119,) -> 0 | AC119: =IF(AA119>0,AA119-3,IF(AB119>0,AB119-4,Z119-2)) -> 17 | AD119: ='N451 80 km'!D118 -> 22.9 | AE119: =IF(MOD(AD119,1)=0.5,INT(AD119)+MOD(INT(AD119),2),ROUND(AD119,0)) -> 23 | AF119: =IF(AND(AE119>55.49,AE119<56.51),AE119,) -> 0 | AG119: =IF(AND(AE119>56.5,AE119<57.5),AE119,) -> 0 | AH119: =IF(AF119>0,AF119-3,IF(AG119>0,AG119-4,AE119-2)) -> 21 | AI119: =IF('A12'!D118="--",6,'A12'!D118) -> 41.6 | AJ119: =IF(MOD(AI119,1)=0.5,INT(AI119)+MOD(INT(AI119),2),ROUND(AI119,0)) -> 42 | AK119: =IF(AND(AJ119>55.49,AJ119<56.51),AJ119,) -> 0 | AL119: =IF(AND(AJ119>56.5,AJ119<57.5),AJ119,) -> 0 | AM119: =IF(AK119>0,AK119-3,IF(AL119>0,AL119-4,AJ119-2)) -> 40 | AN119: ='A20'!D118 -> 37.2 | AO119: =IF(MOD(AN119,1)=0.5,INT(AN119)+MOD(INT(AN119),2),ROUND(AN119,0)) -> 37 | AP119: =IF(AND(AO119>55.49,AO119<56.51),AO119,) -> 0 | AQ119: =IF(AND(AO119>56.5,AO119<57.5),AO119,) -> 0 | AR119: =IF(AP119>0,AP119-3,IF(AQ119>0,AQ119-4,AO119-2)) -> 35
A120: ='N207 50km'!A119 -> Z37_B | B120: ='N207 50km'!B119 -> Zuidkade 37 | C120: ='N207 50km'!C119 -> 4.5 | D120: ='N207'!D119 -> 57.7 | E120: =IF('N207 50km'!D119="--",6,'N207 50km'!D119) -> 57.6 | F120: =IF(MOD(E120,1)=0.5,INT(E120)+MOD(INT(E120),2),ROUND(E120,0)) -> 58 | G120: =F120-5 -> 53 | H120: =IF('N207 80km'!D119="--",6,'N207 80km'!D119) -> 40.2 | I120: =IF(MOD(H120,1)=0.5,INT(H120)+MOD(INT(H120),2),ROUND(H120,0)) -> 40 | J120: {=_xlfn.IFS(I120=56,53,I120=57,53,OR(I120>57,I120<56),I120-2)} -> 38 | K120: =10*LOG(10^(G120/10)+(10^(J120/10))) -> 53.135209 | L120: =IF(MOD(K120,1)=0.5,INT(K120)+MOD(INT(K120),2),ROUND(K120,0)) -> 53 | M120: =IF('Brugweg 30km'!D119="--",6,'Brugweg 30km'!D119) -> 22 | N120: =IF(MOD(M120,1)=0.5,INT(M120)+MOD(INT(M120),2),ROUND(M120,0)) -> 22 | O120: =N120-5 -> 17 | P120: =IF('Hefbrug (50 km uur)'!D119="--",6,'Hefbrug (50 km uur)'!D119) -> 30.4 | Q120: =IF(MOD(P120,1)=0.5,INT(P120)+MOD(INT(P120),2),ROUND(P120,0)) -> 30 | R120: =Q120-5 -> 25 | S120: ='Kerkweg oost 50 km'!D119 -> 25.5 | T120: =IF(MOD(S120,1)=0.5,INT(S120)+MOD(INT(S120),2),ROUND(S120,0)) -> 26 | U120: =T120-5 -> 21 | V120: ='N454 Kanaaldijk 50 km'!D119 -> 21.6 | W120: =IF(MOD(V120,1)=0.5,INT(V120)+MOD(INT(V120),2),ROUND(V120,0)) -> 22 | X120: =W120-5 -> 17 | Y120: ='N454 Kanaaldijk 80 km'!D119 -> 18.6 | Z120: =IF(MOD(Y120,1)=0.5,INT(Y120)+MOD(INT(Y120),2),ROUND(Y120,0)) -> 19 | AA120: =IF(AND(Z120>55.49,Z120<56.51),Z120,) -> 0 | AB120: =IF(AND(Z120>56.5,Z120<57.5),Z120,) -> 0 | AC120: =IF(AA120>0,AA120-3,IF(AB120>0,AB120-4,Z120-2)) -> 17 | AD120: ='N451 80 km'!D119 -> 22.4 | AE120: =IF(MOD(AD120,1)=0.5,INT(AD120)+MOD(INT(AD120),2),ROUND(AD120,0)) -> 22 | AF120: =IF(AND(AE120>55.49,AE120<56.51),AE120,) -> 0 | AG120: =IF(AND(AE120>56.5,AE120<57.5),AE120,) -> 0 | AH120: =IF(AF120>0,AF120-3,IF(AG120>0,AG120-4,AE120-2)) -> 20 | AI120: =IF('A12'!D119="--",6,'A12'!D119) -> 41 | AJ120: =IF(MOD(AI120,1)=0.5,INT(AI120)+MOD(INT(AI120),2),ROUND(AI120,0)) -> 41 | AK120: =IF(AND(AJ120>55.49,AJ120<56.51),AJ120,) -> 0 | AL120: =IF(AND(AJ120>56.5,AJ120<57.5),AJ120,) -> 0 | AM120: =IF(AK120>0,AK120-3,IF(AL120>0,AL120-4,AJ120-2)) -> 39 | AN120: ='A20'!D119 -> 36.8 | AO120: =IF(MOD(AN120,1)=0.5,INT(AN120)+MOD(INT(AN120),2),ROUND(AN120,0)) -> 37 | AP120: =IF(AND(AO120>55.49,AO120<56.51),AO120,) -> 0 | AQ120: =IF(AND(AO120>56.5,AO120<57.5),AO120,) -> 0 | AR120: =IF(AP120>0,AP120-3,IF(AQ120>0,AQ120-4,AO120-2)) -> 35
A121: ='N207 50km'!A120 -> Z37_A | B121: ='N207 50km'!B120 -> Zuidkade 37 | C121: ='N207 50km'!C120 -> 1.5 | D121: ='N207'!D120 -> 56.5 | E121: =IF('N207 50km'!D120="--",6,'N207 50km'!D120) -> 56.4 | F121: =IF(MOD(E121,1)=0.5,INT(E121)+MOD(INT(E121),2),ROUND(E121,0)) -> 56 | G121: =F121-5 -> 51 | H121: =IF('N207 80km'!D120="--",6,'N207 80km'!D120) -> 39.4 | I121: =IF(MOD(H121,1)=0.5,INT(H121)+MOD(INT(H121),2),ROUND(H121,0)) -> 39 | J121: {=_xlfn.IFS(I121=56,53,I121=57,53,OR(I121>57,I121<56),I121-2)} -> 37 | K121: =10*LOG(10^(G121/10)+(10^(J121/10))) -> 51.169543 | L121: =IF(MOD(K121,1)=0.5,INT(K121)+MOD(INT(K121),2),ROUND(K121,0)) -> 51 | M121: =IF('Brugweg 30km'!D120="--",6,'Brugweg 30km'!D120) -> 19.9 | N121: =IF(MOD(M121,1)=0.5,INT(M121)+MOD(INT(M121),2),ROUND(M121,0)) -> 20 | O121: =N121-5 -> 15 | P121: =IF('Hefbrug (50 km uur)'!D120="--",6,'Hefbrug (50 km uur)'!D120) -> 29.2 | Q121: =IF(MOD(P121,1)=0.5,INT(P121)+MOD(INT(P121),2),ROUND(P121,0)) -> 29 | R121: =Q121-5 -> 24 | S121: ='Kerkweg oost 50 km'!D120 -> 22 | T121: =IF(MOD(S121,1)=0.5,INT(S121)+MOD(INT(S121),2),ROUND(S121,0)) -> 22 | U121: =T121-5 -> 17 | V121: ='N454 Kanaaldijk 50 km'!D120 -> 20.4 | W121: =IF(MOD(V121,1)=0.5,INT(V121)+MOD(INT(V121),2),ROUND(V121,0)) -> 20 | X121: =W121-5 -> 15 | Y121: ='N454 Kanaaldijk 80 km'!D120 -> 17.9 | Z121: =IF(MOD(Y121,1)=0.5,INT(Y121)+MOD(INT(Y121),2),ROUND(Y121,0)) -> 18 | AA121: =IF(AND(Z121>55.49,Z121<56.51),Z121,) -> 0 | AB121: =IF(AND(Z121>56.5,Z121<57.5),Z121,) -> 0 | AC121: =IF(AA121>0,AA121-3,IF(AB121>0,AB121-4,Z121-2)) -> 16 | AD121: ='N451 80 km'!D120 -> 21 | AE121: =IF(MOD(AD121,1)=0.5,INT(AD121)+MOD(INT(AD121),2),ROUND(AD121,0)) -> 21 | AF121: =IF(AND(AE121>55.49,AE121<56.51),AE121,) -> 0 | AG121: =IF(AND(AE121>56.5,AE121<57.5),AE121,) -> 0 | AH121: =IF(AF121>0,AF121-3,IF(AG121>0,AG121-4,AE121-2)) -> 19 | AI121: =IF('A12'!D120="--",6,'A12'!D120) -> 39.3 | AJ121: =IF(MOD(AI121,1)=0.5,INT(AI121)+MOD(INT(AI121),2),ROUND(AI121,0)) -> 39 | AK121: =IF(AND(AJ121>55.49,AJ121<56.51),AJ121,) -> 0 | AL121: =IF(AND(AJ121>56.5,AJ121<57.5),AJ121,) -> 0 | AM121: =IF(AK121>0,AK121-3,IF(AL121>0,AL121-4,AJ121-2)) -> 37 | AN121: ='A20'!D120 -> 35.7 | AO121: =IF(MOD(AN121,1)=0.5,INT(AN121)+MOD(INT(AN121),2),ROUND(AN121,0)) -> 36 | AP121: =IF(AND(AO121>55.49,AO121<56.51),AO121,) -> 0 | AQ121: =IF(AND(AO121>56.5,AO121<57.5),AO121,) -> 0 | AR121: =IF(AP121>0,AP121-3,IF(AQ121>0,AQ121-4,AO121-2)) -> 34
A122: ='N207 50km'!A121 -> Z36_B | B122: ='N207 50km'!B121 -> Zuidkade 36 | C122: ='N207 50km'!C121 -> 4.5 | D122: ='N207'!D121 -> 58.3 | E122: =IF('N207 50km'!D121="--",6,'N207 50km'!D121) -> 58.2 | F122: =IF(MOD(E122,1)=0.5,INT(E122)+MOD(INT(E122),2),ROUND(E122,0)) -> 58 | G122: =F122-5 -> 53 | H122: =IF('N207 80km'!D121="--",6,'N207 80km'!D121) -> 39.2 | I122: =IF(MOD(H122,1)=0.5,INT(H122)+MOD(INT(H122),2),ROUND(H122,0)) -> 39 | J122: {=_xlfn.IFS(I122=56,53,I122=57,53,OR(I122>57,I122<56),I122-2)} -> 37 | K122: =10*LOG(10^(G122/10)+(10^(J122/10))) -> 53.107742 | L122: =IF(MOD(K122,1)=0.5,INT(K122)+MOD(INT(K122),2),ROUND(K122,0)) -> 53 | M122: =IF('Brugweg 30km'!D121="--",6,'Brugweg 30km'!D121) -> 25.3 | N122: =IF(MOD(M122,1)=0.5,INT(M122)+MOD(INT(M122),2),ROUND(M122,0)) -> 25 | O122: =N122-5 -> 20 | P122: =IF('Hefbrug (50 km uur)'!D121="--",6,'Hefbrug (50 km uur)'!D121) -> 36.5 | Q122: =IF(MOD(P122,1)=0.5,INT(P122)+MOD(INT(P122),2),ROUND(P122,0)) -> 36 | R122: =Q122-5 -> 31 | S122: ='Kerkweg oost 50 km'!D121 -> 25.2 | T122: =IF(MOD(S122,1)=0.5,INT(S122)+MOD(INT(S122),2),ROUND(S122,0)) -> 25 | U122: =T122-5 -> 20 | V122: ='N454 Kanaaldijk 50 km'!D121 -> 20.8 | W122: =IF(MOD(V122,1)=0.5,INT(V122)+MOD(INT(V122),2),ROUND(V122,0)) -> 21 | X122: =W122-5 -> 16 | Y122: ='N454 Kanaaldijk 80 km'!D121 -> 18 | Z122: =IF(MOD(Y122,1)=0.5,INT(Y122)+MOD(INT(Y122),2),ROUND(Y122,0)) -> 18 | AA122: =IF(AND(Z122>55.49,Z122<56.51),Z122,) -> 0 | AB122: =IF(AND(Z122>56.5,Z122<57.5),Z122,) -> 0 | AC122: =IF(AA122>0,AA122-3,IF(AB122>0,AB122-4,Z122-2)) -> 16 | AD122: ='N451 80 km'!D121 -> 21.8 | AE122: =IF(MOD(AD122,1)=0.5,INT(AD122)+MOD(INT(AD122),2),ROUND(AD122,0)) -> 22 | AF122: =IF(AND(AE122>55.49,AE122<56.51),AE122,) -> 0 | AG122: =IF(AND(AE122>56.5,AE122<57.5),AE122,) -> 0 | AH122: =IF(AF122>0,AF122-3,IF(AG122>0,AG122-4,AE122-2)) -> 20 | AI122: =IF('A12'!D121="--",6,'A12'!D121) -> 40.4 | AJ122: =IF(MOD(AI122,1)=0.5,INT(AI122)+MOD(INT(AI122),2),ROUND(AI122,0)) -> 40 | AK122: =IF(AND(AJ122>55.49,AJ122<56.51),AJ122,) -> 0 | AL122: =IF(AND(AJ122>56.5,AJ122<57.5),AJ122,) -> 0 | AM122: =IF(AK122>0,AK122-3,IF(AL122>0,AL122-4,AJ122-2)) -> 38 | AN122: ='A20'!D121 -> 35.8 | AO122: =IF(MOD(AN122,1)=0.5,INT(AN122)+MOD(INT(AN122),2),ROUND(AN122,0)) -> 36 | AP122: =IF(AND(AO122>55.49,AO122<56.51),AO122,) -> 0 | AQ122: =IF(AND(AO122>56.5,AO122<57.5),AO122,) -> 0 | AR122: =IF(AP122>0,AP122-3,IF(AQ122>0,AQ122-4,AO122-2)) -> 34
A123: ='N207 50km'!A122 -> Z36_A | B123: ='N207 50km'!B122 -> Zuidkade 36 | C123: ='N207 50km'!C122 -> 1.5 | D123: ='N207'!D122 -> 57.2 | E123: =IF('N207 50km'!D122="--",6,'N207 50km'!D122) -> 57.1 | F123: =IF(MOD(E123,1)=0.5,INT(E123)+MOD(INT(E123),2),ROUND(E123,0)) -> 57 | G123: =F123-5 -> 52 | H123: =IF('N207 80km'!D122="--",6,'N207 80km'!D122) -> 38.2 | I123: =IF(MOD(H123,1)=0.5,INT(H123)+MOD(INT(H123),2),ROUND(H123,0)) -> 38 | J123: {=_xlfn.IFS(I123=56,53,I123=57,53,OR(I123>57,I123<56),I123-2)} -> 36 | K123: =10*LOG(10^(G123/10)+(10^(J123/10))) -> 52.107742 | L123: =IF(MOD(K123,1)=0.5,INT(K123)+MOD(INT(K123),2),ROUND(K123,0)) -> 52 | M123: =IF('Brugweg 30km'!D122="--",6,'Brugweg 30km'!D122) -> 24.8 | N123: =IF(MOD(M123,1)=0.5,INT(M123)+MOD(INT(M123),2),ROUND(M123,0)) -> 25 | O123: =N123-5 -> 20 | P123: =IF('Hefbrug (50 km uur)'!D122="--",6,'Hefbrug (50 km uur)'!D122) -> 36.4 | Q123: =IF(MOD(P123,1)=0.5,INT(P123)+MOD(INT(P123),2),ROUND(P123,0)) -> 36 | R123: =Q123-5 -> 31 | S123: ='Kerkweg oost 50 km'!D122 -> 20.6 | T123: =IF(MOD(S123,1)=0.5,INT(S123)+MOD(INT(S123),2),ROUND(S123,0)) -> 21 | U123: =T123-5 -> 16 | V123: ='N454 Kanaaldijk 50 km'!D122 -> 20.4 | W123: =IF(MOD(V123,1)=0.5,INT(V123)+MOD(INT(V123),2),ROUND(V123,0)) -> 20 | X123: =W123-5 -> 15 | Y123: ='N454 Kanaaldijk 80 km'!D122 -> 17.4 | Z123: =IF(MOD(Y123,1)=0.5,INT(Y123)+MOD(INT(Y123),2),ROUND(Y123,0)) -> 17 | AA123: =IF(AND(Z123>55.49,Z123<56.51),Z123,) -> 0 | AB123: =IF(AND(Z123>56.5,Z123<57.5),Z123,) -> 0 | AC123: =IF(AA123>0,AA123-3,IF(AB123>0,AB123-4,Z123-2)) -> 15 | AD123: ='N451 80 km'!D122 -> 21 | AE123: =IF(MOD(AD123,1)=0.5,INT(AD123)+MOD(INT(AD123),2),ROUND(AD123,0)) -> 21 | AF123: =IF(AND(AE123>55.49,AE123<56.51),AE123,) -> 0 | AG123: =IF(AND(AE123>56.5,AE123<57.5),AE123,) -> 0 | AH123: =IF(AF123>0,AF123-3,IF(AG123>0,AG123-4,AE123-2)) -> 19 | AI123: =IF('A12'!D122="--",6,'A12'!D122) -> 39.8 | AJ123: =IF(MOD(AI123,1)=0.5,INT(AI123)+MOD(INT(AI123),2),ROUND(AI123,0)) -> 40 | AK123: =IF(AND(AJ123>55.49,AJ123<56.51),AJ123,) -> 0 | AL123: =IF(AND(AJ123>56.5,AJ123<57.5),AJ123,) -> 0 | AM123: =IF(AK123>0,AK123-3,IF(AL123>0,AL123-4,AJ123-2)) -> 38 | AN123: ='A20'!D122 -> 35.2 | AO123: =IF(MOD(AN123,1)=0.5,INT(AN123)+MOD(INT(AN123),2),ROUND(AN123,0)) -> 35 | AP123: =IF(AND(AO123>55.49,AO123<56.51),AO123,) -> 0 | AQ123: =IF(AND(AO123>56.5,AO123<57.5),AO123,) -> 0 | AR123: =IF(AP123>0,AP123-3,IF(AQ123>0,AQ123-4,AO123-2)) -> 33
A124: ='N207 50km'!A123 -> Z35_B | B124: ='N207 50km'!B123 -> Zuidkade 35 | C124: ='N207 50km'!C123 -> 4.5 | D124: ='N207'!D123 -> 58.3 | E124: =IF('N207 50km'!D123="--",6,'N207 50km'!D123) -> 58.2 | F124: =IF(MOD(E124,1)=0.5,INT(E124)+MOD(INT(E124),2),ROUND(E124,0)) -> 58 | G124: =F124-5 -> 53 | H124: =IF('N207 80km'!D123="--",6,'N207 80km'!D123) -> 40.1 | I124: =IF(MOD(H124,1)=0.5,INT(H124)+MOD(INT(H124),2),ROUND(H124,0)) -> 40 | J124: {=_xlfn.IFS(I124=56,53,I124=57,53,OR(I124>57,I124<56),I124-2)} -> 38 | K124: =10*LOG(10^(G124/10)+(10^(J124/10))) -> 53.135209 | L124: =IF(MOD(K124,1)=0.5,INT(K124)+MOD(INT(K124),2),ROUND(K124,0)) -> 53 | M124: =IF('Brugweg 30km'!D123="--",6,'Brugweg 30km'!D123) -> 27.2 | N124: =IF(MOD(M124,1)=0.5,INT(M124)+MOD(INT(M124),2),ROUND(M124,0)) -> 27 | O124: =N124-5 -> 22 | P124: =IF('Hefbrug (50 km uur)'!D123="--",6,'Hefbrug (50 km uur)'!D123) -> 34.8 | Q124: =IF(MOD(P124,1)=0.5,INT(P124)+MOD(INT(P124),2),ROUND(P124,0)) -> 35 | R124: =Q124-5 -> 30 | S124: ='Kerkweg oost 50 km'!D123 -> 24.7 | T124: =IF(MOD(S124,1)=0.5,INT(S124)+MOD(INT(S124),2),ROUND(S124,0)) -> 25 | U124: =T124-5 -> 20 | V124: ='N454 Kanaaldijk 50 km'!D123 -> 21.1 | W124: =IF(MOD(V124,1)=0.5,INT(V124)+MOD(INT(V124),2),ROUND(V124,0)) -> 21 | X124: =W124-5 -> 16 | Y124: ='N454 Kanaaldijk 80 km'!D123 -> 17.9 | Z124: =IF(MOD(Y124,1)=0.5,INT(Y124)+MOD(INT(Y124),2),ROUND(Y124,0)) -> 18 | AA124: =IF(AND(Z124>55.49,Z124<56.51),Z124,) -> 0 | AB124: =IF(AND(Z124>56.5,Z124<57.5),Z124,) -> 0 | AC124: =IF(AA124>0,AA124-3,IF(AB124>0,AB124-4,Z124-2)) -> 16 | AD124: ='N451 80 km'!D123 -> 21.5 | AE124: =IF(MOD(AD124,1)=0.5,INT(AD124)+MOD(INT(AD124),2),ROUND(AD124,0)) -> 22 | AF124: =IF(AND(AE124>55.49,AE124<56.51),AE124,) -> 0 | AG124: =IF(AND(AE124>56.5,AE124<57.5),AE124,) -> 0 | AH124: =IF(AF124>0,AF124-3,IF(AG124>0,AG124-4,AE124-2)) -> 20 | AI124: =IF('A12'!D123="--",6,'A12'!D123) -> 40.4 | AJ124: =IF(MOD(AI124,1)=0.5,INT(AI124)+MOD(INT(AI124),2),ROUND(AI124,0)) -> 40 | AK124: =IF(AND(AJ124>55.49,AJ124<56.51),AJ124,) -> 0 | AL124: =IF(AND(AJ124>56.5,AJ124<57.5),AJ124,) -> 0 | AM124: =IF(AK124>0,AK124-3,IF(AL124>0,AL124-4,AJ124-2)) -> 38 | AN124: ='A20'!D123 -> 36.1 | AO124: =IF(MOD(AN124,1)=0.5,INT(AN124)+MOD(INT(AN124),2),ROUND(AN124,0)) -> 36 | AP124: =IF(AND(AO124>55.49,AO124<56.51),AO124,) -> 0 | AQ124: =IF(AND(AO124>56.5,AO124<57.5),AO124,) -> 0 | AR124: =IF(AP124>0,AP124-3,IF(AQ124>0,AQ124-4,AO124-2)) -> 34
... A138: ='N207 50km'!A137 -> Z30_A | B138: ='N207 50km'!B137 -> Zuidkade 30 | C138: ='N207 50km'!C137 -> 1.5 | D138: ='N207'!D137 -> 56.9 | E138: =IF('N207 50km'!D137="--",6,'N207 50km'!D137) -> 56.8 | F138: =IF(MOD(E138,1)=0.5,INT(E138)+MOD(INT(E138),2),ROUND(E138,0)) -> 57 | G138: =F138-5 -> 52 | H138: =IF('N207 80km'!D137="--",6,'N207 80km'!D137) -> 36.2 | I138: =IF(MOD(H138,1)=0.5,INT(H138)+MOD(INT(H138),2),ROUND(H138,0)) -> 36 | J138: {=_xlfn.IFS(I138=56,53,I138=57,53,OR(I138>57,I138<56),I138-2)} -> 34 | K138: =10*LOG(10^(G138/10)+(10^(J138/10))) -> 52.068291 | L138: =IF(MOD(K138,1)=0.5,INT(K138)+MOD(INT(K138),2),ROUND(K138,0)) -> 52 | M138: =IF('Brugweg 30km'!D137="--",6,'Brugweg 30km'!D137) -> 27.8 | N138: =IF(MOD(M138,1)=0.5,INT(M138)+MOD(INT(M138),2),ROUND(M138,0)) -> 28 | O138: =N138-5 -> 23 | P138: =IF('Hefbrug (50 km uur)'!D137="--",6,'Hefbrug (50 km uur)'!D137) -> 33.4 | Q138: =IF(MOD(P138,1)=0.5,INT(P138)+MOD(INT(P138),2),ROUND(P138,0)) -> 33 | R138: =Q138-5 -> 28 | S138: ='Kerkweg oost 50 km'!D137 -> 1.2 | T138: =IF(MOD(S138,1)=0.5,INT(S138)+MOD(INT(S138),2),ROUND(S138,0)) -> 1 | U138: =T138-5 -> -4 | V138: ='N454 Kanaaldijk 50 km'!D137 -> 20.1 | W138: =IF(MOD(V138,1)=0.5,INT(V138)+MOD(INT(V138),2),ROUND(V138,0)) -> 20 | X138: =W138-5 -> 15 | Y138: ='N454 Kanaaldijk 80 km'!D137 -> 16.4 | Z138: =IF(MOD(Y138,1)=0.5,INT(Y138)+MOD(INT(Y138),2),ROUND(Y138,0)) -> 16 | AA138: =IF(AND(Z138>55.49,Z138<56.51),Z138,) -> 0 | AB138: =IF(AND(Z138>56.5,Z138<57.5),Z138,) -> 0 | AC138: =IF(AA138>0,AA138-3,IF(AB138>0,AB138-4,Z138-2)) -> 14 | AD138: ='N451 80 km'!D137 -> 17.5 | AE138: =IF(MOD(AD138,1)=0.5,INT(AD138)+MOD(INT(AD138),2),ROUND(AD138,0)) -> 18 | AF138: =IF(AND(AE138>55.49,AE138<56.51),AE138,) -> 0 | AG138: =IF(AND(AE138>56.5,AE138<57.5),AE138,) -> 0 | AH138: =IF(AF138>0,AF138-3,IF(AG138>0,AG138-4,AE138-2)) -> 16 | AI138: =IF('A12'!D137="--",6,'A12'!D137) -> 37 | AJ138: =IF(MOD(AI138,1)=0.5,INT(AI138)+MOD(INT(AI138),2),ROUND(AI138,0)) -> 37 | AK138: =IF(AND(AJ138>55.49,AJ138<56.51),AJ138,) -> 0 | AL138: =IF(AND(AJ138>56.5,AJ138<57.5),AJ138,) -> 0 | AM138: =IF(AK138>0,AK138-3,IF(AL138>0,AL138-4,AJ138-2)) -> 35 | AN138: ='A20'!D137 -> 33 | AO138: =IF(MOD(AN138,1)=0.5,INT(AN138)+MOD(INT(AN138),2),ROUND(AN138,0)) -> 33 | AP138: =IF(AND(AO138>55.49,AO138<56.51),AO138,) -> 0 | AQ138: =IF(AND(AO138>56.5,AO138<57.5),AO138,) -> 0 | AR138: =IF(AP138>0,AP138-3,IF(AQ138>0,AQ138-4,AO138-2)) -> 31
A139: ='N207 50km'!A138 -> Z2_C | B139: ='N207 50km'!B138 -> Zuidkade 2 | C139: ='N207 50km'!C138 -> 7.5 | D139: ='N207'!D138 -> 58.8 | E139: =IF('N207 50km'!D138="--",6,'N207 50km'!D138) -> 58.7 | F139: =IF(MOD(E139,1)=0.5,INT(E139)+MOD(INT(E139),2),ROUND(E139,0)) -> 59 | G139: =F139-5 -> 54 | H139: =IF('N207 80km'!D138="--",6,'N207 80km'!D138) -> 42.7 | I139: =IF(MOD(H139,1)=0.5,INT(H139)+MOD(INT(H139),2),ROUND(H139,0)) -> 43 | J139: {=_xlfn.IFS(I139=56,53,I139=57,53,OR(I139>57,I139<56),I139-2)} -> 41 | K139: =10*LOG(10^(G139/10)+(10^(J139/10))) -> 54.212384 | L139: =IF(MOD(K139,1)=0.5,INT(K139)+MOD(INT(K139),2),ROUND(K139,0)) -> 54 | M139: =IF('Brugweg 30km'!D138="--",6,'Brugweg 30km'!D138) -> 40.6 | N139: =IF(MOD(M139,1)=0.5,INT(M139)+MOD(INT(M139),2),ROUND(M139,0)) -> 41 | O139: =N139-5 -> 36 | P139: =IF('Hefbrug (50 km uur)'!D138="--",6,'Hefbrug (50 km uur)'!D138) -> 57.8 | Q139: =IF(MOD(P139,1)=0.5,INT(P139)+MOD(INT(P139),2),ROUND(P139,0)) -> 58 | R139: =Q139-5 -> 53 | S139: ='Kerkweg oost 50 km'!D138 -> 28.8 | T139: =IF(MOD(S139,1)=0.5,INT(S139)+MOD(INT(S139),2),ROUND(S139,0)) -> 29 | U139: =T139-5 -> 24 | V139: ='N454 Kanaaldijk 50 km'!D138 -> 9.9 | W139: =IF(MOD(V139,1)=0.5,INT(V139)+MOD(INT(V139),2),ROUND(V139,0)) -> 10 | X139: =W139-5 -> 5 | Y139: ='N454 Kanaaldijk 80 km'!D138 -> 17.1 | Z139: =IF(MOD(Y139,1)=0.5,INT(Y139)+MOD(INT(Y139),2),ROUND(Y139,0)) -> 17 | AA139: =IF(AND(Z139>55.49,Z139<56.51),Z139,) -> 0 | AB139: =IF(AND(Z139>56.5,Z139<57.5),Z139,) -> 0 | AC139: =IF(AA139>0,AA139-3,IF(AB139>0,AB139-4,Z139-2)) -> 15 | AD139: ='N451 80 km'!D138 -> 20.5 | AE139: =IF(MOD(AD139,1)=0.5,INT(AD139)+MOD(INT(AD139),2),ROUND(AD139,0)) -> 20 | AF139: =IF(AND(AE139>55.49,AE139<56.51),AE139,) -> 0 | AG139: =IF(AND(AE139>56.5,AE139<57.5),AE139,) -> 0 | AH139: =IF(AF139>0,AF139-3,IF(AG139>0,AG139-4,AE139-2)) -> 18 | AI139: =IF('A12'!D138="--",6,'A12'!D138) -> 37.4 | AJ139: =IF(MOD(AI139,1)=0.5,INT(AI139)+MOD(INT(AI139),2),ROUND(AI139,0)) -> 37 | AK139: =IF(AND(AJ139>55.49,AJ139<56.51),AJ139,) -> 0 | AL139: =IF(AND(AJ139>56.5,AJ139<57.5),AJ139,) -> 0 | AM139: =IF(AK139>0,AK139-3,IF(AL139>0,AL139-4,AJ139-2)) -> 35 | AN139: ='A20'!D138 -> 32.1 | AO139: =IF(MOD(AN139,1)=0.5,INT(AN139)+MOD(INT(AN139),2),ROUND(AN139,0)) -> 32 | AP139: =IF(AND(AO139>55.49,AO139<56.51),AO139,) -> 0 | AQ139: =IF(AND(AO139>56.5,AO139<57.5),AO139,) -> 0 | AR139: =IF(AP139>0,AP139-3,IF(AQ139>0,AQ139-4,AO139-2)) -> 30 | AS139: =10*LOG(10^(E139/10)+(10^(P139/10))) -> 61.283572 | AT139: =IF(MOD(AS139,1)=0.5,INT(AS139)+MOD(INT(AS139),2),ROUND(AS139,0)) -> 61 | AU139: 1 | AV139: =AT139-L139 -> 7
A140: ='N207 50km'!A139 -> Z2_B | B140: ='N207 50km'!B139 -> Zuidkade 2 | C140: ='N207 50km'!C139 -> 4.5 | D140: ='N207'!D139 -> 58 | E140: =IF('N207 50km'!D139="--",6,'N207 50km'!D139) -> 57.9 | F140: =IF(MOD(E140,1)=0.5,INT(E140)+MOD(INT(E140),2),ROUND(E140,0)) -> 58 | G140: =F140-5 -> 53 | H140: =IF('N207 80km'!D139="--",6,'N207 80km'!D139) -> 42.3 | I140: =IF(MOD(H140,1)=0.5,INT(H140)+MOD(INT(H140),2),ROUND(H140,0)) -> 42 | J140: {=_xlfn.IFS(I140=56,53,I140=57,53,OR(I140>57,I140<56),I140-2)} -> 40 | K140: =10*LOG(10^(G140/10)+(10^(J140/10))) -> 53.212384 | L140: =IF(MOD(K140,1)=0.5,INT(K140)+MOD(INT(K140),2),ROUND(K140,0)) -> 53 | M140: =IF('Brugweg 30km'!D139="--",6,'Brugweg 30km'!D139) -> 39.8 | N140: =IF(MOD(M140,1)=0.5,INT(M140)+MOD(INT(M140),2),ROUND(M140,0)) -> 40 | O140: =N140-5 -> 35 | P140: =IF('Hefbrug (50 km uur)'!D139="--",6,'Hefbrug (50 km uur)'!D139) -> 57.7 | Q140: =IF(MOD(P140,1)=0.5,INT(P140)+MOD(INT(P140),2),ROUND(P140,0)) -> 58 | R140: =Q140-5 -> 53 | S140: ='Kerkweg oost 50 km'!D139 -> 32.6 | T140: =IF(MOD(S140,1)=0.5,INT(S140)+MOD(INT(S140),2),ROUND(S140,0)) -> 33 | U140: =T140-5 -> 28 | V140: ='N454 Kanaaldijk 50 km'!D139 -> 12.1 | W140: =IF(MOD(V140,1)=0.5,INT(V140)+MOD(INT(V140),2),ROUND(V140,0)) -> 12 | X140: =W140-5 -> 7 | Y140: ='N454 Kanaaldijk 80 km'!D139 -> 16.5 | Z140: =IF(MOD(Y140,1)=0.5,INT(Y140)+MOD(INT(Y140),2),ROUND(Y140,0)) -> 16 | AA140: =IF(AND(Z140>55.49,Z140<56.51),Z140,) -> 0 | AB140: =IF(AND(Z140>56.5,Z140<57.5),Z140,) -> 0 | AC140: =IF(AA140>0,AA140-3,IF(AB140>0,AB140-4,Z140-2)) -> 14 | AD140: ='N451 80 km'!D139 -> 22.4 | AE140: =IF(MOD(AD140,1)=0.5,INT(AD140)+MOD(INT(AD140),2),ROUND(AD140,0)) -> 22 | AF140: =IF(AND(AE140>55.49,AE140<56.51),AE140,) -> 0 | AG140: =IF(AND(AE140>56.5,AE140<57.5),AE140,) -> 0 | AH140: =IF(AF140>0,AF140-3,IF(AG140>0,AG140-4,AE140-2)) -> 20 | AI140: =IF('A12'!D139="--",6,'A12'!D139) -> 39.2 | AJ140: =IF(MOD(AI140,1)=0.5,INT(AI140)+MOD(INT(AI140),2),ROUND(AI140,0)) -> 39 | AK140: =IF(AND(AJ140>55.49,AJ140<56.51),AJ140,) -> 0 | AL140: =IF(AND(AJ140>56.5,AJ140<57.5),AJ140,) -> 0 | AM140: =IF(AK140>0,AK140-3,IF(AL140>0,AL140-4,AJ140-2)) -> 37 | AN140: ='A20'!D139 -> 33.6 | AO140: =IF(MOD(AN140,1)=0.5,INT(AN140)+MOD(INT(AN140),2),ROUND(AN140,0)) -> 34 | AP140: =IF(AND(AO140>55.49,AO140<56.51),AO140,) -> 0 | AQ140: =IF(AND(AO140>56.5,AO140<57.5),AO140,) -> 0 | AR140: =IF(AP140>0,AP140-3,IF(AQ140>0,AQ140-4,AO140-2)) -> 32 | AS140: =10*LOG(10^(E140/10)+(10^(P140/10))) -> 60.811451 | AT140: =IF(MOD(AS140,1)=0.5,INT(AS140)+MOD(INT(AS140),2),ROUND(AS140,0)) -> 61
A141: ='N207 50km'!A140 -> Z2_A | B141: ='N207 50km'!B140 -> Zuidkade 2 | C141: ='N207 50km'!C140 -> 1.5 | D141: ='N207'!D140 -> 56.8 | E141: =IF('N207 50km'!D140="--",6,'N207 50km'!D140) -> 56.7 | F141: =IF(MOD(E141,1)=0.5,INT(E141)+MOD(INT(E141),2),ROUND(E141,0)) -> 57 | G141: =F141-5 -> 52 | H141: =IF('N207 80km'!D140="--",6,'N207 80km'!D140) -> 41.2 | I141: =IF(MOD(H141,1)=0.5,INT(H141)+MOD(INT(H141),2),ROUND(H141,0)) -> 41 | J141: {=_xlfn.IFS(I141=56,53,I141=57,53,OR(I141>57,I141<56),I141-2)} -> 39 | K141: =10*LOG(10^(G141/10)+(10^(J141/10))) -> 52.212384 | L141: =IF(MOD(K141,1)=0.5,INT(K141)+MOD(INT(K141),2),ROUND(K141,0)) -> 52 | M141: =IF('Brugweg 30km'!D140="--",6,'Brugweg 30km'!D140) -> 39.6 | N141: =IF(MOD(M141,1)=0.5,INT(M141)+MOD(INT(M141),2),ROUND(M141,0)) -> 40 | O141: =N141-5 -> 35 | P141: =IF('Hefbrug (50 km uur)'!D140="--",6,'Hefbrug (50 km uur)'!D140) -> 56.4 | Q141: =IF(MOD(P141,1)=0.5,INT(P141)+MOD(INT(P141),2),ROUND(P141,0)) -> 56 | R141: =Q141-5 -> 51 | S141: ='Kerkweg oost 50 km'!D140 -> 29.3 | T141: =IF(MOD(S141,1)=0.5,INT(S141)+MOD(INT(S141),2),ROUND(S141,0)) -> 29 | U141: =T141-5 -> 24 | V141: ='N454 Kanaaldijk 50 km'!D140 -> 9 | W141: =IF(MOD(V141,1)=0.5,INT(V141)+MOD(INT(V141),2),ROUND(V141,0)) -> 9 | X141: =W141-5 -> 4 | Y141: ='N454 Kanaaldijk 80 km'!D140 -> 15.3 | Z141: =IF(MOD(Y141,1)=0.5,INT(Y141)+MOD(INT(Y141),2),ROUND(Y141,0)) -> 15 | AA141: =IF(AND(Z141>55.49,Z141<56.51),Z141,) -> 0 | AB141: =IF(AND(Z141>56.5,Z141<57.5),Z141,) -> 0 | AC141: =IF(AA141>0,AA141-3,IF(AB141>0,AB141-4,Z141-2)) -> 13 | AD141: ='N451 80 km'!D140 -> 20.2 | AE141: =IF(MOD(AD141,1)=0.5,INT(AD141)+MOD(INT(AD141),2),ROUND(AD141,0)) -> 20 | AF141: =IF(AND(AE141>55.49,AE141<56.51),AE141,) -> 0 | AG141: =IF(AND(AE141>56.5,AE141<57.5),AE141,) -> 0 | AH141: =IF(AF141>0,AF141-3,IF(AG141>0,AG141-4,AE141-2)) -> 18 | AI141: =IF('A12'!D140="--",6,'A12'!D140) -> 36.3 | AJ141: =IF(MOD(AI141,1)=0.5,INT(AI141)+MOD(INT(AI141),2),ROUND(AI141,0)) -> 36 | AK141: =IF(AND(AJ141>55.49,AJ141<56.51),AJ141,) -> 0 | AL141: =IF(AND(AJ141>56.5,AJ141<57.5),AJ141,) -> 0 | AM141: =IF(AK141>0,AK141-3,IF(AL141>0,AL141-4,AJ141-2)) -> 34 | AN141: ='A20'!D140 -> 31.3 | AO141: =IF(MOD(AN141,1)=0.5,INT(AN141)+MOD(INT(AN141),2),ROUND(AN141,0)) -> 31 | AP141: =IF(AND(AO141>55.49,AO141<56.51),AO141,) -> 0 | AQ141: =IF(AND(AO141>56.5,AO141<57.5),AO141,) -> 0 | AR141: =IF(AP141>0,AP141-3,IF(AQ141>0,AQ141-4,AO141-2)) -> 29 | AS141: =10*LOG(10^(E141/10)+(10^(P141/10))) -> 59.56289 | AT141: =IF(MOD(AS141,1)=0.5,INT(AS141)+MOD(INT(AS141),2),ROUND(AS141,0)) -> 60
A142: ='N207 50km'!A141 -> Z29_C | B142: ='N207 50km'!B141 -> Zuidkade 29 | C142: ='N207 50km'!C141 -> 7.5 | D142: ='N207'!D141 -> 58.7 | E142: =IF('N207 50km'!D141="--",6,'N207 50km'!D141) -> 58.6 | F142: =IF(MOD(E142,1)=0.5,INT(E142)+MOD(INT(E142),2),ROUND(E142,0)) -> 59 | G142: =F142-5 -> 54 | H142: =IF('N207 80km'!D141="--",6,'N207 80km'!D141) -> 37.7 | I142: =IF(MOD(H142,1)=0.5,INT(H142)+MOD(INT(H142),2),ROUND(H142,0)) -> 38 | J142: {=_xlfn.IFS(I142=56,53,I142=57,53,OR(I142>57,I142<56),I142-2)} -> 36 | K142: =10*LOG(10^(G142/10)+(10^(J142/10))) -> 54.068291 | L142: =IF(MOD(K142,1)=0.5,INT(K142)+MOD(INT(K142),2),ROUND(K142,0)) -> 54 | M142: =IF('Brugweg 30km'!D141="--",6,'Brugweg 30km'!D141) -> 27.8 | N142: =IF(MOD(M142,1)=0.5,INT(M142)+MOD(INT(M142),2),ROUND(M142,0)) -> 28 | O142: =N142-5 -> 23 | P142: =IF('Hefbrug (50 km uur)'!D141="--",6,'Hefbrug (50 km uur)'!D141) -> 33.1 | Q142: =IF(MOD(P142,1)=0.5,INT(P142)+MOD(INT(P142),2),ROUND(P142,0)) -> 33 | R142: =Q142-5 -> 28 | S142: ='Kerkweg oost 50 km'!D141 -> 1 | T142: =IF(MOD(S142,1)=0.5,INT(S142)+MOD(INT(S142),2),ROUND(S142,0)) -> 1 | U142: =T142-5 -> -4 | V142: ='N454 Kanaaldijk 50 km'!D141 -> 21.4 | W142: =IF(MOD(V142,1)=0.5,INT(V142)+MOD(INT(V142),2),ROUND(V142,0)) -> 21 | X142: =W142-5 -> 16 | Y142: ='N454 Kanaaldijk 80 km'!D141 -> 17.3 | Z142: =IF(MOD(Y142,1)=0.5,INT(Y142)+MOD(INT(Y142),2),ROUND(Y142,0)) -> 17 | AA142: =IF(AND(Z142>55.49,Z142<56.51),Z142,) -> 0 | AB142: =IF(AND(Z142>56.5,Z142<57.5),Z142,) -> 0 | AC142: =IF(AA142>0,AA142-3,IF(AB142>0,AB142-4,Z142-2)) -> 15 | AD142: ='N451 80 km'!D141 -> 21 | AE142: =IF(MOD(AD142,1)=0.5,INT(AD142)+MOD(INT(AD142),2),ROUND(AD142,0)) -> 21 | AF142: =IF(AND(AE142>55.49,AE142<56.51),AE142,) -> 0 | AG142: =IF(AND(AE142>56.5,AE142<57.5),AE142,) -> 0 | AH142: =IF(AF142>0,AF142-3,IF(AG142>0,AG142-4,AE142-2)) -> 19 | AI142: =IF('A12'!D141="--",6,'A12'!D141) -> 39.4 | AJ142: =IF(MOD(AI142,1)=0.5,INT(AI142)+MOD(INT(AI142),2),ROUND(AI142,0)) -> 39 | AK142: =IF(AND(AJ142>55.49,AJ142<56.51),AJ142,) -> 0 | AL142: =IF(AND(AJ142>56.5,AJ142<57.5),AJ142,) -> 0 | AM142: =IF(AK142>0,AK142-3,IF(AL142>0,AL142-4,AJ142-2)) -> 37 | AN142: ='A20'!D141 -> 35 | AO142: =IF(MOD(AN142,1)=0.5,INT(AN142)+MOD(INT(AN142),2),ROUND(AN142,0)) -> 35 | AP142: =IF(AND(AO142>55.49,AO142<56.51),AO142,) -> 0 | AQ142: =IF(AND(AO142>56.5,AO142<57.5),AO142,) -> 0 | AR142: =IF(AP142>0,AP142-3,IF(AQ142>0,AQ142-4,AO142-2)) -> 33
A143: ='N207 50km'!A142 -> Z29_B | B143: ='N207 50km'!B142 -> Zuidkade 29 | C143: ='N207 50km'!C142 -> 4.5 | D143: ='N207'!D142 -> 57.9 | E143: =IF('N207 50km'!D142="--",6,'N207 50km'!D142) -> 57.9 | F143: =IF(MOD(E143,1)=0.5,INT(E143)+MOD(INT(E143),2),ROUND(E143,0)) -> 58 | G143: =F143-5 -> 53 | H143: =IF('N207 80km'!D142="--",6,'N207 80km'!D142) -> 36.6 | I143: =IF(MOD(H143,1)=0.5,INT(H143)+MOD(INT(H143),2),ROUND(H143,0)) -> 37 | J143: {=_xlfn.IFS(I143=56,53,I143=57,53,OR(I143>57,I143<56),I143-2)} -> 35 | K143: =10*LOG(10^(G143/10)+(10^(J143/10))) -> 53.068291 | L143: =IF(MOD(K143,1)=0.5,INT(K143)+MOD(INT(K143),2),ROUND(K143,0)) -> 53 | M143: =IF('Brugweg 30km'!D142="--",6,'Brugweg 30km'!D142) -> 27.9 | N143: =IF(MOD(M143,1)=0.5,INT(M143)+MOD(INT(M143),2),ROUND(M143,0)) -> 28 | O143: =N143-5 -> 23 | P143: =IF('Hefbrug (50 km uur)'!D142="--",6,'Hefbrug (50 km uur)'!D142) -> 32.7 | Q143: =IF(MOD(P143,1)=0.5,INT(P143)+MOD(INT(P143),2),ROUND(P143,0)) -> 33 | R143: =Q143-5 -> 28 | S143: ='Kerkweg oost 50 km'!D142 -> 2.2 | T143: =IF(MOD(S143,1)=0.5,INT(S143)+MOD(INT(S143),2),ROUND(S143,0)) -> 2 | U143: =T143-5 -> -3 | V143: ='N454 Kanaaldijk 50 km'!D142 -> 21.6 | W143: =IF(MOD(V143,1)=0.5,INT(V143)+MOD(INT(V143),2),ROUND(V143,0)) -> 22 | X143: =W143-5 -> 17 | Y143: ='N454 Kanaaldijk 80 km'!D142 -> 17.1 | Z143: =IF(MOD(Y143,1)=0.5,INT(Y143)+MOD(INT(Y143),2),ROUND(Y143,0)) -> 17 | AA143: =IF(AND(Z143>55.49,Z143<56.51),Z143,) -> 0 | AB143: =IF(AND(Z143>56.5,Z143<57.5),Z143,) -> 0 | AC143: =IF(AA143>0,AA143-3,IF(AB143>0,AB143-4,Z143-2)) -> 15 | AD143: ='N451 80 km'!D142 -> 19.6 | AE143: =IF(MOD(AD143,1)=0.5,INT(AD143)+MOD(INT(AD143),2),ROUND(AD143,0)) -> 20 | AF143: =IF(AND(AE143>55.49,AE143<56.51),AE143,) -> 0 | AG143: =IF(AND(AE143>56.5,AE143<57.5),AE143,) -> 0 | AH143: =IF(AF143>0,AF143-3,IF(AG143>0,AG143-4,AE143-2)) -> 18 | AI143: =IF('A12'!D142="--",6,'A12'!D142) -> 38 | AJ143: =IF(MOD(AI143,1)=0.5,INT(AI143)+MOD(INT(AI143),2),ROUND(AI143,0)) -> 38 | AK143: =IF(AND(AJ143>55.49,AJ143<56.51),AJ143,) -> 0 | AL143: =IF(AND(AJ143>56.5,AJ143<57.5),AJ143,) -> 0 | AM143: =IF(AK143>0,AK143-3,IF(AL143>0,AL143-4,AJ143-2)) -> 36 | AN143: ='A20'!D142 -> 33.9 | AO143: =IF(MOD(AN143,1)=0.5,INT(AN143)+MOD(INT(AN143),2),ROUND(AN143,0)) -> 34 | AP143: =IF(AND(AO143>55.49,AO143<56.51),AO143,) -> 0 | AQ143: =IF(AND(AO143>56.5,AO143<57.5),AO143,) -> 0 | AR143: =IF(AP143>0,AP143-3,IF(AQ143>0,AQ143-4,AO143-2)) -> 32
A144: ='N207 50km'!A143 -> Z29_A | B144: ='N207 50km'!B143 -> Zuidkade 29 | C144: ='N207 50km'!C143 -> 1.5 | D144: ='N207'!D143 -> 56.8 | E144: =IF('N207 50km'!D143="--",6,'N207 50km'!D143) -> 56.8 | F144: =IF(MOD(E144,1)=0.5,INT(E144)+MOD(INT(E144),2),ROUND(E144,0)) -> 57 | G144: =F144-5 -> 52 | H144: =IF('N207 80km'!D143="--",6,'N207 80km'!D143) -> 35.8 | I144: =IF(MOD(H144,1)=0.5,INT(H144)+MOD(INT(H144),2),ROUND(H144,0)) -> 36 | J144: {=_xlfn.IFS(I144=56,53,I144=57,53,OR(I144>57,I144<56),I144-2)} -> 34 | K144: =10*LOG(10^(G144/10)+(10^(J144/10))) -> 52.068291 | L144: =IF(MOD(K144,1)=0.5,INT(K144)+MOD(INT(K144),2),ROUND(K144,0)) -> 52 | M144: =IF('Brugweg 30km'!D143="--",6,'Brugweg 30km'!D143) -> 27.9 | N144: =IF(MOD(M144,1)=0.5,INT(M144)+MOD(INT(M144),2),ROUND(M144,0)) -> 28 | O144: =N144-5 -> 23 | P144: =IF('Hefbrug (50 km uur)'!D143="--",6,'Hefbrug (50 km uur)'!D143) -> 32.9 | Q144: =IF(MOD(P144,1)=0.5,INT(P144)+MOD(INT(P144),2),ROUND(P144,0)) -> 33 | R144: =Q144-5 -> 28 | S144: ='Kerkweg oost 50 km'!D143 -> 1.1 | T144: =IF(MOD(S144,1)=0.5,INT(S144)+MOD(INT(S144),2),ROUND(S144,0)) -> 1 | U144: =T144-5 -> -4 | V144: ='N454 Kanaaldijk 50 km'!D143 -> 20.4 | W144: =IF(MOD(V144,1)=0.5,INT(V144)+MOD(INT(V144),2),ROUND(V144,0)) -> 20 | X144: =W144-5 -> 15 | Y144: ='N454 Kanaaldijk 80 km'!D143 -> 16.4 | Z144: =IF(MOD(Y144,1)=0.5,INT(Y144)+MOD(INT(Y144),2),ROUND(Y144,0)) -> 16 | AA144: =IF(AND(Z144>55.49,Z144<56.51),Z144,) -> 0 | AB144: =IF(AND(Z144>56.5,Z144<57.5),Z144,) -> 0 | AC144: =IF(AA144>0,AA144-3,IF(AB144>0,AB144-4,Z144-2)) -> 14 | AD144: ='N451 80 km'!D143 -> 18.5 | AE144: =IF(MOD(AD144,1)=0.5,INT(AD144)+MOD(INT(AD144),2),ROUND(AD144,0)) -> 18 | AF144: =IF(AND(AE144>55.49,AE144<56.51),AE144,) -> 0 | AG144: =IF(AND(AE144>56.5,AE144<57.5),AE144,) -> 0 | AH144: =IF(AF144>0,AF144-3,IF(AG144>0,AG144-4,AE144-2)) -> 16 | AI144: =IF('A12'!D143="--",6,'A12'!D143) -> 37.1 | AJ144: =IF(MOD(AI144,1)=0.5,INT(AI144)+MOD(INT(AI144),2),ROUND(AI144,0)) -> 37 | AK144: =IF(AND(AJ144>55.49,AJ144<56.51),AJ144,) -> 0 | AL144: =IF(AND(AJ144>56.5,AJ144<57.5),AJ144,) -> 0 | AM144: =IF(AK144>0,AK144-3,IF(AL144>0,AL144-4,AJ144-2)) -> 35 | AN144: ='A20'!D143 -> 33 | AO144: =IF(MOD(AN144,1)=0.5,INT(AN144)+MOD(INT(AN144),2),ROUND(AN144,0)) -> 33 | AP144: =IF(AND(AO144>55.49,AO144<56.51),AO144,) -> 0 | AQ144: =IF(AND(AO144>56.5,AO144<57.5),AO144,) -> 0 | AR144: =IF(AP144>0,AP144-3,IF(AQ144>0,AQ144-4,AO144-2)) -> 31
A145: ='N207 50km'!A144 -> Z28_C | B145: ='N207 50km'!B144 -> Zuidkade 28 | C145: ='N207 50km'!C144 -> 7.5 | D145: ='N207'!D144 -> 58.6 | E145: =IF('N207 50km'!D144="--",6,'N207 50km'!D144) -> 58.6 | F145: =IF(MOD(E145,1)=0.5,INT(E145)+MOD(INT(E145),2),ROUND(E145,0)) -> 59 | G145: =F145-5 -> 54 | H145: =IF('N207 80km'!D144="--",6,'N207 80km'!D144) -> 37.3 | I145: =IF(MOD(H145,1)=0.5,INT(H145)+MOD(INT(H145),2),ROUND(H145,0)) -> 37 | J145: {=_xlfn.IFS(I145=56,53,I145=57,53,OR(I145>57,I145<56),I145-2)} -> 35 | K145: =10*LOG(10^(G145/10)+(10^(J145/10))) -> 54.054333 | L145: =IF(MOD(K145,1)=0.5,INT(K145)+MOD(INT(K145),2),ROUND(K145,0)) -> 54 | M145: =IF('Brugweg 30km'!D144="--",6,'Brugweg 30km'!D144) -> 27.7 | N145: =IF(MOD(M145,1)=0.5,INT(M145)+MOD(INT(M145),2),ROUND(M145,0)) -> 28 | O145: =N145-5 -> 23 | P145: =IF('Hefbrug (50 km uur)'!D144="--",6,'Hefbrug (50 km uur)'!D144) -> 30.5 | Q145: =IF(MOD(P145,1)=0.5,INT(P145)+MOD(INT(P145),2),ROUND(P145,0)) -> 30 | R145: =Q145-5 -> 25 | S145: ='Kerkweg oost 50 km'!D144 -> -- | T145: nvt | U145: nvt | V145: ='N454 Kanaaldijk 50 km'!D144 -> 21.8 | W145: =IF(MOD(V145,1)=0.5,INT(V145)+MOD(INT(V145),2),ROUND(V145,0)) -> 22 | X145: =W145-5 -> 17 | Y145: ='N454 Kanaaldijk 80 km'!D144 -> 17.2 | Z145: =IF(MOD(Y145,1)=0.5,INT(Y145)+MOD(INT(Y145),2),ROUND(Y145,0)) -> 17 | AA145: =IF(AND(Z145>55.49,Z145<56.51),Z145,) -> 0 | AB145: =IF(AND(Z145>56.5,Z145<57.5),Z145,) -> 0 | AC145: =IF(AA145>0,AA145-3,IF(AB145>0,AB145-4,Z145-2)) -> 15 | AD145: ='N451 80 km'!D144 -> 20.8 | AE145: =IF(MOD(AD145,1)=0.5,INT(AD145)+MOD(INT(AD145),2),ROUND(AD145,0)) -> 21 | AF145: =IF(AND(AE145>55.49,AE145<56.51),AE145,) -> 0 | AG145: =IF(AND(AE145>56.5,AE145<57.5),AE145,) -> 0 | AH145: =IF(AF145>0,AF145-3,IF(AG145>0,AG145-4,AE145-2)) -> 19 | AI145: =IF('A12'!D144="--",6,'A12'!D144) -> 39.4 | AJ145: =IF(MOD(AI145,1)=0.5,INT(AI145)+MOD(INT(AI145),2),ROUND(AI145,0)) -> 39 | AK145: =IF(AND(AJ145>55.49,AJ145<56.51),AJ145,) -> 0 | AL145: =IF(AND(AJ145>56.5,AJ145<57.5),AJ145,) -> 0 | AM145: =IF(AK145>0,AK145-3,IF(AL145>0,AL145-4,AJ145-2)) -> 37 | AN145: ='A20'!D144 -> 35.1 | AO145: =IF(MOD(AN145,1)=0.5,INT(AN145)+MOD(INT(AN145),2),ROUND(AN145,0)) -> 35 | AP145: =IF(AND(AO145>55.49,AO145<56.51),AO145,) -> 0 | AQ145: =IF(AND(AO145>56.5,AO145<57.5),AO145,) -> 0 | AR145: =IF(AP145>0,AP145-3,IF(AQ145>0,AQ145-4,AO145-2)) -> 33
A146: ='N207 50km'!A145 -> Z28_B | B146: ='N207 50km'!B145 -> Zuidkade 28 | C146: ='N207 50km'!C145 -> 4.5 | D146: ='N207'!D145 -> 57.8 | E146: =IF('N207 50km'!D145="--",6,'N207 50km'!D145) -> 57.8 | F146: =IF(MOD(E146,1)=0.5,INT(E146)+MOD(INT(E146),2),ROUND(E146,0)) -> 58 | G146: =F146-5 -> 53 | H146: =IF('N207 80km'!D145="--",6,'N207 80km'!D145) -> 36.8 | I146: =IF(MOD(H146,1)=0.5,INT(H146)+MOD(INT(H146),2),ROUND(H146,0)) -> 37 | J146: {=_xlfn.IFS(I146=56,53,I146=57,53,OR(I146>57,I146<56),I146-2)} -> 35 | K146: =10*LOG(10^(G146/10)+(10^(J146/10))) -> 53.068291 | L146: =IF(MOD(K146,1)=0.5,INT(K146)+MOD(INT(K146),2),ROUND(K146,0)) -> 53 | M146: =IF('Brugweg 30km'!D145="--",6,'Brugweg 30km'!D145) -> 27.8 | N146: =IF(MOD(M146,1)=0.5,INT(M146)+MOD(INT(M146),2),ROUND(M146,0)) -> 28 | O146: =N146-5 -> 23 | P146: =IF('Hefbrug (50 km uur)'!D145="--",6,'Hefbrug (50 km uur)'!D145) -> 26.9 | Q146: =IF(MOD(P146,1)=0.5,INT(P146)+MOD(INT(P146),2),ROUND(P146,0)) -> 27 | R146: =Q146-5 -> 22 | S146: ='Kerkweg oost 50 km'!D145 -> -3.3 | T146: =IF(MOD(S146,1)=0.5,INT(S146)+MOD(INT(S146),2),ROUND(S146,0)) -> -3 | U146: =T146-5 -> -8 | V146: ='N454 Kanaaldijk 50 km'!D145 -> 22.1 | W146: =IF(MOD(V146,1)=0.5,INT(V146)+MOD(INT(V146),2),ROUND(V146,0)) -> 22 | X146: =W146-5 -> 17 | Y146: ='N454 Kanaaldijk 80 km'!D145 -> 17 | Z146: =IF(MOD(Y146,1)=0.5,INT(Y146)+MOD(INT(Y146),2),ROUND(Y146,0)) -> 17 | AA146: =IF(AND(Z146>55.49,Z146<56.51),Z146,) -> 0 | AB146: =IF(AND(Z146>56.5,Z146<57.5),Z146,) -> 0 | AC146: =IF(AA146>0,AA146-3,IF(AB146>0,AB146-4,Z146-2)) -> 15 | AD146: ='N451 80 km'!D145 -> 19.2 | AE146: =IF(MOD(AD146,1)=0.5,INT(AD146)+MOD(INT(AD146),2),ROUND(AD146,0)) -> 19 | AF146: =IF(AND(AE146>55.49,AE146<56.51),AE146,) -> 0 | AG146: =IF(AND(AE146>56.5,AE146<57.5),AE146,) -> 0 | AH146: =IF(AF146>0,AF146-3,IF(AG146>0,AG146-4,AE146-2)) -> 17 | AI146: =IF('A12'!D145="--",6,'A12'!D145) -> 38.5 | AJ146: =IF(MOD(AI146,1)=0.5,INT(AI146)+MOD(INT(AI146),2),ROUND(AI146,0)) -> 38 | AK146: =IF(AND(AJ146>55.49,AJ146<56.51),AJ146,) -> 0 | AL146: =IF(AND(AJ146>56.5,AJ146<57.5),AJ146,) -> 0 | AM146: =IF(AK146>0,AK146-3,IF(AL146>0,AL146-4,AJ146-2)) -> 36 | AN146: ='A20'!D145 -> 34.1 | AO146: =IF(MOD(AN146,1)=0.5,INT(AN146)+MOD(INT(AN146),2),ROUND(AN146,0)) -> 34 | AP146: =IF(AND(AO146>55.49,AO146<56.51),AO146,) -> 0 | AQ146: =IF(AND(AO146>56.5,AO146<57.5),AO146,) -> 0 | AR146: =IF(AP146>0,AP146-3,IF(AQ146>0,AQ146-4,AO146-2)) -> 32
A147: ='N207 50km'!A146 -> Z28_A | B147: ='N207 50km'!B146 -> Zuidkade 28 | C147: ='N207 50km'!C146 -> 1.5 | D147: ='N207'!D146 -> 56.7 | E147: =IF('N207 50km'!D146="--",6,'N207 50km'!D146) -> 56.7 | F147: =IF(MOD(E147,1)=0.5,INT(E147)+MOD(INT(E147),2),ROUND(E147,0)) -> 57 | G147: =F147-5 -> 52 | H147: =IF('N207 80km'!D146="--",6,'N207 80km'!D146) -> 36 | I147: =IF(MOD(H147,1)=0.5,INT(H147)+MOD(INT(H147),2),ROUND(H147,0)) -> 36 | J147: {=_xlfn.IFS(I147=56,53,I147=57,53,OR(I147>57,I147<56),I147-2)} -> 34 | K147: =10*LOG(10^(G147/10)+(10^(J147/10))) -> 52.068291 | L147: =IF(MOD(K147,1)=0.5,INT(K147)+MOD(INT(K147),2),ROUND(K147,0)) -> 52 | M147: =IF('Brugweg 30km'!D146="--",6,'Brugweg 30km'!D146) -> 27.8 | N147: =IF(MOD(M147,1)=0.5,INT(M147)+MOD(INT(M147),2),ROUND(M147,0)) -> 28 | O147: =N147-5 -> 23 | P147: =IF('Hefbrug (50 km uur)'!D146="--",6,'Hefbrug (50 km uur)'!D146) -> 22.5 | Q147: =IF(MOD(P147,1)=0.5,INT(P147)+MOD(INT(P147),2),ROUND(P147,0)) -> 22 | R147: =Q147-5 -> 17 | S147: ='Kerkweg oost 50 km'!D146 -> -3.9 | T147: =IF(MOD(S147,1)=0.5,INT(S147)+MOD(INT(S147),2),ROUND(S147,0)) -> -4 | U147: =T147-5 -> -9 | V147: ='N454 Kanaaldijk 50 km'!D146 -> 21 | W147: =IF(MOD(V147,1)=0.5,INT(V147)+MOD(INT(V147),2),ROUND(V147,0)) -> 21 | X147: =W147-5 -> 16 | Y147: ='N454 Kanaaldijk 80 km'!D146 -> 16.3 | Z147: =IF(MOD(Y147,1)=0.5,INT(Y147)+MOD(INT(Y147),2),ROUND(Y147,0)) -> 16 | AA147: =IF(AND(Z147>55.49,Z147<56.51),Z147,) -> 0 | AB147: =IF(AND(Z147>56.5,Z147<57.5),Z147,) -> 0 | AC147: =IF(AA147>0,AA147-3,IF(AB147>0,AB147-4,Z147-2)) -> 14 | AD147: ='N451 80 km'!D146 -> 17.8 | AE147: =IF(MOD(AD147,1)=0.5,INT(AD147)+MOD(INT(AD147),2),ROUND(AD147,0)) -> 18 | AF147: =IF(AND(AE147>55.49,AE147<56.51),AE147,) -> 0 | AG147: =IF(AND(AE147>56.5,AE147<57.5),AE147,) -> 0 | AH147: =IF(AF147>0,AF147-3,IF(AG147>0,AG147-4,AE147-2)) -> 16 | AI147: =IF('A12'!D146="--",6,'A12'!D146) -> 37.5 | AJ147: =IF(MOD(AI147,1)=0.5,INT(AI147)+MOD(INT(AI147),2),ROUND(AI147,0)) -> 38 | AK147: =IF(AND(AJ147>55.49,AJ147<56.51),AJ147,) -> 0 | AL147: =IF(AND(AJ147>56.5,AJ147<57.5),AJ147,) -> 0 | AM147: =IF(AK147>0,AK147-3,IF(AL147>0,AL147-4,AJ147-2)) -> 36 | AN147: ='A20'!D146 -> 33 | AO147: =IF(MOD(AN147,1)=0.5,INT(AN147)+MOD(INT(AN147),2),ROUND(AN147,0)) -> 33 | AP147: =IF(AND(AO147>55.49,AO147<56.51),AO147,) -> 0 | AQ147: =IF(AND(AO147>56.5,AO147<57.5),AO147,) -> 0 | AR147: =IF(AP147>0,AP147-3,IF(AQ147>0,AQ147-4,AO147-2)) -> 31
A148: ='N207 50km'!A147 -> Z231_B | B148: ='N207 50km'!B147 -> Zuidkade 231 | C148: ='N207 50km'!C147 -> 4.5 | D148: ='N207'!D147 -> 57.3 | E148: =IF('N207 50km'!D147="--",6,'N207 50km'!D147) -> 29.9 | F148: =IF(MOD(E148,1)=0.5,INT(E148)+MOD(INT(E148),2),ROUND(E148,0)) -> 30 | G148: =F148-5 -> 25 | H148: =IF('N207 80km'!D147="--",6,'N207 80km'!D147) -> 57.3 | I148: =IF(MOD(H148,1)=0.5,INT(H148)+MOD(INT(H148),2),ROUND(H148,0)) -> 57 | J148: {=_xlfn.IFS(I148=56,53,I148=57,53,OR(I148>57,I148<56),I148-2)} -> 53 | K148: =10*LOG(10^(G148/10)+(10^(J148/10))) -> 53.006878 | L148: =IF(MOD(K148,1)=0.5,INT(K148)+MOD(INT(K148),2),ROUND(K148,0)) -> 53 | M148: =IF('Brugweg 30km'!D147="--",6,'Brugweg 30km'!D147) -> 12.3 | N148: =IF(MOD(M148,1)=0.5,INT(M148)+MOD(INT(M148),2),ROUND(M148,0)) -> 12 | O148: =N148-5 -> 7 | P148: =IF('Hefbrug (50 km uur)'!D147="--",6,'Hefbrug (50 km uur)'!D147) -> 5.8 | Q148: =IF(MOD(P148,1)=0.5,INT(P148)+MOD(INT(P148),2),ROUND(P148,0)) -> 6 | R148: =Q148-5 -> 1 | S148: ='Kerkweg oost 50 km'!D147 -> 11.3 | T148: =IF(MOD(S148,1)=0.5,INT(S148)+MOD(INT(S148),2),ROUND(S148,0)) -> 11 | U148: =T148-5 -> 6 | V148: ='N454 Kanaaldijk 50 km'!D147 -> 32.7 | W148: =IF(MOD(V148,1)=0.5,INT(V148)+MOD(INT(V148),2),ROUND(V148,0)) -> 33 | X148: =W148-5 -> 28 | Y148: ='N454 Kanaaldijk 80 km'!D147 -> 32.9 | Z148: =IF(MOD(Y148,1)=0.5,INT(Y148)+MOD(INT(Y148),2),ROUND(Y148,0)) -> 33 | AA148: =IF(AND(Z148>55.49,Z148<56.51),Z148,) -> 0 | AB148: =IF(AND(Z148>56.5,Z148<57.5),Z148,) -> 0 | AC148: =IF(AA148>0,AA148-3,IF(AB148>0,AB148-4,Z148-2)) -> 31 | AD148: ='N451 80 km'!D147 -> 36.1 | AE148: =IF(MOD(AD148,1)=0.5,INT(AD148)+MOD(INT(AD148),2),ROUND(AD148,0)) -> 36 | AF148: =IF(AND(AE148>55.49,AE148<56.51),AE148,) -> 0 | AG148: =IF(AND(AE148>56.5,AE148<57.5),AE148,) -> 0 | AH148: =IF(AF148>0,AF148-3,IF(AG148>0,AG148-4,AE148-2)) -> 34 | AI148: =IF('A12'!D147="--",6,'A12'!D147) -> 50.9 | AJ148: =IF(MOD(AI148,1)=0.5,INT(AI148)+MOD(INT(AI148),2),ROUND(AI148,0)) -> 51 | AK148: =IF(AND(AJ148>55.49,AJ148<56.51),AJ148,) -> 0 | AL148: =IF(AND(AJ148>56.5,AJ148<57.5),AJ148,) -> 0 | AM148: =IF(AK148>0,AK148-3,IF(AL148>0,AL148-4,AJ148-2)) -> 49 | AN148: ='A20'!D147 -> 45 | AO148: =IF(MOD(AN148,1)=0.5,INT(AN148)+MOD(INT(AN148),2),ROUND(AN148,0)) -> 45 | AP148: =IF(AND(AO148>55.49,AO148<56.51),AO148,) -> 0 | AQ148: =IF(AND(AO148>56.5,AO148<57.5),AO148,) -> 0 | AR148: =IF(AP148>0,AP148-3,IF(AQ148>0,AQ148-4,AO148-2)) -> 43 | AS148: =10*LOG(10^(H148/10)+(10^(AI148/10))) -> 58.195825 | AT148: =IF(MOD(AS148,1)=0.5,INT(AS148)+MOD(INT(AS148),2),ROUND(AS148,0)) -> 58 | AU148: 1 | AV148: =AT148-L148 -> 5
A149: ='N207 50km'!A148 -> Z231_A | B149: ='N207 50km'!B148 -> Zuidkade 231 | C149: ='N207 50km'!C148 -> 1.5 | D149: ='N207'!D148 -> 56.2 | E149: =IF('N207 50km'!D148="--",6,'N207 50km'!D148) -> 28 | F149: =IF(MOD(E149,1)=0.5,INT(E149)+MOD(INT(E149),2),ROUND(E149,0)) -> 28 | G149: =F149-5 -> 23 | H149: =IF('N207 80km'!D148="--",6,'N207 80km'!D148) -> 56.2 | I149: =IF(MOD(H149,1)=0.5,INT(H149)+MOD(INT(H149),2),ROUND(H149,0)) -> 56 | J149: {=_xlfn.IFS(I149=56,53,I149=57,53,OR(I149>57,I149<56),I149-2)} -> 53 | K149: =10*LOG(10^(G149/10)+(10^(J149/10))) -> 53.004341 | L149: =IF(MOD(K149,1)=0.5,INT(K149)+MOD(INT(K149),2),ROUND(K149,0)) -> 53 | M149: =IF('Brugweg 30km'!D148="--",6,'Brugweg 30km'!D148) -> 11.7 | N149: =IF(MOD(M149,1)=0.5,INT(M149)+MOD(INT(M149),2),ROUND(M149,0)) -> 12 | O149: =N149-5 -> 7 | P149: =IF('Hefbrug (50 km uur)'!D148="--",6,'Hefbrug (50 km uur)'!D148) -> 5.5 | Q149: =IF(MOD(P149,1)=0.5,INT(P149)+MOD(INT(P149),2),ROUND(P149,0)) -> 6 | R149: =Q149-5 -> 1 | S149: ='Kerkweg oost 50 km'!D148 -> 10.6 | T149: =IF(MOD(S149,1)=0.5,INT(S149)+MOD(INT(S149),2),ROUND(S149,0)) -> 11 | U149: =T149-5 -> 6 | V149: ='N454 Kanaaldijk 50 km'!D148 -> 32.9 | W149: =IF(MOD(V149,1)=0.5,INT(V149)+MOD(INT(V149),2),ROUND(V149,0)) -> 33 | X149: =W149-5 -> 28 | Y149: ='N454 Kanaaldijk 80 km'!D148 -> 32.2 | Z149: =IF(MOD(Y149,1)=0.5,INT(Y149)+MOD(INT(Y149),2),ROUND(Y149,0)) -> 32 | AA149: =IF(AND(Z149>55.49,Z149<56.51),Z149,) -> 0 | AB149: =IF(AND(Z149>56.5,Z149<57.5),Z149,) -> 0 | AC149: =IF(AA149>0,AA149-3,IF(AB149>0,AB149-4,Z149-2)) -> 30 | AD149: ='N451 80 km'!D148 -> 35.5 | AE149: =IF(MOD(AD149,1)=0.5,INT(AD149)+MOD(INT(AD149),2),ROUND(AD149,0)) -> 36 | AF149: =IF(AND(AE149>55.49,AE149<56.51),AE149,) -> 0 | AG149: =IF(AND(AE149>56.5,AE149<57.5),AE149,) -> 0 | AH149: =IF(AF149>0,AF149-3,IF(AG149>0,AG149-4,AE149-2)) -> 34 | AI149: =IF('A12'!D148="--",6,'A12'!D148) -> 49.3 | AJ149: =IF(MOD(AI149,1)=0.5,INT(AI149)+MOD(INT(AI149),2),ROUND(AI149,0)) -> 49 | AK149: =IF(AND(AJ149>55.49,AJ149<56.51),AJ149,) -> 0 | AL149: =IF(AND(AJ149>56.5,AJ149<57.5),AJ149,) -> 0 | AM149: =IF(AK149>0,AK149-3,IF(AL149>0,AL149-4,AJ149-2)) -> 47 | AN149: ='A20'!D148 -> 43.4 | AO149: =IF(MOD(AN149,1)=0.5,INT(AN149)+MOD(INT(AN149),2),ROUND(AN149,0)) -> 43 | AP149: =IF(AND(AO149>55.49,AO149<56.51),AO149,) -> 0 | AQ149: =IF(AND(AO149>56.5,AO149<57.5),AO149,) -> 0 | AR149: =IF(AP149>0,AP149-3,IF(AQ149>0,AQ149-4,AO149-2)) -> 41
A150: ='N207 50km'!A149 -> Z22_B | B150: ='N207 50km'!B149 -> Zuidkade 22 | C150: ='N207 50km'!C149 -> 4.5 | D150: ='N207'!D149 -> 58.7 | E150: =IF('N207 50km'!D149="--",6,'N207 50km'!D149) -> 58.7 | F150: =IF(MOD(E150,1)=0.5,INT(E150)+MOD(INT(E150),2),ROUND(E150,0)) -> 59 | G150: =F150-5 -> 54 | H150: =IF('N207 80km'!D149="--",6,'N207 80km'!D149) -> 38.5 | I150: =IF(MOD(H150,1)=0.5,INT(H150)+MOD(INT(H150),2),ROUND(H150,0)) -> 38 | J150: {=_xlfn.IFS(I150=56,53,I150=57,53,OR(I150>57,I150<56),I150-2)} -> 36 | K150: =10*LOG(10^(G150/10)+(10^(J150/10))) -> 54.068291 | L150: =IF(MOD(K150,1)=0.5,INT(K150)+MOD(INT(K150),2),ROUND(K150,0)) -> 54 | M150: =IF('Brugweg 30km'!D149="--",6,'Brugweg 30km'!D149) -> 26.7 | N150: =IF(MOD(M150,1)=0.5,INT(M150)+MOD(INT(M150),2),ROUND(M150,0)) -> 27 | O150: =N150-5 -> 22 | P150: =IF('Hefbrug (50 km uur)'!D149="--",6,'Hefbrug (50 km uur)'!D149) -> 25.6 | Q150: =IF(MOD(P150,1)=0.5,INT(P150)+MOD(INT(P150),2),ROUND(P150,0)) -> 26 | R150: =Q150-5 -> 21 | S150: ='Kerkweg oost 50 km'!D149 -> 6 | T150: =IF(MOD(S150,1)=0.5,INT(S150)+MOD(INT(S150),2),ROUND(S150,0)) -> 6 | U150: =T150-5 -> 1 | V150: ='N454 Kanaaldijk 50 km'!D149 -> 22.3 | W150: =IF(MOD(V150,1)=0.5,INT(V150)+MOD(INT(V150),2),ROUND(V150,0)) -> 22 | X150: =W150-5 -> 17 | Y150: ='N454 Kanaaldijk 80 km'!D149 -> 18.7 | Z150: =IF(MOD(Y150,1)=0.5,INT(Y150)+MOD(INT(Y150),2),ROUND(Y150,0)) -> 19 | AA150: =IF(AND(Z150>55.49,Z150<56.51),Z150,) -> 0 | AB150: =IF(AND(Z150>56.5,Z150<57.5),Z150,) -> 0 | AC150: =IF(AA150>0,AA150-3,IF(AB150>0,AB150-4,Z150-2)) -> 17 | AD150: ='N451 80 km'!D149 -> 19.1 | AE150: =IF(MOD(AD150,1)=0.5,INT(AD150)+MOD(INT(AD150),2),ROUND(AD150,0)) -> 19 | AF150: =IF(AND(AE150>55.49,AE150<56.51),AE150,) -> 0 | AG150: =IF(AND(AE150>56.5,AE150<57.5),AE150,) -> 0 | AH150: =IF(AF150>0,AF150-3,IF(AG150>0,AG150-4,AE150-2)) -> 17 | AI150: =IF('A12'!D149="--",6,'A12'!D149) -> 39.9 | AJ150: =IF(MOD(AI150,1)=0.5,INT(AI150)+MOD(INT(AI150),2),ROUND(AI150,0)) -> 40 | AK150: =IF(AND(AJ150>55.49,AJ150<56.51),AJ150,) -> 0 | AL150: =IF(AND(AJ150>56.5,AJ150<57.5),AJ150,) -> 0 | AM150: =IF(AK150>0,AK150-3,IF(AL150>0,AL150-4,AJ150-2)) -> 38 | AN150: ='A20'!D149 -> 35.8 | AO150: =IF(MOD(AN150,1)=0.5,INT(AN150)+MOD(INT(AN150),2),ROUND(AN150,0)) -> 36 | AP150: =IF(AND(AO150>55.49,AO150<56.51),AO150,) -> 0 | AQ150: =IF(AND(AO150>56.5,AO150<57.5),AO150,) -> 0 | AR150: =IF(AP150>0,AP150-3,IF(AQ150>0,AQ150-4,AO150-2)) -> 34
A151: ='N207 50km'!A150 -> Z22_A | B151: ='N207 50km'!B150 -> Zuidkade 22 | C151: ='N207 50km'!C150 -> 1.5 | D151: ='N207'!D150 -> 57.4 | E151: =IF('N207 50km'!D150="--",6,'N207 50km'!D150) -> 57.4 | F151: =IF(MOD(E151,1)=0.5,INT(E151)+MOD(INT(E151),2),ROUND(E151,0)) -> 57 | G151: =F151-5 -> 52 | H151: =IF('N207 80km'!D150="--",6,'N207 80km'!D150) -> 38 | I151: =IF(MOD(H151,1)=0.5,INT(H151)+MOD(INT(H151),2),ROUND(H151,0)) -> 38 | J151: {=_xlfn.IFS(I151=56,53,I151=57,53,OR(I151>57,I151<56),I151-2)} -> 36 | K151: =10*LOG(10^(G151/10)+(10^(J151/10))) -> 52.107742 | L151: =IF(MOD(K151,1)=0.5,INT(K151)+MOD(INT(K151),2),ROUND(K151,0)) -> 52 | M151: =IF('Brugweg 30km'!D150="--",6,'Brugweg 30km'!D150) -> 24.9 | N151: =IF(MOD(M151,1)=0.5,INT(M151)+MOD(INT(M151),2),ROUND(M151,0)) -> 25 | O151: =N151-5 -> 20 | P151: =IF('Hefbrug (50 km uur)'!D150="--",6,'Hefbrug (50 km uur)'!D150) -> 20.5 | Q151: =IF(MOD(P151,1)=0.5,INT(P151)+MOD(INT(P151),2),ROUND(P151,0)) -> 20 | R151: =Q151-5 -> 15 | S151: ='Kerkweg oost 50 km'!D150 -> 5.8 | T151: =IF(MOD(S151,1)=0.5,INT(S151)+MOD(INT(S151),2),ROUND(S151,0)) -> 6 | U151: =T151-5 -> 1 | V151: ='N454 Kanaaldijk 50 km'!D150 -> 22.7 | W151: =IF(MOD(V151,1)=0.5,INT(V151)+MOD(INT(V151),2),ROUND(V151,0)) -> 23 | X151: =W151-5 -> 18 | Y151: ='N454 Kanaaldijk 80 km'!D150 -> 18.2 | Z151: =IF(MOD(Y151,1)=0.5,INT(Y151)+MOD(INT(Y151),2),ROUND(Y151,0)) -> 18 | AA151: =IF(AND(Z151>55.49,Z151<56.51),Z151,) -> 0 | AB151: =IF(AND(Z151>56.5,Z151<57.5),Z151,) -> 0 | AC151: =IF(AA151>0,AA151-3,IF(AB151>0,AB151-4,Z151-2)) -> 16 | AD151: ='N451 80 km'!D150 -> 18.1 | AE151: =IF(MOD(AD151,1)=0.5,INT(AD151)+MOD(INT(AD151),2),ROUND(AD151,0)) -> 18 | AF151: =IF(AND(AE151>55.49,AE151<56.51),AE151,) -> 0 | AG151: =IF(AND(AE151>56.5,AE151<57.5),AE151,) -> 0 | AH151: =IF(AF151>0,AF151-3,IF(AG151>0,AG151-4,AE151-2)) -> 16 | AI151: =IF('A12'!D150="--",6,'A12'!D150) -> 39.1 | AJ151: =IF(MOD(AI151,1)=0.5,INT(AI151)+MOD(INT(AI151),2),ROUND(AI151,0)) -> 39 | AK151: =IF(AND(AJ151>55.49,AJ151<56.51),AJ151,) -> 0 | AL151: =IF(AND(AJ151>56.5,AJ151<57.5),AJ151,) -> 0 | AM151: =IF(AK151>0,AK151-3,IF(AL151>0,AL151-4,AJ151-2)) -> 37 | AN151: ='A20'!D150 -> 35.1 | AO151: =IF(MOD(AN151,1)=0.5,INT(AN151)+MOD(INT(AN151),2),ROUND(AN151,0)) -> 35 | AP151: =IF(AND(AO151>55.49,AO151<56.51),AO151,) -> 0 | AQ151: =IF(AND(AO151>56.5,AO151<57.5),AO151,) -> 0 | AR151: =IF(AP151>0,AP151-3,IF(AQ151>0,AQ151-4,AO151-2)) -> 33
A152: ='N207 50km'!A151 -> Z229_B | B152: ='N207 50km'!B151 -> Zuidkade 229 | C152: ='N207 50km'!C151 -> 4.5 | D152: ='N207'!D151 -> 58.3 | E152: =IF('N207 50km'!D151="--",6,'N207 50km'!D151) -> 30.5 | F152: =IF(MOD(E152,1)=0.5,INT(E152)+MOD(INT(E152),2),ROUND(E152,0)) -> 30 | G152: =F152-5 -> 25 | H152: =IF('N207 80km'!D151="--",6,'N207 80km'!D151) -> 58.3 | I152: =IF(MOD(H152,1)=0.5,INT(H152)+MOD(INT(H152),2),ROUND(H152,0)) -> 58 | J152: {=_xlfn.IFS(I152=56,53,I152=57,53,OR(I152>57,I152<56),I152-2)} -> 56 | K152: =10*LOG(10^(G152/10)+(10^(J152/10))) -> 56.003448 | L152: =IF(MOD(K152,1)=0.5,INT(K152)+MOD(INT(K152),2),ROUND(K152,0)) -> 56 | M152: =IF('Brugweg 30km'!D151="--",6,'Brugweg 30km'!D151) -> 12.1 | N152: =IF(MOD(M152,1)=0.5,INT(M152)+MOD(INT(M152),2),ROUND(M152,0)) -> 12 | O152: =N152-5 -> 7 | P152: =IF('Hefbrug (50 km uur)'!D151="--",6,'Hefbrug (50 km uur)'!D151) -> 5.9 | Q152: =IF(MOD(P152,1)=0.5,INT(P152)+MOD(INT(P152),2),ROUND(P152,0)) -> 6 | R152: =Q152-5 -> 1 | S152: ='Kerkweg oost 50 km'!D151 -> 11 | T152: =IF(MOD(S152,1)=0.5,INT(S152)+MOD(INT(S152),2),ROUND(S152,0)) -> 11 | U152: =T152-5 -> 6 | V152: ='N454 Kanaaldijk 50 km'!D151 -> 32.5 | W152: =IF(MOD(V152,1)=0.5,INT(V152)+MOD(INT(V152),2),ROUND(V152,0)) -> 32 | X152: =W152-5 -> 27 | Y152: ='N454 Kanaaldijk 80 km'!D151 -> 32 | Z152: =IF(MOD(Y152,1)=0.5,INT(Y152)+MOD(INT(Y152),2),ROUND(Y152,0)) -> 32 | AA152: =IF(AND(Z152>55.49,Z152<56.51),Z152,) -> 0 | AB152: =IF(AND(Z152>56.5,Z152<57.5),Z152,) -> 0 | AC152: =IF(AA152>0,AA152-3,IF(AB152>0,AB152-4,Z152-2)) -> 30 | AD152: ='N451 80 km'!D151 -> 36.4 | AE152: =IF(MOD(AD152,1)=0.5,INT(AD152)+MOD(INT(AD152),2),ROUND(AD152,0)) -> 36 | AF152: =IF(AND(AE152>55.49,AE152<56.51),AE152,) -> 0 | AG152: =IF(AND(AE152>56.5,AE152<57.5),AE152,) -> 0 | AH152: =IF(AF152>0,AF152-3,IF(AG152>0,AG152-4,AE152-2)) -> 34 | AI152: =IF('A12'!D151="--",6,'A12'!D151) -> 50.8 | AJ152: =IF(MOD(AI152,1)=0.5,INT(AI152)+MOD(INT(AI152),2),ROUND(AI152,0)) -> 51 | AK152: =IF(AND(AJ152>55.49,AJ152<56.51),AJ152,) -> 0 | AL152: =IF(AND(AJ152>56.5,AJ152<57.5),AJ152,) -> 0 | AM152: =IF(AK152>0,AK152-3,IF(AL152>0,AL152-4,AJ152-2)) -> 49 | AN152: ='A20'!D151 -> 45.6 | AO152: =IF(MOD(AN152,1)=0.5,INT(AN152)+MOD(INT(AN152),2),ROUND(AN152,0)) -> 46 | AP152: =IF(AND(AO152>55.49,AO152<56.51),AO152,) -> 0 | AQ152: =IF(AND(AO152>56.5,AO152<57.5),AO152,) -> 0 | AR152: =IF(AP152>0,AP152-3,IF(AQ152>0,AQ152-4,AO152-2)) -> 44 | AS152: =10*LOG(10^(H152/10)+(10^(AI152/10))) -> 59.010819 | AT152: =IF(MOD(AS152,1)=0.5,INT(AS152)+MOD(INT(AS152),2),ROUND(AS152,0)) -> 59 | AU152: 1 | AV152: =AT152-L152 -> 3
A153: ='N207 50km'!A152 -> Z229_A | B153: ='N207 50km'!B152 -> Zuidkade 229 | C153: ='N207 50km'!C152 -> 1.5 | D153: ='N207'!D152 -> 57.1 | E153: =IF('N207 50km'!D152="--",6,'N207 50km'!D152) -> 27.8 | F153: =IF(MOD(E153,1)=0.5,INT(E153)+MOD(INT(E153),2),ROUND(E153,0)) -> 28 | G153: =F153-5 -> 23 | H153: =IF('N207 80km'!D152="--",6,'N207 80km'!D152) -> 57.1 | I153: =IF(MOD(H153,1)=0.5,INT(H153)+MOD(INT(H153),2),ROUND(H153,0)) -> 57 | J153: {=_xlfn.IFS(I153=56,53,I153=57,53,OR(I153>57,I153<56),I153-2)} -> 53 | K153: =10*LOG(10^(G153/10)+(10^(J153/10))) -> 53.004341 | L153: =IF(MOD(K153,1)=0.5,INT(K153)+MOD(INT(K153),2),ROUND(K153,0)) -> 53 | M153: =IF('Brugweg 30km'!D152="--",6,'Brugweg 30km'!D152) -> 11.3 | N153: =IF(MOD(M153,1)=0.5,INT(M153)+MOD(INT(M153),2),ROUND(M153,0)) -> 11 | O153: =N153-5 -> 6 | P153: =IF('Hefbrug (50 km uur)'!D152="--",6,'Hefbrug (50 km uur)'!D152) -> 5.7 | Q153: =IF(MOD(P153,1)=0.5,INT(P153)+MOD(INT(P153),2),ROUND(P153,0)) -> 6 | R153: =Q153-5 -> 1 | S153: ='Kerkweg oost 50 km'!D152 -> 10.6 | T153: =IF(MOD(S153,1)=0.5,INT(S153)+MOD(INT(S153),2),ROUND(S153,0)) -> 11 | U153: =T153-5 -> 6 | V153: ='N454 Kanaaldijk 50 km'!D152 -> 32.9 | W153: =IF(MOD(V153,1)=0.5,INT(V153)+MOD(INT(V153),2),ROUND(V153,0)) -> 33 | X153: =W153-5 -> 28 | Y153: ='N454 Kanaaldijk 80 km'!D152 -> 31.7 | Z153: =IF(MOD(Y153,1)=0.5,INT(Y153)+MOD(INT(Y153),2),ROUND(Y153,0)) -> 32 | AA153: =IF(AND(Z153>55.49,Z153<56.51),Z153,) -> 0 | AB153: =IF(AND(Z153>56.5,Z153<57.5),Z153,) -> 0 | AC153: =IF(AA153>0,AA153-3,IF(AB153>0,AB153-4,Z153-2)) -> 30 | AD153: ='N451 80 km'!D152 -> 36 | AE153: =IF(MOD(AD153,1)=0.5,INT(AD153)+MOD(INT(AD153),2),ROUND(AD153,0)) -> 36 | AF153: =IF(AND(AE153>55.49,AE153<56.51),AE153,) -> 0 | AG153: =IF(AND(AE153>56.5,AE153<57.5),AE153,) -> 0 | AH153: =IF(AF153>0,AF153-3,IF(AG153>0,AG153-4,AE153-2)) -> 34 | AI153: =IF('A12'!D152="--",6,'A12'!D152) -> 49.7 | AJ153: =IF(MOD(AI153,1)=0.5,INT(AI153)+MOD(INT(AI153),2),ROUND(AI153,0)) -> 50 | AK153: =IF(AND(AJ153>55.49,AJ153<56.51),AJ153,) -> 0 | AL153: =IF(AND(AJ153>56.5,AJ153<57.5),AJ153,) -> 0 | AM153: =IF(AK153>0,AK153-3,IF(AL153>0,AL153-4,AJ153-2)) -> 48 | AN153: ='A20'!D152 -> 44.8 | AO153: =IF(MOD(AN153,1)=0.5,INT(AN153)+MOD(INT(AN153),2),ROUND(AN153,0)) -> 45 | AP153: =IF(AND(AO153>55.49,AO153<56.51),AO153,) -> 0 | AQ153: =IF(AND(AO153>56.5,AO153<57.5),AO153,) -> 0 | AR153: =IF(AP153>0,AP153-3,IF(AQ153>0,AQ153-4,AO153-2)) -> 43
A154: ='N207 50km'!A153 -> Z227_B | B154: ='N207 50km'!B153 -> Zuidkade 227 | C154: ='N207 50km'!C153 -> 4.5 | D154: ='N207'!D153 -> 58.4 | E154: =IF('N207 50km'!D153="--",6,'N207 50km'!D153) -> 32.8 | F154: =IF(MOD(E154,1)=0.5,INT(E154)+MOD(INT(E154),2),ROUND(E154,0)) -> 33 | G154: =F154-5 -> 28 | H154: =IF('N207 80km'!D153="--",6,'N207 80km'!D153) -> 58.4 | I154: =IF(MOD(H154,1)=0.5,INT(H154)+MOD(INT(H154),2),ROUND(H154,0)) -> 58 | J154: {=_xlfn.IFS(I154=56,53,I154=57,53,OR(I154>57,I154<56),I154-2)} -> 56 | K154: =10*LOG(10^(G154/10)+(10^(J154/10))) -> 56.006878 | L154: =IF(MOD(K154,1)=0.5,INT(K154)+MOD(INT(K154),2),ROUND(K154,0)) -> 56 | M154: =IF('Brugweg 30km'!D153="--",6,'Brugweg 30km'!D153) -> 11.4 | N154: =IF(MOD(M154,1)=0.5,INT(M154)+MOD(INT(M154),2),ROUND(M154,0)) -> 11 | O154: =N154-5 -> 6 | P154: =IF('Hefbrug (50 km uur)'!D153="--",6,'Hefbrug (50 km uur)'!D153) -> 7.3 | Q154: =IF(MOD(P154,1)=0.5,INT(P154)+MOD(INT(P154),2),ROUND(P154,0)) -> 7 | R154: =Q154-5 -> 2 | S154: ='Kerkweg oost 50 km'!D153 -> 13.8 | T154: =IF(MOD(S154,1)=0.5,INT(S154)+MOD(INT(S154),2),ROUND(S154,0)) -> 14 | U154: =T154-5 -> 9 | V154: ='N454 Kanaaldijk 50 km'!D153 -> 27.4 | W154: =IF(MOD(V154,1)=0.5,INT(V154)+MOD(INT(V154),2),ROUND(V154,0)) -> 27 | X154: =W154-5 -> 22 | Y154: ='N454 Kanaaldijk 80 km'!D153 -> 31.1 | Z154: =IF(MOD(Y154,1)=0.5,INT(Y154)+MOD(INT(Y154),2),ROUND(Y154,0)) -> 31 | AA154: =IF(AND(Z154>55.49,Z154<56.51),Z154,) -> 0 | AB154: =IF(AND(Z154>56.5,Z154<57.5),Z154,) -> 0 | AC154: =IF(AA154>0,AA154-3,IF(AB154>0,AB154-4,Z154-2)) -> 29 | AD154: ='N451 80 km'!D153 -> 35.8 | AE154: =IF(MOD(AD154,1)=0.5,INT(AD154)+MOD(INT(AD154),2),ROUND(AD154,0)) -> 36 | AF154: =IF(AND(AE154>55.49,AE154<56.51),AE154,) -> 0 | AG154: =IF(AND(AE154>56.5,AE154<57.5),AE154,) -> 0 | AH154: =IF(AF154>0,AF154-3,IF(AG154>0,AG154-4,AE154-2)) -> 34 | AI154: =IF('A12'!D153="--",6,'A12'!D153) -> 50.6 | AJ154: =IF(MOD(AI154,1)=0.5,INT(AI154)+MOD(INT(AI154),2),ROUND(AI154,0)) -> 51 | AK154: =IF(AND(AJ154>55.49,AJ154<56.51),AJ154,) -> 0 | AL154: =IF(AND(AJ154>56.5,AJ154<57.5),AJ154,) -> 0 | AM154: =IF(AK154>0,AK154-3,IF(AL154>0,AL154-4,AJ154-2)) -> 49 | AN154: ='A20'!D153 -> 45.3 | AO154: =IF(MOD(AN154,1)=0.5,INT(AN154)+MOD(INT(AN154),2),ROUND(AN154,0)) -> 45 | AP154: =IF(AND(AO154>55.49,AO154<56.51),AO154,) -> 0 | AQ154: =IF(AND(AO154>56.5,AO154<57.5),AO154,) -> 0 | AR154: =IF(AP154>0,AP154-3,IF(AQ154>0,AQ154-4,AO154-2)) -> 43 | AS154: =10*LOG(10^(H154/10)+(10^(AI154/10))) -> 59.066832 | AT154: =IF(MOD(AS154,1)=0.5,INT(AS154)+MOD(INT(AS154),2),ROUND(AS154,0)) -> 59 | AU154: 1 | AV154: =AT154-L154 -> 3
A155: ='N207 50km'!A154 -> Z227_A | B155: ='N207 50km'!B154 -> Zuidkade 227 | C155: ='N207 50km'!C154 -> 1.5 | D155: ='N207'!D154 -> 57.3 | E155: =IF('N207 50km'!D154="--",6,'N207 50km'!D154) -> 30.2 | F155: =IF(MOD(E155,1)=0.5,INT(E155)+MOD(INT(E155),2),ROUND(E155,0)) -> 30 | G155: =F155-5 -> 25 | H155: =IF('N207 80km'!D154="--",6,'N207 80km'!D154) -> 57.3 | I155: =IF(MOD(H155,1)=0.5,INT(H155)+MOD(INT(H155),2),ROUND(H155,0)) -> 57 | J155: {=_xlfn.IFS(I155=56,53,I155=57,53,OR(I155>57,I155<56),I155-2)} -> 53 | K155: =10*LOG(10^(G155/10)+(10^(J155/10))) -> 53.006878 | L155: =IF(MOD(K155,1)=0.5,INT(K155)+MOD(INT(K155),2),ROUND(K155,0)) -> 53 | M155: =IF('Brugweg 30km'!D154="--",6,'Brugweg 30km'!D154) -> 7.7 | N155: =IF(MOD(M155,1)=0.5,INT(M155)+MOD(INT(M155),2),ROUND(M155,0)) -> 8 | O155: =N155-5 -> 3 | P155: =IF('Hefbrug (50 km uur)'!D154="--",6,'Hefbrug (50 km uur)'!D154) -> 6.9 | Q155: =IF(MOD(P155,1)=0.5,INT(P155)+MOD(INT(P155),2),ROUND(P155,0)) -> 7 | R155: =Q155-5 -> 2 | S155: ='Kerkweg oost 50 km'!D154 -> 13.1 | T155: =IF(MOD(S155,1)=0.5,INT(S155)+MOD(INT(S155),2),ROUND(S155,0)) -> 13 | U155: =T155-5 -> 8 | V155: ='N454 Kanaaldijk 50 km'!D154 -> 26.2 | W155: =IF(MOD(V155,1)=0.5,INT(V155)+MOD(INT(V155),2),ROUND(V155,0)) -> 26 | X155: =W155-5 -> 21 | Y155: ='N454 Kanaaldijk 80 km'!D154 -> 30.2 | Z155: =IF(MOD(Y155,1)=0.5,INT(Y155)+MOD(INT(Y155),2),ROUND(Y155,0)) -> 30 | AA155: =IF(AND(Z155>55.49,Z155<56.51),Z155,) -> 0 | AB155: =IF(AND(Z155>56.5,Z155<57.5),Z155,) -> 0 | AC155: =IF(AA155>0,AA155-3,IF(AB155>0,AB155-4,Z155-2)) -> 28 | AD155: ='N451 80 km'!D154 -> 35.2 | AE155: =IF(MOD(AD155,1)=0.5,INT(AD155)+MOD(INT(AD155),2),ROUND(AD155,0)) -> 35 | AF155: =IF(AND(AE155>55.49,AE155<56.51),AE155,) -> 0 | AG155: =IF(AND(AE155>56.5,AE155<57.5),AE155,) -> 0 | AH155: =IF(AF155>0,AF155-3,IF(AG155>0,AG155-4,AE155-2)) -> 33 | AI155: =IF('A12'!D154="--",6,'A12'!D154) -> 49.4 | AJ155: =IF(MOD(AI155,1)=0.5,INT(AI155)+MOD(INT(AI155),2),ROUND(AI155,0)) -> 49 | AK155: =IF(AND(AJ155>55.49,AJ155<56.51),AJ155,) -> 0 | AL155: =IF(AND(AJ155>56.5,AJ155<57.5),AJ155,) -> 0 | AM155: =IF(AK155>0,AK155-3,IF(AL155>0,AL155-4,AJ155-2)) -> 47 | AN155: ='A20'!D154 -> 44.4 | AO155: =IF(MOD(AN155,1)=0.5,INT(AN155)+MOD(INT(AN155),2),ROUND(AN155,0)) -> 44 | AP155: =IF(AND(AO155>55.49,AO155<56.51),AO155,) -> 0 | AQ155: =IF(AND(AO155>56.5,AO155<57.5),AO155,) -> 0 | AR155: =IF(AP155>0,AP155-3,IF(AQ155>0,AQ155-4,AO155-2)) -> 42
A156: ='N207 50km'!A155 -> Z224_B | B156: ='N207 50km'!B155 -> Zuidkade 224 zijgevel | C156: ='N207 50km'!C155 -> 4.5 | D156: ='N207'!D155 -> 55.1 | E156: =IF('N207 50km'!D155="--",6,'N207 50km'!D155) -> 18.5 | F156: =IF(MOD(E156,1)=0.5,INT(E156)+MOD(INT(E156),2),ROUND(E156,0)) -> 18 | G156: =F156-5 -> 13 | H156: =IF('N207 80km'!D155="--",6,'N207 80km'!D155) -> 55.1 | I156: =IF(MOD(H156,1)=0.5,INT(H156)+MOD(INT(H156),2),ROUND(H156,0)) -> 55 | J156: {=_xlfn.IFS(I156=56,53,I156=57,53,OR(I156>57,I156<56),I156-2)} -> 53 | K156: =10*LOG(10^(G156/10)+(10^(J156/10))) -> 53.000434 | L156: =IF(MOD(K156,1)=0.5,INT(K156)+MOD(INT(K156),2),ROUND(K156,0)) -> 53 | M156: =IF('Brugweg 30km'!D155="--",6,'Brugweg 30km'!D155) -> 2.7 | N156: =IF(MOD(M156,1)=0.5,INT(M156)+MOD(INT(M156),2),ROUND(M156,0)) -> 3 | O156: =N156-5 -> -2 | P156: =IF('Hefbrug (50 km uur)'!D155="--",6,'Hefbrug (50 km uur)'!D155) -> 1.2 | Q156: =IF(MOD(P156,1)=0.5,INT(P156)+MOD(INT(P156),2),ROUND(P156,0)) -> 1 | R156: =Q156-5 -> -4 | S156: ='Kerkweg oost 50 km'!D155 -> 7.7 | T156: =IF(MOD(S156,1)=0.5,INT(S156)+MOD(INT(S156),2),ROUND(S156,0)) -> 8 | U156: =T156-5 -> 3 | V156: ='N454 Kanaaldijk 50 km'!D155 -> 36.9 | W156: =IF(MOD(V156,1)=0.5,INT(V156)+MOD(INT(V156),2),ROUND(V156,0)) -> 37 | X156: =W156-5 -> 32 | Y156: ='N454 Kanaaldijk 80 km'!D155 -> 31.9 | Z156: =IF(MOD(Y156,1)=0.5,INT(Y156)+MOD(INT(Y156),2),ROUND(Y156,0)) -> 32 | AA156: =IF(AND(Z156>55.49,Z156<56.51),Z156,) -> 0 | AB156: =IF(AND(Z156>56.5,Z156<57.5),Z156,) -> 0 | AC156: =IF(AA156>0,AA156-3,IF(AB156>0,AB156-4,Z156-2)) -> 30 | AD156: ='N451 80 km'!D155 -> 35.3 | AE156: =IF(MOD(AD156,1)=0.5,INT(AD156)+MOD(INT(AD156),2),ROUND(AD156,0)) -> 35 | AF156: =IF(AND(AE156>55.49,AE156<56.51),AE156,) -> 0 | AG156: =IF(AND(AE156>56.5,AE156<57.5),AE156,) -> 0 | AH156: =IF(AF156>0,AF156-3,IF(AG156>0,AG156-4,AE156-2)) -> 33 | AI156: =IF('A12'!D155="--",6,'A12'!D155) -> 50.6 | AJ156: =IF(MOD(AI156,1)=0.5,INT(AI156)+MOD(INT(AI156),2),ROUND(AI156,0)) -> 51 | AK156: =IF(AND(AJ156>55.49,AJ156<56.51),AJ156,) -> 0 | AL156: =IF(AND(AJ156>56.5,AJ156<57.5),AJ156,) -> 0 | AM156: =IF(AK156>0,AK156-3,IF(AL156>0,AL156-4,AJ156-2)) -> 49 | AN156: ='A20'!D155 -> 45.2 | AO156: =IF(MOD(AN156,1)=0.5,INT(AN156)+MOD(INT(AN156),2),ROUND(AN156,0)) -> 45 | AP156: =IF(AND(AO156>55.49,AO156<56.51),AO156,) -> 0 | AQ156: =IF(AND(AO156>56.5,AO156<57.5),AO156,) -> 0 | AR156: =IF(AP156>0,AP156-3,IF(AQ156>0,AQ156-4,AO156-2)) -> 43 | AS156: =10*LOG(10^(H156/10)+(10^(AI156/10))) -> 56.418795 | AT156: =IF(MOD(AS156,1)=0.5,INT(AS156)+MOD(INT(AS156),2),ROUND(AS156,0)) -> 56 | AU156: 1
